BEGIN:VCALENDAR
VERSION:2.0
PRODID:-//Regensburg Digital Kalender - ECPv6.14.2//NONSGML v1.0//EN
CALSCALE:GREGORIAN
METHOD:PUBLISH
X-WR-CALNAME:Regensburg Digital Kalender
X-ORIGINAL-URL:https://kalender.regensburg-digital.de
X-WR-CALDESC:Veranstaltungen für Regensburg Digital Kalender
REFRESH-INTERVAL;VALUE=DURATION:PT1H
X-Robots-Tag:noindex
X-PUBLISHED-TTL:PT1H
BEGIN:VTIMEZONE
TZID:Europe/Berlin
BEGIN:DAYLIGHT
TZOFFSETFROM:+0100
TZOFFSETTO:+0200
TZNAME:CEST
DTSTART:20260329T010000
END:DAYLIGHT
BEGIN:STANDARD
TZOFFSETFROM:+0200
TZOFFSETTO:+0100
TZNAME:CET
DTSTART:20261025T010000
END:STANDARD
END:VTIMEZONE
BEGIN:VEVENT
DTSTART;TZID=Europe/Berlin:20260225T190000
DTEND;TZID=Europe/Berlin:20260225T220000
DTSTAMP:20260421T133132
CREATED:20260213T092207Z
LAST-MODIFIED:20260213T092255Z
UID:10074976-1772046000-1772056800@kalender.regensburg-digital.de
SUMMARY:Vortrag: Von der Straße in den Stadtrat? Rechtsextremismus & Kommunalpolitik
DESCRIPTION:Jan Nowak: Von der Straße in den Stadtrat? Rechtsextremismus & Kommunalpolitik\n\n📆 Mittwoch\, 25.02.2026\n⏰ 19:00\n🆓 Der Eintritt ist kostenlos\n🏘️ Veranstaltungszentrum Paradiesgarten im Gewerkschaftshaus Regensburg\n// Richard-Wagner-Str. 2\, 93055 Regensburg\n\nJugend- bzw. Subkultur\, Demonstrationen und Gewalt: Lange Zeit wurde das Phänomen Rechtsextremismus in weiten Teilen der Öffentlichkeit primär so oder so ähnlich wahrgenommen. Durch die Normalisierung des Rechtsextremismus in den letzten zehn Jahren haben sich die Erscheinungsformen erheblich geändert. Die maßgebliche Kraft des Rechtsextremismus gibt sich heute bieder bis rebellisch und ist um lokale Verankerung bemüht. Ihr nächstes Ziel: Die Kommunalwahlen im März.\n\nMit welchen Themen zieht die extreme Rechte in den Wahlkampf? Was für ideologische Vorstellungen stehen dahinter? Welche Strategien verfolgt sie? Woher kommt das Personal? Wie können Kommunalpolitik und Gesellschaft darauf reagieren?\n\nIm Vortrag soll diesen Fragen nachgegangen werden\, ebenso besteht die Möglichkeit zur Diskussion.\n\nReferent: Jan Nowak\, Mobile Beratung gegen Rechtsextremismus (mbr-bayern.de)\n\n// Kooperation\nDie Veranstaltung findet in Zusammenarbeit mit der DGB-Jugend Oberpfalz statt\n\n// Nach Artikel 10 Abs. 1 bayerisches Versammlungsgesetz sind Rechte\, Neonazis\, deren SympathisantInnen sowie Personen\, die in der Vergangenheit durch rassistische\, antisemitische\, sexistische\, nationalistische oder verschwörungsideologische Äußerungen aufgefallen sind\, von der Veranstaltung ausgeschlossen.\n\n 
URL:https://kalender.regensburg-digital.de/veranstaltung/vortrag-von-der-strasse-in-den-stadtrat-rechtsextremismus-kommunalpolitik/
LOCATION:Gewerkschaftshaus Regensburg\, Richard-Wagner-Straße 2\, Regensburg\, 93055
CATEGORIES:Bildung
ATTACH;FMTTYPE=image/jpeg:https://kalender.regensburg-digital.de/wp-content/uploads/2026/02/1-1.jpg
ORGANIZER;CN="AG Input":MAILTO:ag-input@riseup.net
END:VEVENT
END:VCALENDAR