BEGIN:VCALENDAR
VERSION:2.0
PRODID:-//Regensburg Digital Kalender - ECPv6.14.2//NONSGML v1.0//EN
CALSCALE:GREGORIAN
METHOD:PUBLISH
X-WR-CALNAME:Regensburg Digital Kalender
X-ORIGINAL-URL:https://kalender.regensburg-digital.de
X-WR-CALDESC:Veranstaltungen für Regensburg Digital Kalender
REFRESH-INTERVAL;VALUE=DURATION:PT1H
X-Robots-Tag:noindex
X-PUBLISHED-TTL:PT1H
BEGIN:VTIMEZONE
TZID:Europe/Berlin
BEGIN:DAYLIGHT
TZOFFSETFROM:+0100
TZOFFSETTO:+0200
TZNAME:CEST
DTSTART:20260329T010000
END:DAYLIGHT
BEGIN:STANDARD
TZOFFSETFROM:+0200
TZOFFSETTO:+0100
TZNAME:CET
DTSTART:20261025T010000
END:STANDARD
END:VTIMEZONE
BEGIN:VEVENT
DTSTART;TZID=Europe/Berlin:20260420T203000
DTEND;TZID=Europe/Berlin:20260420T203000
DTSTAMP:20260421T095005
CREATED:20260420T110015Z
LAST-MODIFIED:20260420T110015Z
UID:10090797-1776717000-1776717000@kalender.regensburg-digital.de
SUMMARY:THE HISTORY OF SOUND
DESCRIPTION:Im Jahr 1917 verschlägt es den zurückhaltenden und talentierten Musikstudenten Lionel (Paul Mescal) vom ländlichen Kentucky an die Ostküste\, wo er am Boston Conservatory seinen charmanten und selbstbewussten Kommilitonen David (Josh O’Connor) kennenlernt. Über ihre tiefe Liebe zu traditioneller Folk-Musik kommen sich die beiden näher. Ihre leidenschaftliche Liebesgeschichte und die von ihnen gesammelte und bewahrte Musik werden den Verlauf von Lionels Leben für immer prägen …FSK: ab 6Jahr: 2025Genre: Drama\, RomanzeDauer: 129Sprache: OmU\, OriginalversionLand: USSchauspieler: Paul Mescal\, Raphael Sbarge\, Leo Cocovinis\, Chris Cooper\, Josh O’Connor
URL:https://kalender.regensburg-digital.de/veranstaltung/the-history-of-sound/
LOCATION:Garbo Kino Regensburg\, Weißgerbergraben 11 a\, Regensburg\, 93047
CATEGORIES:Film
ATTACH;FMTTYPE=image/jpeg:https://kalender.regensburg-digital.de/wp-content/uploads/2026/03/3469098262.jpg
ORGANIZER;CN="Garbo Kino":MAILTO:achim-hofbauer@t-online.de
END:VEVENT
BEGIN:VEVENT
DTSTART;TZID=Europe/Berlin:20260420T183000
DTEND;TZID=Europe/Berlin:20260420T183000
DTSTAMP:20260421T095005
CREATED:20260420T110014Z
LAST-MODIFIED:20260420T110014Z
UID:10090796-1776709800-1776709800@kalender.regensburg-digital.de
SUMMARY:DER SUPER MARIO GALAXY FILM
DESCRIPTION:DER SUPER MARIO GALAXY FILM ist der neue Animationsfilm\, basierend auf der Welt von „Super Mario Bros.“ Das erste Mario-Abenteuer Der Super Mario Bros. Film startete 2023 in den Kinos\, spielte weltweit mehr als 1\,3 Milliarden Dollar ein und begeisterte in Deutschland mehr als 5 Millionen Kinozuschauer. FSK: ab 6Jahr: 2025Genre: AnimationDauer: 99Sprache: OV\, OriginalversionSchauspieler: Chris Pratt\, Anya Taylor-Joy\, Charlie Day\, Benny Safdie\, Brie LarsonRegisseur: Aaron  Horvath\, Michael Jelenic
URL:https://kalender.regensburg-digital.de/veranstaltung/der-super-mario-galaxy-film-2/
LOCATION:Garbo Kino Regensburg\, Weißgerbergraben 11 a\, Regensburg\, 93047
CATEGORIES:Film
ATTACH;FMTTYPE=image/jpeg:https://kalender.regensburg-digital.de/wp-content/uploads/2026/03/3354178682.jpg
ORGANIZER;CN="Garbo Kino":MAILTO:achim-hofbauer@t-online.de
END:VEVENT
BEGIN:VEVENT
DTSTART;TZID=Europe/Berlin:20260420T163000
DTEND;TZID=Europe/Berlin:20260420T163000
DTSTAMP:20260421T095005
CREATED:20260420T110014Z
LAST-MODIFIED:20260420T110014Z
UID:10090795-1776702600-1776702600@kalender.regensburg-digital.de
SUMMARY:EPIC: ELVIS PRESLEY IN CONCERT
DESCRIPTION:Elvis sings and tells his story like never before in a new cinematic experience from visionary\nfilmmaker Baz Luhrmann.FSK: ab 6Jahr: 2025Genre: DokumentarfilmDauer: 96Sprache: D\, DeutschLand: US\, AUSchauspieler: Elvis PresleyRegisseur: Baz Luhrmann
URL:https://kalender.regensburg-digital.de/veranstaltung/epic-elvis-presley-in-concert/
LOCATION:Garbo Kino Regensburg\, Weißgerbergraben 11 a\, Regensburg\, 93047
CATEGORIES:Film
ATTACH;FMTTYPE=image/jpeg:https://kalender.regensburg-digital.de/wp-content/uploads/2026/01/3407060425.jpg
ORGANIZER;CN="Garbo Kino":MAILTO:achim-hofbauer@t-online.de
END:VEVENT
BEGIN:VEVENT
DTSTART;TZID=Europe/Berlin:20260420T143000
DTEND;TZID=Europe/Berlin:20260420T143000
DTSTAMP:20260421T095005
CREATED:20260420T110013Z
LAST-MODIFIED:20260420T110013Z
UID:10090794-1776695400-1776695400@kalender.regensburg-digital.de
SUMMARY:DER SUPER MARIO GALAXY FILM
DESCRIPTION:DER SUPER MARIO GALAXY FILM ist der neue Animationsfilm\, basierend auf der Welt von „Super Mario Bros.“ Das erste Mario-Abenteuer Der Super Mario Bros. Film startete 2023 in den Kinos\, spielte weltweit mehr als 1\,3 Milliarden Dollar ein und begeisterte in Deutschland mehr als 5 Millionen Kinozuschauer. FSK: ab 6Jahr: 2025Genre: AnimationDauer: 99Sprache: OV\, OriginalversionSchauspieler: Chris Pratt\, Anya Taylor-Joy\, Charlie Day\, Benny Safdie\, Brie LarsonRegisseur: Aaron  Horvath\, Michael Jelenic
URL:https://kalender.regensburg-digital.de/veranstaltung/der-super-mario-galaxy-film/
LOCATION:Garbo Kino Regensburg\, Weißgerbergraben 11 a\, Regensburg\, 93047
CATEGORIES:Film
ATTACH;FMTTYPE=image/jpeg:https://kalender.regensburg-digital.de/wp-content/uploads/2026/03/3354178682.jpg
ORGANIZER;CN="Garbo Kino":MAILTO:achim-hofbauer@t-online.de
END:VEVENT
END:VCALENDAR