BEGIN:VCALENDAR
VERSION:2.0
PRODID:-//Regensburg Digital Kalender - ECPv6.14.2//NONSGML v1.0//EN
CALSCALE:GREGORIAN
METHOD:PUBLISH
X-ORIGINAL-URL:https://kalender.regensburg-digital.de
X-WR-CALDESC:Veranstaltungen für Regensburg Digital Kalender
REFRESH-INTERVAL;VALUE=DURATION:PT1H
X-Robots-Tag:noindex
X-PUBLISHED-TTL:PT1H
BEGIN:VTIMEZONE
TZID:Europe/Berlin
BEGIN:DAYLIGHT
TZOFFSETFROM:+0100
TZOFFSETTO:+0200
TZNAME:CEST
DTSTART:20270328T010000
END:DAYLIGHT
BEGIN:STANDARD
TZOFFSETFROM:+0200
TZOFFSETTO:+0100
TZNAME:CET
DTSTART:20271031T010000
END:STANDARD
BEGIN:DAYLIGHT
TZOFFSETFROM:+0100
TZOFFSETTO:+0200
TZNAME:CEST
DTSTART:20280326T010000
END:DAYLIGHT
BEGIN:STANDARD
TZOFFSETFROM:+0200
TZOFFSETTO:+0100
TZNAME:CET
DTSTART:20281029T010000
END:STANDARD
END:VTIMEZONE
BEGIN:VEVENT
DTSTART;TZID=Europe/Berlin:20271110T170000
DTEND;TZID=Europe/Berlin:20271110T183000
DTSTAMP:20260421T194515
CREATED:20230927T111207Z
LAST-MODIFIED:20230927T111207Z
UID:10011447-1825866000-1825871400@kalender.regensburg-digital.de
SUMMARY:Friedensgespräche Neupfarrplatz
DESCRIPTION:Sorry\, but you do not have permission to view this content.
URL:https://kalender.regensburg-digital.de/veranstaltung/friedensgespraeche-neupfarrplatz/2027-11-10/
LOCATION:Karavan-Denkmal\, Neupfarrplatz\, Regensburg\, 93047\, Deutschland
CATEGORIES:Diskussion
ORGANIZER;CN="Regensburger Soziale Initiativen e.V.":MAILTO:info@soziale-initiativen.de
END:VEVENT
BEGIN:VEVENT
DTSTART;TZID=Europe/Berlin:20271111T100000
DTEND;TZID=Europe/Berlin:20271111T100000
DTSTAMP:20260421T194515
CREATED:20250928T120126Z
LAST-MODIFIED:20250928T120126Z
UID:10028206-1825927200-1825927200@kalender.regensburg-digital.de
SUMMARY:Sofa-Ost Frühstückstreff im KfE*
DESCRIPTION:Sorry\, but you do not have permission to view this content.
URL:https://kalender.regensburg-digital.de/veranstaltung/sofa-ost-fruehstueckstreff-im-kfe/2027-11-11/
LOCATION:Kaufladen für Erwachsene\, Guerickestr. 71a\, Regensburg\, Bayern\, 93055\, Deutschland
CATEGORIES:Selbsthilfe
ATTACH;FMTTYPE=image/jpeg:https://kalender.regensburg-digital.de/wp-content/uploads/2025/09/547143176_122240895266219175_2656218367145284190_n-1.jpg
ORGANIZER;CN="Regensburger Soziale Initiativen e.V.":MAILTO:info@soziale-initiativen.de
END:VEVENT
BEGIN:VEVENT
DTSTART;TZID=Europe/Berlin:20271117T170000
DTEND;TZID=Europe/Berlin:20271117T183000
DTSTAMP:20260421T194515
CREATED:20230927T111207Z
LAST-MODIFIED:20230927T111207Z
UID:10011448-1826470800-1826476200@kalender.regensburg-digital.de
SUMMARY:Friedensgespräche Neupfarrplatz
DESCRIPTION:Sorry\, but you do not have permission to view this content.
URL:https://kalender.regensburg-digital.de/veranstaltung/friedensgespraeche-neupfarrplatz/2027-11-17/
LOCATION:Karavan-Denkmal\, Neupfarrplatz\, Regensburg\, 93047\, Deutschland
CATEGORIES:Diskussion
ORGANIZER;CN="Regensburger Soziale Initiativen e.V.":MAILTO:info@soziale-initiativen.de
END:VEVENT
BEGIN:VEVENT
DTSTART;TZID=Europe/Berlin:20271118T100000
DTEND;TZID=Europe/Berlin:20271118T100000
DTSTAMP:20260421T194515
CREATED:20250928T120126Z
LAST-MODIFIED:20250928T120126Z
UID:10028207-1826532000-1826532000@kalender.regensburg-digital.de
SUMMARY:Sofa-Ost Frühstückstreff im KfE*
DESCRIPTION:Sorry\, but you do not have permission to view this content.
URL:https://kalender.regensburg-digital.de/veranstaltung/sofa-ost-fruehstueckstreff-im-kfe/2027-11-18/
LOCATION:Kaufladen für Erwachsene\, Guerickestr. 71a\, Regensburg\, Bayern\, 93055\, Deutschland
CATEGORIES:Selbsthilfe
ATTACH;FMTTYPE=image/jpeg:https://kalender.regensburg-digital.de/wp-content/uploads/2025/09/547143176_122240895266219175_2656218367145284190_n-1.jpg
ORGANIZER;CN="Regensburger Soziale Initiativen e.V.":MAILTO:info@soziale-initiativen.de
END:VEVENT
BEGIN:VEVENT
DTSTART;TZID=Europe/Berlin:20271124T170000
DTEND;TZID=Europe/Berlin:20271124T183000
DTSTAMP:20260421T194515
CREATED:20230927T111207Z
LAST-MODIFIED:20230927T111207Z
UID:10011449-1827075600-1827081000@kalender.regensburg-digital.de
SUMMARY:Friedensgespräche Neupfarrplatz
DESCRIPTION:Sorry\, but you do not have permission to view this content.
URL:https://kalender.regensburg-digital.de/veranstaltung/friedensgespraeche-neupfarrplatz/2027-11-24/
LOCATION:Karavan-Denkmal\, Neupfarrplatz\, Regensburg\, 93047\, Deutschland
CATEGORIES:Diskussion
ORGANIZER;CN="Regensburger Soziale Initiativen e.V.":MAILTO:info@soziale-initiativen.de
END:VEVENT
BEGIN:VEVENT
DTSTART;TZID=Europe/Berlin:20271125T100000
DTEND;TZID=Europe/Berlin:20271125T100000
DTSTAMP:20260421T194515
CREATED:20250928T120126Z
LAST-MODIFIED:20250928T120126Z
UID:10028208-1827136800-1827136800@kalender.regensburg-digital.de
SUMMARY:Sofa-Ost Frühstückstreff im KfE*
DESCRIPTION:Sorry\, but you do not have permission to view this content.
URL:https://kalender.regensburg-digital.de/veranstaltung/sofa-ost-fruehstueckstreff-im-kfe/2027-11-25/
LOCATION:Kaufladen für Erwachsene\, Guerickestr. 71a\, Regensburg\, Bayern\, 93055\, Deutschland
CATEGORIES:Selbsthilfe
ATTACH;FMTTYPE=image/jpeg:https://kalender.regensburg-digital.de/wp-content/uploads/2025/09/547143176_122240895266219175_2656218367145284190_n-1.jpg
ORGANIZER;CN="Regensburger Soziale Initiativen e.V.":MAILTO:info@soziale-initiativen.de
END:VEVENT
BEGIN:VEVENT
DTSTART;TZID=Europe/Berlin:20271201T170000
DTEND;TZID=Europe/Berlin:20271201T183000
DTSTAMP:20260421T194515
CREATED:20230927T111207Z
LAST-MODIFIED:20230927T111207Z
UID:10011450-1827680400-1827685800@kalender.regensburg-digital.de
SUMMARY:Friedensgespräche Neupfarrplatz
DESCRIPTION:Sorry\, but you do not have permission to view this content.
URL:https://kalender.regensburg-digital.de/veranstaltung/friedensgespraeche-neupfarrplatz/2027-12-01/
LOCATION:Karavan-Denkmal\, Neupfarrplatz\, Regensburg\, 93047\, Deutschland
CATEGORIES:Diskussion
ORGANIZER;CN="Regensburger Soziale Initiativen e.V.":MAILTO:info@soziale-initiativen.de
END:VEVENT
BEGIN:VEVENT
DTSTART;TZID=Europe/Berlin:20271202T100000
DTEND;TZID=Europe/Berlin:20271202T100000
DTSTAMP:20260421T194515
CREATED:20250928T120126Z
LAST-MODIFIED:20250928T120126Z
UID:10028209-1827741600-1827741600@kalender.regensburg-digital.de
SUMMARY:Sofa-Ost Frühstückstreff im KfE*
DESCRIPTION:Sorry\, but you do not have permission to view this content.
URL:https://kalender.regensburg-digital.de/veranstaltung/sofa-ost-fruehstueckstreff-im-kfe/2027-12-02/
LOCATION:Kaufladen für Erwachsene\, Guerickestr. 71a\, Regensburg\, Bayern\, 93055\, Deutschland
CATEGORIES:Selbsthilfe
ATTACH;FMTTYPE=image/jpeg:https://kalender.regensburg-digital.de/wp-content/uploads/2025/09/547143176_122240895266219175_2656218367145284190_n-1.jpg
ORGANIZER;CN="Regensburger Soziale Initiativen e.V.":MAILTO:info@soziale-initiativen.de
END:VEVENT
BEGIN:VEVENT
DTSTART;TZID=Europe/Berlin:20271208T170000
DTEND;TZID=Europe/Berlin:20271208T183000
DTSTAMP:20260421T194515
CREATED:20230927T111207Z
LAST-MODIFIED:20230927T111207Z
UID:10011451-1828285200-1828290600@kalender.regensburg-digital.de
SUMMARY:Friedensgespräche Neupfarrplatz
DESCRIPTION:Sorry\, but you do not have permission to view this content.
URL:https://kalender.regensburg-digital.de/veranstaltung/friedensgespraeche-neupfarrplatz/2027-12-08/
LOCATION:Karavan-Denkmal\, Neupfarrplatz\, Regensburg\, 93047\, Deutschland
CATEGORIES:Diskussion
ORGANIZER;CN="Regensburger Soziale Initiativen e.V.":MAILTO:info@soziale-initiativen.de
END:VEVENT
BEGIN:VEVENT
DTSTART;TZID=Europe/Berlin:20271209T100000
DTEND;TZID=Europe/Berlin:20271209T100000
DTSTAMP:20260421T194515
CREATED:20250928T120126Z
LAST-MODIFIED:20250928T120126Z
UID:10028210-1828346400-1828346400@kalender.regensburg-digital.de
SUMMARY:Sofa-Ost Frühstückstreff im KfE*
DESCRIPTION:Sorry\, but you do not have permission to view this content.
URL:https://kalender.regensburg-digital.de/veranstaltung/sofa-ost-fruehstueckstreff-im-kfe/2027-12-09/
LOCATION:Kaufladen für Erwachsene\, Guerickestr. 71a\, Regensburg\, Bayern\, 93055\, Deutschland
CATEGORIES:Selbsthilfe
ATTACH;FMTTYPE=image/jpeg:https://kalender.regensburg-digital.de/wp-content/uploads/2025/09/547143176_122240895266219175_2656218367145284190_n-1.jpg
ORGANIZER;CN="Regensburger Soziale Initiativen e.V.":MAILTO:info@soziale-initiativen.de
END:VEVENT
BEGIN:VEVENT
DTSTART;TZID=Europe/Berlin:20271215T170000
DTEND;TZID=Europe/Berlin:20271215T183000
DTSTAMP:20260421T194515
CREATED:20230927T111207Z
LAST-MODIFIED:20230927T111207Z
UID:10011452-1828890000-1828895400@kalender.regensburg-digital.de
SUMMARY:Friedensgespräche Neupfarrplatz
DESCRIPTION:Sorry\, but you do not have permission to view this content.
URL:https://kalender.regensburg-digital.de/veranstaltung/friedensgespraeche-neupfarrplatz/2027-12-15/
LOCATION:Karavan-Denkmal\, Neupfarrplatz\, Regensburg\, 93047\, Deutschland
CATEGORIES:Diskussion
ORGANIZER;CN="Regensburger Soziale Initiativen e.V.":MAILTO:info@soziale-initiativen.de
END:VEVENT
BEGIN:VEVENT
DTSTART;TZID=Europe/Berlin:20271216T100000
DTEND;TZID=Europe/Berlin:20271216T100000
DTSTAMP:20260421T194515
CREATED:20250928T120126Z
LAST-MODIFIED:20250928T120126Z
UID:10028211-1828951200-1828951200@kalender.regensburg-digital.de
SUMMARY:Sofa-Ost Frühstückstreff im KfE*
DESCRIPTION:Sorry\, but you do not have permission to view this content.
URL:https://kalender.regensburg-digital.de/veranstaltung/sofa-ost-fruehstueckstreff-im-kfe/2027-12-16/
LOCATION:Kaufladen für Erwachsene\, Guerickestr. 71a\, Regensburg\, Bayern\, 93055\, Deutschland
CATEGORIES:Selbsthilfe
ATTACH;FMTTYPE=image/jpeg:https://kalender.regensburg-digital.de/wp-content/uploads/2025/09/547143176_122240895266219175_2656218367145284190_n-1.jpg
ORGANIZER;CN="Regensburger Soziale Initiativen e.V.":MAILTO:info@soziale-initiativen.de
END:VEVENT
BEGIN:VEVENT
DTSTART;TZID=Europe/Berlin:20271222T170000
DTEND;TZID=Europe/Berlin:20271222T183000
DTSTAMP:20260421T194515
CREATED:20230927T111207Z
LAST-MODIFIED:20230927T111207Z
UID:10011453-1829494800-1829500200@kalender.regensburg-digital.de
SUMMARY:Friedensgespräche Neupfarrplatz
DESCRIPTION:Sorry\, but you do not have permission to view this content.
URL:https://kalender.regensburg-digital.de/veranstaltung/friedensgespraeche-neupfarrplatz/2027-12-22/
LOCATION:Karavan-Denkmal\, Neupfarrplatz\, Regensburg\, 93047\, Deutschland
CATEGORIES:Diskussion
ORGANIZER;CN="Regensburger Soziale Initiativen e.V.":MAILTO:info@soziale-initiativen.de
END:VEVENT
BEGIN:VEVENT
DTSTART;TZID=Europe/Berlin:20271223T100000
DTEND;TZID=Europe/Berlin:20271223T100000
DTSTAMP:20260421T194515
CREATED:20250928T120126Z
LAST-MODIFIED:20250928T120126Z
UID:10028212-1829556000-1829556000@kalender.regensburg-digital.de
SUMMARY:Sofa-Ost Frühstückstreff im KfE*
DESCRIPTION:Sorry\, but you do not have permission to view this content.
URL:https://kalender.regensburg-digital.de/veranstaltung/sofa-ost-fruehstueckstreff-im-kfe/2027-12-23/
LOCATION:Kaufladen für Erwachsene\, Guerickestr. 71a\, Regensburg\, Bayern\, 93055\, Deutschland
CATEGORIES:Selbsthilfe
ATTACH;FMTTYPE=image/jpeg:https://kalender.regensburg-digital.de/wp-content/uploads/2025/09/547143176_122240895266219175_2656218367145284190_n-1.jpg
ORGANIZER;CN="Regensburger Soziale Initiativen e.V.":MAILTO:info@soziale-initiativen.de
END:VEVENT
BEGIN:VEVENT
DTSTART;TZID=Europe/Berlin:20271229T170000
DTEND;TZID=Europe/Berlin:20271229T183000
DTSTAMP:20260421T194515
CREATED:20230927T111207Z
LAST-MODIFIED:20230927T111207Z
UID:10011454-1830099600-1830105000@kalender.regensburg-digital.de
SUMMARY:Friedensgespräche Neupfarrplatz
DESCRIPTION:Sorry\, but you do not have permission to view this content.
URL:https://kalender.regensburg-digital.de/veranstaltung/friedensgespraeche-neupfarrplatz/2027-12-29/
LOCATION:Karavan-Denkmal\, Neupfarrplatz\, Regensburg\, 93047\, Deutschland
CATEGORIES:Diskussion
ORGANIZER;CN="Regensburger Soziale Initiativen e.V.":MAILTO:info@soziale-initiativen.de
END:VEVENT
BEGIN:VEVENT
DTSTART;TZID=Europe/Berlin:20271230T100000
DTEND;TZID=Europe/Berlin:20271230T100000
DTSTAMP:20260421T194515
CREATED:20250928T120126Z
LAST-MODIFIED:20250928T120126Z
UID:10028213-1830160800-1830160800@kalender.regensburg-digital.de
SUMMARY:Sofa-Ost Frühstückstreff im KfE*
DESCRIPTION:Sorry\, but you do not have permission to view this content.
URL:https://kalender.regensburg-digital.de/veranstaltung/sofa-ost-fruehstueckstreff-im-kfe/2027-12-30/
LOCATION:Kaufladen für Erwachsene\, Guerickestr. 71a\, Regensburg\, Bayern\, 93055\, Deutschland
CATEGORIES:Selbsthilfe
ATTACH;FMTTYPE=image/jpeg:https://kalender.regensburg-digital.de/wp-content/uploads/2025/09/547143176_122240895266219175_2656218367145284190_n-1.jpg
ORGANIZER;CN="Regensburger Soziale Initiativen e.V.":MAILTO:info@soziale-initiativen.de
END:VEVENT
BEGIN:VEVENT
DTSTART;TZID=Europe/Berlin:20280105T170000
DTEND;TZID=Europe/Berlin:20280105T183000
DTSTAMP:20260421T194515
CREATED:20230927T111207Z
LAST-MODIFIED:20230927T111207Z
UID:10011455-1830704400-1830709800@kalender.regensburg-digital.de
SUMMARY:Friedensgespräche Neupfarrplatz
DESCRIPTION:Sorry\, but you do not have permission to view this content.
URL:https://kalender.regensburg-digital.de/veranstaltung/friedensgespraeche-neupfarrplatz/2028-01-05/
LOCATION:Karavan-Denkmal\, Neupfarrplatz\, Regensburg\, 93047\, Deutschland
CATEGORIES:Diskussion
ORGANIZER;CN="Regensburger Soziale Initiativen e.V.":MAILTO:info@soziale-initiativen.de
END:VEVENT
BEGIN:VEVENT
DTSTART;TZID=Europe/Berlin:20280106T100000
DTEND;TZID=Europe/Berlin:20280106T100000
DTSTAMP:20260421T194515
CREATED:20250928T120126Z
LAST-MODIFIED:20250928T120126Z
UID:10028214-1830765600-1830765600@kalender.regensburg-digital.de
SUMMARY:Sofa-Ost Frühstückstreff im KfE*
DESCRIPTION:Sorry\, but you do not have permission to view this content.
URL:https://kalender.regensburg-digital.de/veranstaltung/sofa-ost-fruehstueckstreff-im-kfe/2028-01-06/
LOCATION:Kaufladen für Erwachsene\, Guerickestr. 71a\, Regensburg\, Bayern\, 93055\, Deutschland
CATEGORIES:Selbsthilfe
ATTACH;FMTTYPE=image/jpeg:https://kalender.regensburg-digital.de/wp-content/uploads/2025/09/547143176_122240895266219175_2656218367145284190_n-1.jpg
ORGANIZER;CN="Regensburger Soziale Initiativen e.V.":MAILTO:info@soziale-initiativen.de
END:VEVENT
BEGIN:VEVENT
DTSTART;TZID=Europe/Berlin:20280112T170000
DTEND;TZID=Europe/Berlin:20280112T183000
DTSTAMP:20260421T194515
CREATED:20230927T111207Z
LAST-MODIFIED:20230927T111207Z
UID:10011456-1831309200-1831314600@kalender.regensburg-digital.de
SUMMARY:Friedensgespräche Neupfarrplatz
DESCRIPTION:Sorry\, but you do not have permission to view this content.
URL:https://kalender.regensburg-digital.de/veranstaltung/friedensgespraeche-neupfarrplatz/2028-01-12/
LOCATION:Karavan-Denkmal\, Neupfarrplatz\, Regensburg\, 93047\, Deutschland
CATEGORIES:Diskussion
ORGANIZER;CN="Regensburger Soziale Initiativen e.V.":MAILTO:info@soziale-initiativen.de
END:VEVENT
BEGIN:VEVENT
DTSTART;TZID=Europe/Berlin:20280113T100000
DTEND;TZID=Europe/Berlin:20280113T100000
DTSTAMP:20260421T194515
CREATED:20250928T120126Z
LAST-MODIFIED:20250928T120126Z
UID:10028215-1831370400-1831370400@kalender.regensburg-digital.de
SUMMARY:Sofa-Ost Frühstückstreff im KfE*
DESCRIPTION:Sorry\, but you do not have permission to view this content.
URL:https://kalender.regensburg-digital.de/veranstaltung/sofa-ost-fruehstueckstreff-im-kfe/2028-01-13/
LOCATION:Kaufladen für Erwachsene\, Guerickestr. 71a\, Regensburg\, Bayern\, 93055\, Deutschland
CATEGORIES:Selbsthilfe
ATTACH;FMTTYPE=image/jpeg:https://kalender.regensburg-digital.de/wp-content/uploads/2025/09/547143176_122240895266219175_2656218367145284190_n-1.jpg
ORGANIZER;CN="Regensburger Soziale Initiativen e.V.":MAILTO:info@soziale-initiativen.de
END:VEVENT
BEGIN:VEVENT
DTSTART;TZID=Europe/Berlin:20280119T170000
DTEND;TZID=Europe/Berlin:20280119T183000
DTSTAMP:20260421T194515
CREATED:20230927T111207Z
LAST-MODIFIED:20230927T111207Z
UID:10011457-1831914000-1831919400@kalender.regensburg-digital.de
SUMMARY:Friedensgespräche Neupfarrplatz
DESCRIPTION:Sorry\, but you do not have permission to view this content.
URL:https://kalender.regensburg-digital.de/veranstaltung/friedensgespraeche-neupfarrplatz/2028-01-19/
LOCATION:Karavan-Denkmal\, Neupfarrplatz\, Regensburg\, 93047\, Deutschland
CATEGORIES:Diskussion
ORGANIZER;CN="Regensburger Soziale Initiativen e.V.":MAILTO:info@soziale-initiativen.de
END:VEVENT
BEGIN:VEVENT
DTSTART;TZID=Europe/Berlin:20280120T100000
DTEND;TZID=Europe/Berlin:20280120T100000
DTSTAMP:20260421T194515
CREATED:20250928T120126Z
LAST-MODIFIED:20250928T120126Z
UID:10028216-1831975200-1831975200@kalender.regensburg-digital.de
SUMMARY:Sofa-Ost Frühstückstreff im KfE*
DESCRIPTION:Sorry\, but you do not have permission to view this content.
URL:https://kalender.regensburg-digital.de/veranstaltung/sofa-ost-fruehstueckstreff-im-kfe/2028-01-20/
LOCATION:Kaufladen für Erwachsene\, Guerickestr. 71a\, Regensburg\, Bayern\, 93055\, Deutschland
CATEGORIES:Selbsthilfe
ATTACH;FMTTYPE=image/jpeg:https://kalender.regensburg-digital.de/wp-content/uploads/2025/09/547143176_122240895266219175_2656218367145284190_n-1.jpg
ORGANIZER;CN="Regensburger Soziale Initiativen e.V.":MAILTO:info@soziale-initiativen.de
END:VEVENT
BEGIN:VEVENT
DTSTART;TZID=Europe/Berlin:20280126T170000
DTEND;TZID=Europe/Berlin:20280126T183000
DTSTAMP:20260421T194515
CREATED:20230927T111207Z
LAST-MODIFIED:20230927T111207Z
UID:10011458-1832518800-1832524200@kalender.regensburg-digital.de
SUMMARY:Friedensgespräche Neupfarrplatz
DESCRIPTION:Sorry\, but you do not have permission to view this content.
URL:https://kalender.regensburg-digital.de/veranstaltung/friedensgespraeche-neupfarrplatz/2028-01-26/
LOCATION:Karavan-Denkmal\, Neupfarrplatz\, Regensburg\, 93047\, Deutschland
CATEGORIES:Diskussion
ORGANIZER;CN="Regensburger Soziale Initiativen e.V.":MAILTO:info@soziale-initiativen.de
END:VEVENT
BEGIN:VEVENT
DTSTART;TZID=Europe/Berlin:20280127T100000
DTEND;TZID=Europe/Berlin:20280127T100000
DTSTAMP:20260421T194515
CREATED:20250928T120126Z
LAST-MODIFIED:20250928T120126Z
UID:10028217-1832580000-1832580000@kalender.regensburg-digital.de
SUMMARY:Sofa-Ost Frühstückstreff im KfE*
DESCRIPTION:Sorry\, but you do not have permission to view this content.
URL:https://kalender.regensburg-digital.de/veranstaltung/sofa-ost-fruehstueckstreff-im-kfe/2028-01-27/
LOCATION:Kaufladen für Erwachsene\, Guerickestr. 71a\, Regensburg\, Bayern\, 93055\, Deutschland
CATEGORIES:Selbsthilfe
ATTACH;FMTTYPE=image/jpeg:https://kalender.regensburg-digital.de/wp-content/uploads/2025/09/547143176_122240895266219175_2656218367145284190_n-1.jpg
ORGANIZER;CN="Regensburger Soziale Initiativen e.V.":MAILTO:info@soziale-initiativen.de
END:VEVENT
BEGIN:VEVENT
DTSTART;TZID=Europe/Berlin:20280202T170000
DTEND;TZID=Europe/Berlin:20280202T183000
DTSTAMP:20260421T194515
CREATED:20230927T111207Z
LAST-MODIFIED:20230927T111207Z
UID:10011459-1833123600-1833129000@kalender.regensburg-digital.de
SUMMARY:Friedensgespräche Neupfarrplatz
DESCRIPTION:Sorry\, but you do not have permission to view this content.
URL:https://kalender.regensburg-digital.de/veranstaltung/friedensgespraeche-neupfarrplatz/2028-02-02/
LOCATION:Karavan-Denkmal\, Neupfarrplatz\, Regensburg\, 93047\, Deutschland
CATEGORIES:Diskussion
ORGANIZER;CN="Regensburger Soziale Initiativen e.V.":MAILTO:info@soziale-initiativen.de
END:VEVENT
BEGIN:VEVENT
DTSTART;TZID=Europe/Berlin:20280203T100000
DTEND;TZID=Europe/Berlin:20280203T100000
DTSTAMP:20260421T194515
CREATED:20250928T120126Z
LAST-MODIFIED:20250928T120126Z
UID:10028218-1833184800-1833184800@kalender.regensburg-digital.de
SUMMARY:Sofa-Ost Frühstückstreff im KfE*
DESCRIPTION:Sorry\, but you do not have permission to view this content.
URL:https://kalender.regensburg-digital.de/veranstaltung/sofa-ost-fruehstueckstreff-im-kfe/2028-02-03/
LOCATION:Kaufladen für Erwachsene\, Guerickestr. 71a\, Regensburg\, Bayern\, 93055\, Deutschland
CATEGORIES:Selbsthilfe
ATTACH;FMTTYPE=image/jpeg:https://kalender.regensburg-digital.de/wp-content/uploads/2025/09/547143176_122240895266219175_2656218367145284190_n-1.jpg
ORGANIZER;CN="Regensburger Soziale Initiativen e.V.":MAILTO:info@soziale-initiativen.de
END:VEVENT
BEGIN:VEVENT
DTSTART;TZID=Europe/Berlin:20280209T170000
DTEND;TZID=Europe/Berlin:20280209T183000
DTSTAMP:20260421T194515
CREATED:20230927T111207Z
LAST-MODIFIED:20230927T111207Z
UID:10011460-1833728400-1833733800@kalender.regensburg-digital.de
SUMMARY:Friedensgespräche Neupfarrplatz
DESCRIPTION:Sorry\, but you do not have permission to view this content.
URL:https://kalender.regensburg-digital.de/veranstaltung/friedensgespraeche-neupfarrplatz/2028-02-09/
LOCATION:Karavan-Denkmal\, Neupfarrplatz\, Regensburg\, 93047\, Deutschland
CATEGORIES:Diskussion
ORGANIZER;CN="Regensburger Soziale Initiativen e.V.":MAILTO:info@soziale-initiativen.de
END:VEVENT
BEGIN:VEVENT
DTSTART;TZID=Europe/Berlin:20280210T100000
DTEND;TZID=Europe/Berlin:20280210T100000
DTSTAMP:20260421T194515
CREATED:20250928T120126Z
LAST-MODIFIED:20250928T120126Z
UID:10028219-1833789600-1833789600@kalender.regensburg-digital.de
SUMMARY:Sofa-Ost Frühstückstreff im KfE*
DESCRIPTION:Sorry\, but you do not have permission to view this content.
URL:https://kalender.regensburg-digital.de/veranstaltung/sofa-ost-fruehstueckstreff-im-kfe/2028-02-10/
LOCATION:Kaufladen für Erwachsene\, Guerickestr. 71a\, Regensburg\, Bayern\, 93055\, Deutschland
CATEGORIES:Selbsthilfe
ATTACH;FMTTYPE=image/jpeg:https://kalender.regensburg-digital.de/wp-content/uploads/2025/09/547143176_122240895266219175_2656218367145284190_n-1.jpg
ORGANIZER;CN="Regensburger Soziale Initiativen e.V.":MAILTO:info@soziale-initiativen.de
END:VEVENT
BEGIN:VEVENT
DTSTART;TZID=Europe/Berlin:20280216T170000
DTEND;TZID=Europe/Berlin:20280216T183000
DTSTAMP:20260421T194515
CREATED:20230927T111207Z
LAST-MODIFIED:20230927T111207Z
UID:10011461-1834333200-1834338600@kalender.regensburg-digital.de
SUMMARY:Friedensgespräche Neupfarrplatz
DESCRIPTION:Sorry\, but you do not have permission to view this content.
URL:https://kalender.regensburg-digital.de/veranstaltung/friedensgespraeche-neupfarrplatz/2028-02-16/
LOCATION:Karavan-Denkmal\, Neupfarrplatz\, Regensburg\, 93047\, Deutschland
CATEGORIES:Diskussion
ORGANIZER;CN="Regensburger Soziale Initiativen e.V.":MAILTO:info@soziale-initiativen.de
END:VEVENT
BEGIN:VEVENT
DTSTART;TZID=Europe/Berlin:20280217T100000
DTEND;TZID=Europe/Berlin:20280217T100000
DTSTAMP:20260421T194515
CREATED:20250928T120126Z
LAST-MODIFIED:20250928T120126Z
UID:10028220-1834394400-1834394400@kalender.regensburg-digital.de
SUMMARY:Sofa-Ost Frühstückstreff im KfE*
DESCRIPTION:Sorry\, but you do not have permission to view this content.
URL:https://kalender.regensburg-digital.de/veranstaltung/sofa-ost-fruehstueckstreff-im-kfe/2028-02-17/
LOCATION:Kaufladen für Erwachsene\, Guerickestr. 71a\, Regensburg\, Bayern\, 93055\, Deutschland
CATEGORIES:Selbsthilfe
ATTACH;FMTTYPE=image/jpeg:https://kalender.regensburg-digital.de/wp-content/uploads/2025/09/547143176_122240895266219175_2656218367145284190_n-1.jpg
ORGANIZER;CN="Regensburger Soziale Initiativen e.V.":MAILTO:info@soziale-initiativen.de
END:VEVENT
END:VCALENDAR