BEGIN:VCALENDAR
VERSION:2.0
PRODID:-//Regensburg Digital Kalender - ECPv6.14.2//NONSGML v1.0//EN
CALSCALE:GREGORIAN
METHOD:PUBLISH
X-ORIGINAL-URL:https://kalender.regensburg-digital.de
X-WR-CALDESC:Veranstaltungen für Regensburg Digital Kalender
REFRESH-INTERVAL;VALUE=DURATION:PT1H
X-Robots-Tag:noindex
X-PUBLISHED-TTL:PT1H
BEGIN:VTIMEZONE
TZID:Europe/Berlin
BEGIN:DAYLIGHT
TZOFFSETFROM:+0100
TZOFFSETTO:+0200
TZNAME:CEST
DTSTART:20300331T010000
END:DAYLIGHT
BEGIN:STANDARD
TZOFFSETFROM:+0200
TZOFFSETTO:+0100
TZNAME:CET
DTSTART:20301027T010000
END:STANDARD
END:VTIMEZONE
BEGIN:VEVENT
DTSTART;TZID=Europe/Berlin:20300410T170000
DTEND;TZID=Europe/Berlin:20300410T183000
DTSTAMP:20260422T171023
CREATED:20230927T111207Z
LAST-MODIFIED:20230927T111207Z
UID:10011573-1902070800-1902076200@kalender.regensburg-digital.de
SUMMARY:Friedensgespräche Neupfarrplatz
DESCRIPTION:Sorry\, but you do not have permission to view this content.
URL:https://kalender.regensburg-digital.de/veranstaltung/friedensgespraeche-neupfarrplatz/2030-04-10/
LOCATION:Karavan-Denkmal\, Neupfarrplatz\, Regensburg\, 93047\, Deutschland
CATEGORIES:Diskussion
ORGANIZER;CN="Regensburger Soziale Initiativen e.V.":MAILTO:info@soziale-initiativen.de
END:VEVENT
BEGIN:VEVENT
DTSTART;TZID=Europe/Berlin:20300411T100000
DTEND;TZID=Europe/Berlin:20300411T100000
DTSTAMP:20260422T171023
CREATED:20250928T120126Z
LAST-MODIFIED:20250928T120126Z
UID:10028332-1902132000-1902132000@kalender.regensburg-digital.de
SUMMARY:Sofa-Ost Frühstückstreff im KfE*
DESCRIPTION:Sorry\, but you do not have permission to view this content.
URL:https://kalender.regensburg-digital.de/veranstaltung/sofa-ost-fruehstueckstreff-im-kfe/2030-04-11/
LOCATION:Kaufladen für Erwachsene\, Guerickestr. 71a\, Regensburg\, Bayern\, 93055\, Deutschland
CATEGORIES:Selbsthilfe
ATTACH;FMTTYPE=image/jpeg:https://kalender.regensburg-digital.de/wp-content/uploads/2025/09/547143176_122240895266219175_2656218367145284190_n-1.jpg
ORGANIZER;CN="Regensburger Soziale Initiativen e.V.":MAILTO:info@soziale-initiativen.de
END:VEVENT
BEGIN:VEVENT
DTSTART;TZID=Europe/Berlin:20300417T170000
DTEND;TZID=Europe/Berlin:20300417T183000
DTSTAMP:20260422T171023
CREATED:20230927T111207Z
LAST-MODIFIED:20230927T111207Z
UID:10011574-1902675600-1902681000@kalender.regensburg-digital.de
SUMMARY:Friedensgespräche Neupfarrplatz
DESCRIPTION:Sorry\, but you do not have permission to view this content.
URL:https://kalender.regensburg-digital.de/veranstaltung/friedensgespraeche-neupfarrplatz/2030-04-17/
LOCATION:Karavan-Denkmal\, Neupfarrplatz\, Regensburg\, 93047\, Deutschland
CATEGORIES:Diskussion
ORGANIZER;CN="Regensburger Soziale Initiativen e.V.":MAILTO:info@soziale-initiativen.de
END:VEVENT
BEGIN:VEVENT
DTSTART;TZID=Europe/Berlin:20300418T100000
DTEND;TZID=Europe/Berlin:20300418T100000
DTSTAMP:20260422T171023
CREATED:20250928T120126Z
LAST-MODIFIED:20250928T120126Z
UID:10028333-1902736800-1902736800@kalender.regensburg-digital.de
SUMMARY:Sofa-Ost Frühstückstreff im KfE*
DESCRIPTION:Sorry\, but you do not have permission to view this content.
URL:https://kalender.regensburg-digital.de/veranstaltung/sofa-ost-fruehstueckstreff-im-kfe/2030-04-18/
LOCATION:Kaufladen für Erwachsene\, Guerickestr. 71a\, Regensburg\, Bayern\, 93055\, Deutschland
CATEGORIES:Selbsthilfe
ATTACH;FMTTYPE=image/jpeg:https://kalender.regensburg-digital.de/wp-content/uploads/2025/09/547143176_122240895266219175_2656218367145284190_n-1.jpg
ORGANIZER;CN="Regensburger Soziale Initiativen e.V.":MAILTO:info@soziale-initiativen.de
END:VEVENT
BEGIN:VEVENT
DTSTART;TZID=Europe/Berlin:20300424T170000
DTEND;TZID=Europe/Berlin:20300424T183000
DTSTAMP:20260422T171023
CREATED:20230927T111207Z
LAST-MODIFIED:20230927T111207Z
UID:10011575-1903280400-1903285800@kalender.regensburg-digital.de
SUMMARY:Friedensgespräche Neupfarrplatz
DESCRIPTION:Sorry\, but you do not have permission to view this content.
URL:https://kalender.regensburg-digital.de/veranstaltung/friedensgespraeche-neupfarrplatz/2030-04-24/
LOCATION:Karavan-Denkmal\, Neupfarrplatz\, Regensburg\, 93047\, Deutschland
CATEGORIES:Diskussion
ORGANIZER;CN="Regensburger Soziale Initiativen e.V.":MAILTO:info@soziale-initiativen.de
END:VEVENT
BEGIN:VEVENT
DTSTART;TZID=Europe/Berlin:20300425T100000
DTEND;TZID=Europe/Berlin:20300425T100000
DTSTAMP:20260422T171023
CREATED:20250928T120126Z
LAST-MODIFIED:20250928T120126Z
UID:10028334-1903341600-1903341600@kalender.regensburg-digital.de
SUMMARY:Sofa-Ost Frühstückstreff im KfE*
DESCRIPTION:Sorry\, but you do not have permission to view this content.
URL:https://kalender.regensburg-digital.de/veranstaltung/sofa-ost-fruehstueckstreff-im-kfe/2030-04-25/
LOCATION:Kaufladen für Erwachsene\, Guerickestr. 71a\, Regensburg\, Bayern\, 93055\, Deutschland
CATEGORIES:Selbsthilfe
ATTACH;FMTTYPE=image/jpeg:https://kalender.regensburg-digital.de/wp-content/uploads/2025/09/547143176_122240895266219175_2656218367145284190_n-1.jpg
ORGANIZER;CN="Regensburger Soziale Initiativen e.V.":MAILTO:info@soziale-initiativen.de
END:VEVENT
BEGIN:VEVENT
DTSTART;TZID=Europe/Berlin:20300501T170000
DTEND;TZID=Europe/Berlin:20300501T183000
DTSTAMP:20260422T171023
CREATED:20230927T111207Z
LAST-MODIFIED:20230927T111207Z
UID:10011576-1903885200-1903890600@kalender.regensburg-digital.de
SUMMARY:Friedensgespräche Neupfarrplatz
DESCRIPTION:Sorry\, but you do not have permission to view this content.
URL:https://kalender.regensburg-digital.de/veranstaltung/friedensgespraeche-neupfarrplatz/2030-05-01/
LOCATION:Karavan-Denkmal\, Neupfarrplatz\, Regensburg\, 93047\, Deutschland
CATEGORIES:Diskussion
ORGANIZER;CN="Regensburger Soziale Initiativen e.V.":MAILTO:info@soziale-initiativen.de
END:VEVENT
BEGIN:VEVENT
DTSTART;TZID=Europe/Berlin:20300502T100000
DTEND;TZID=Europe/Berlin:20300502T100000
DTSTAMP:20260422T171023
CREATED:20250928T120126Z
LAST-MODIFIED:20250928T120126Z
UID:10028335-1903946400-1903946400@kalender.regensburg-digital.de
SUMMARY:Sofa-Ost Frühstückstreff im KfE*
DESCRIPTION:Sorry\, but you do not have permission to view this content.
URL:https://kalender.regensburg-digital.de/veranstaltung/sofa-ost-fruehstueckstreff-im-kfe/2030-05-02/
LOCATION:Kaufladen für Erwachsene\, Guerickestr. 71a\, Regensburg\, Bayern\, 93055\, Deutschland
CATEGORIES:Selbsthilfe
ATTACH;FMTTYPE=image/jpeg:https://kalender.regensburg-digital.de/wp-content/uploads/2025/09/547143176_122240895266219175_2656218367145284190_n-1.jpg
ORGANIZER;CN="Regensburger Soziale Initiativen e.V.":MAILTO:info@soziale-initiativen.de
END:VEVENT
BEGIN:VEVENT
DTSTART;TZID=Europe/Berlin:20300508T170000
DTEND;TZID=Europe/Berlin:20300508T183000
DTSTAMP:20260422T171023
CREATED:20230927T111207Z
LAST-MODIFIED:20230927T111207Z
UID:10011577-1904490000-1904495400@kalender.regensburg-digital.de
SUMMARY:Friedensgespräche Neupfarrplatz
DESCRIPTION:Sorry\, but you do not have permission to view this content.
URL:https://kalender.regensburg-digital.de/veranstaltung/friedensgespraeche-neupfarrplatz/2030-05-08/
LOCATION:Karavan-Denkmal\, Neupfarrplatz\, Regensburg\, 93047\, Deutschland
CATEGORIES:Diskussion
ORGANIZER;CN="Regensburger Soziale Initiativen e.V.":MAILTO:info@soziale-initiativen.de
END:VEVENT
BEGIN:VEVENT
DTSTART;TZID=Europe/Berlin:20300509T100000
DTEND;TZID=Europe/Berlin:20300509T100000
DTSTAMP:20260422T171023
CREATED:20250928T120126Z
LAST-MODIFIED:20250928T120126Z
UID:10028336-1904551200-1904551200@kalender.regensburg-digital.de
SUMMARY:Sofa-Ost Frühstückstreff im KfE*
DESCRIPTION:Sorry\, but you do not have permission to view this content.
URL:https://kalender.regensburg-digital.de/veranstaltung/sofa-ost-fruehstueckstreff-im-kfe/2030-05-09/
LOCATION:Kaufladen für Erwachsene\, Guerickestr. 71a\, Regensburg\, Bayern\, 93055\, Deutschland
CATEGORIES:Selbsthilfe
ATTACH;FMTTYPE=image/jpeg:https://kalender.regensburg-digital.de/wp-content/uploads/2025/09/547143176_122240895266219175_2656218367145284190_n-1.jpg
ORGANIZER;CN="Regensburger Soziale Initiativen e.V.":MAILTO:info@soziale-initiativen.de
END:VEVENT
BEGIN:VEVENT
DTSTART;TZID=Europe/Berlin:20300515T170000
DTEND;TZID=Europe/Berlin:20300515T183000
DTSTAMP:20260422T171023
CREATED:20230927T111207Z
LAST-MODIFIED:20230927T111207Z
UID:10011578-1905094800-1905100200@kalender.regensburg-digital.de
SUMMARY:Friedensgespräche Neupfarrplatz
DESCRIPTION:Sorry\, but you do not have permission to view this content.
URL:https://kalender.regensburg-digital.de/veranstaltung/friedensgespraeche-neupfarrplatz/2030-05-15/
LOCATION:Karavan-Denkmal\, Neupfarrplatz\, Regensburg\, 93047\, Deutschland
CATEGORIES:Diskussion
ORGANIZER;CN="Regensburger Soziale Initiativen e.V.":MAILTO:info@soziale-initiativen.de
END:VEVENT
BEGIN:VEVENT
DTSTART;TZID=Europe/Berlin:20300516T100000
DTEND;TZID=Europe/Berlin:20300516T100000
DTSTAMP:20260422T171023
CREATED:20250928T120126Z
LAST-MODIFIED:20250928T120126Z
UID:10028337-1905156000-1905156000@kalender.regensburg-digital.de
SUMMARY:Sofa-Ost Frühstückstreff im KfE*
DESCRIPTION:Sorry\, but you do not have permission to view this content.
URL:https://kalender.regensburg-digital.de/veranstaltung/sofa-ost-fruehstueckstreff-im-kfe/2030-05-16/
LOCATION:Kaufladen für Erwachsene\, Guerickestr. 71a\, Regensburg\, Bayern\, 93055\, Deutschland
CATEGORIES:Selbsthilfe
ATTACH;FMTTYPE=image/jpeg:https://kalender.regensburg-digital.de/wp-content/uploads/2025/09/547143176_122240895266219175_2656218367145284190_n-1.jpg
ORGANIZER;CN="Regensburger Soziale Initiativen e.V.":MAILTO:info@soziale-initiativen.de
END:VEVENT
BEGIN:VEVENT
DTSTART;TZID=Europe/Berlin:20300522T170000
DTEND;TZID=Europe/Berlin:20300522T183000
DTSTAMP:20260422T171023
CREATED:20230927T111207Z
LAST-MODIFIED:20230927T111207Z
UID:10011579-1905699600-1905705000@kalender.regensburg-digital.de
SUMMARY:Friedensgespräche Neupfarrplatz
DESCRIPTION:Sorry\, but you do not have permission to view this content.
URL:https://kalender.regensburg-digital.de/veranstaltung/friedensgespraeche-neupfarrplatz/2030-05-22/
LOCATION:Karavan-Denkmal\, Neupfarrplatz\, Regensburg\, 93047\, Deutschland
CATEGORIES:Diskussion
ORGANIZER;CN="Regensburger Soziale Initiativen e.V.":MAILTO:info@soziale-initiativen.de
END:VEVENT
BEGIN:VEVENT
DTSTART;TZID=Europe/Berlin:20300523T100000
DTEND;TZID=Europe/Berlin:20300523T100000
DTSTAMP:20260422T171023
CREATED:20250928T120126Z
LAST-MODIFIED:20250928T120126Z
UID:10028338-1905760800-1905760800@kalender.regensburg-digital.de
SUMMARY:Sofa-Ost Frühstückstreff im KfE*
DESCRIPTION:Sorry\, but you do not have permission to view this content.
URL:https://kalender.regensburg-digital.de/veranstaltung/sofa-ost-fruehstueckstreff-im-kfe/2030-05-23/
LOCATION:Kaufladen für Erwachsene\, Guerickestr. 71a\, Regensburg\, Bayern\, 93055\, Deutschland
CATEGORIES:Selbsthilfe
ATTACH;FMTTYPE=image/jpeg:https://kalender.regensburg-digital.de/wp-content/uploads/2025/09/547143176_122240895266219175_2656218367145284190_n-1.jpg
ORGANIZER;CN="Regensburger Soziale Initiativen e.V.":MAILTO:info@soziale-initiativen.de
END:VEVENT
BEGIN:VEVENT
DTSTART;TZID=Europe/Berlin:20300529T170000
DTEND;TZID=Europe/Berlin:20300529T183000
DTSTAMP:20260422T171023
CREATED:20230927T111207Z
LAST-MODIFIED:20230927T111207Z
UID:10011580-1906304400-1906309800@kalender.regensburg-digital.de
SUMMARY:Friedensgespräche Neupfarrplatz
DESCRIPTION:Sorry\, but you do not have permission to view this content.
URL:https://kalender.regensburg-digital.de/veranstaltung/friedensgespraeche-neupfarrplatz/2030-05-29/
LOCATION:Karavan-Denkmal\, Neupfarrplatz\, Regensburg\, 93047\, Deutschland
CATEGORIES:Diskussion
ORGANIZER;CN="Regensburger Soziale Initiativen e.V.":MAILTO:info@soziale-initiativen.de
END:VEVENT
BEGIN:VEVENT
DTSTART;TZID=Europe/Berlin:20300530T100000
DTEND;TZID=Europe/Berlin:20300530T100000
DTSTAMP:20260422T171023
CREATED:20250928T120126Z
LAST-MODIFIED:20250928T120126Z
UID:10028339-1906365600-1906365600@kalender.regensburg-digital.de
SUMMARY:Sofa-Ost Frühstückstreff im KfE*
DESCRIPTION:Sorry\, but you do not have permission to view this content.
URL:https://kalender.regensburg-digital.de/veranstaltung/sofa-ost-fruehstueckstreff-im-kfe/2030-05-30/
LOCATION:Kaufladen für Erwachsene\, Guerickestr. 71a\, Regensburg\, Bayern\, 93055\, Deutschland
CATEGORIES:Selbsthilfe
ATTACH;FMTTYPE=image/jpeg:https://kalender.regensburg-digital.de/wp-content/uploads/2025/09/547143176_122240895266219175_2656218367145284190_n-1.jpg
ORGANIZER;CN="Regensburger Soziale Initiativen e.V.":MAILTO:info@soziale-initiativen.de
END:VEVENT
BEGIN:VEVENT
DTSTART;TZID=Europe/Berlin:20300605T170000
DTEND;TZID=Europe/Berlin:20300605T183000
DTSTAMP:20260422T171023
CREATED:20230927T111207Z
LAST-MODIFIED:20230927T111207Z
UID:10011581-1906909200-1906914600@kalender.regensburg-digital.de
SUMMARY:Friedensgespräche Neupfarrplatz
DESCRIPTION:Sorry\, but you do not have permission to view this content.
URL:https://kalender.regensburg-digital.de/veranstaltung/friedensgespraeche-neupfarrplatz/2030-06-05/
LOCATION:Karavan-Denkmal\, Neupfarrplatz\, Regensburg\, 93047\, Deutschland
CATEGORIES:Diskussion
ORGANIZER;CN="Regensburger Soziale Initiativen e.V.":MAILTO:info@soziale-initiativen.de
END:VEVENT
BEGIN:VEVENT
DTSTART;TZID=Europe/Berlin:20300606T100000
DTEND;TZID=Europe/Berlin:20300606T100000
DTSTAMP:20260422T171023
CREATED:20250928T120126Z
LAST-MODIFIED:20250928T120126Z
UID:10028340-1906970400-1906970400@kalender.regensburg-digital.de
SUMMARY:Sofa-Ost Frühstückstreff im KfE*
DESCRIPTION:Sorry\, but you do not have permission to view this content.
URL:https://kalender.regensburg-digital.de/veranstaltung/sofa-ost-fruehstueckstreff-im-kfe/2030-06-06/
LOCATION:Kaufladen für Erwachsene\, Guerickestr. 71a\, Regensburg\, Bayern\, 93055\, Deutschland
CATEGORIES:Selbsthilfe
ATTACH;FMTTYPE=image/jpeg:https://kalender.regensburg-digital.de/wp-content/uploads/2025/09/547143176_122240895266219175_2656218367145284190_n-1.jpg
ORGANIZER;CN="Regensburger Soziale Initiativen e.V.":MAILTO:info@soziale-initiativen.de
END:VEVENT
BEGIN:VEVENT
DTSTART;TZID=Europe/Berlin:20300612T170000
DTEND;TZID=Europe/Berlin:20300612T183000
DTSTAMP:20260422T171023
CREATED:20230927T111207Z
LAST-MODIFIED:20230927T111207Z
UID:10011582-1907514000-1907519400@kalender.regensburg-digital.de
SUMMARY:Friedensgespräche Neupfarrplatz
DESCRIPTION:Sorry\, but you do not have permission to view this content.
URL:https://kalender.regensburg-digital.de/veranstaltung/friedensgespraeche-neupfarrplatz/2030-06-12/
LOCATION:Karavan-Denkmal\, Neupfarrplatz\, Regensburg\, 93047\, Deutschland
CATEGORIES:Diskussion
ORGANIZER;CN="Regensburger Soziale Initiativen e.V.":MAILTO:info@soziale-initiativen.de
END:VEVENT
BEGIN:VEVENT
DTSTART;TZID=Europe/Berlin:20300613T100000
DTEND;TZID=Europe/Berlin:20300613T100000
DTSTAMP:20260422T171023
CREATED:20250928T120126Z
LAST-MODIFIED:20250928T120126Z
UID:10028341-1907575200-1907575200@kalender.regensburg-digital.de
SUMMARY:Sofa-Ost Frühstückstreff im KfE*
DESCRIPTION:Sorry\, but you do not have permission to view this content.
URL:https://kalender.regensburg-digital.de/veranstaltung/sofa-ost-fruehstueckstreff-im-kfe/2030-06-13/
LOCATION:Kaufladen für Erwachsene\, Guerickestr. 71a\, Regensburg\, Bayern\, 93055\, Deutschland
CATEGORIES:Selbsthilfe
ATTACH;FMTTYPE=image/jpeg:https://kalender.regensburg-digital.de/wp-content/uploads/2025/09/547143176_122240895266219175_2656218367145284190_n-1.jpg
ORGANIZER;CN="Regensburger Soziale Initiativen e.V.":MAILTO:info@soziale-initiativen.de
END:VEVENT
BEGIN:VEVENT
DTSTART;TZID=Europe/Berlin:20300619T170000
DTEND;TZID=Europe/Berlin:20300619T183000
DTSTAMP:20260422T171023
CREATED:20230927T111207Z
LAST-MODIFIED:20230927T111207Z
UID:10011583-1908118800-1908124200@kalender.regensburg-digital.de
SUMMARY:Friedensgespräche Neupfarrplatz
DESCRIPTION:Sorry\, but you do not have permission to view this content.
URL:https://kalender.regensburg-digital.de/veranstaltung/friedensgespraeche-neupfarrplatz/2030-06-19/
LOCATION:Karavan-Denkmal\, Neupfarrplatz\, Regensburg\, 93047\, Deutschland
CATEGORIES:Diskussion
ORGANIZER;CN="Regensburger Soziale Initiativen e.V.":MAILTO:info@soziale-initiativen.de
END:VEVENT
BEGIN:VEVENT
DTSTART;TZID=Europe/Berlin:20300620T100000
DTEND;TZID=Europe/Berlin:20300620T100000
DTSTAMP:20260422T171023
CREATED:20250928T120126Z
LAST-MODIFIED:20250928T120126Z
UID:10028342-1908180000-1908180000@kalender.regensburg-digital.de
SUMMARY:Sofa-Ost Frühstückstreff im KfE*
DESCRIPTION:Sorry\, but you do not have permission to view this content.
URL:https://kalender.regensburg-digital.de/veranstaltung/sofa-ost-fruehstueckstreff-im-kfe/2030-06-20/
LOCATION:Kaufladen für Erwachsene\, Guerickestr. 71a\, Regensburg\, Bayern\, 93055\, Deutschland
CATEGORIES:Selbsthilfe
ATTACH;FMTTYPE=image/jpeg:https://kalender.regensburg-digital.de/wp-content/uploads/2025/09/547143176_122240895266219175_2656218367145284190_n-1.jpg
ORGANIZER;CN="Regensburger Soziale Initiativen e.V.":MAILTO:info@soziale-initiativen.de
END:VEVENT
BEGIN:VEVENT
DTSTART;TZID=Europe/Berlin:20300626T170000
DTEND;TZID=Europe/Berlin:20300626T183000
DTSTAMP:20260422T171023
CREATED:20230927T111207Z
LAST-MODIFIED:20230927T111207Z
UID:10011584-1908723600-1908729000@kalender.regensburg-digital.de
SUMMARY:Friedensgespräche Neupfarrplatz
DESCRIPTION:Sorry\, but you do not have permission to view this content.
URL:https://kalender.regensburg-digital.de/veranstaltung/friedensgespraeche-neupfarrplatz/2030-06-26/
LOCATION:Karavan-Denkmal\, Neupfarrplatz\, Regensburg\, 93047\, Deutschland
CATEGORIES:Diskussion
ORGANIZER;CN="Regensburger Soziale Initiativen e.V.":MAILTO:info@soziale-initiativen.de
END:VEVENT
BEGIN:VEVENT
DTSTART;TZID=Europe/Berlin:20300627T100000
DTEND;TZID=Europe/Berlin:20300627T100000
DTSTAMP:20260422T171023
CREATED:20250928T120126Z
LAST-MODIFIED:20250928T120126Z
UID:10028343-1908784800-1908784800@kalender.regensburg-digital.de
SUMMARY:Sofa-Ost Frühstückstreff im KfE*
DESCRIPTION:Sorry\, but you do not have permission to view this content.
URL:https://kalender.regensburg-digital.de/veranstaltung/sofa-ost-fruehstueckstreff-im-kfe/2030-06-27/
LOCATION:Kaufladen für Erwachsene\, Guerickestr. 71a\, Regensburg\, Bayern\, 93055\, Deutschland
CATEGORIES:Selbsthilfe
ATTACH;FMTTYPE=image/jpeg:https://kalender.regensburg-digital.de/wp-content/uploads/2025/09/547143176_122240895266219175_2656218367145284190_n-1.jpg
ORGANIZER;CN="Regensburger Soziale Initiativen e.V.":MAILTO:info@soziale-initiativen.de
END:VEVENT
BEGIN:VEVENT
DTSTART;TZID=Europe/Berlin:20300703T170000
DTEND;TZID=Europe/Berlin:20300703T183000
DTSTAMP:20260422T171023
CREATED:20230927T111207Z
LAST-MODIFIED:20230927T111207Z
UID:10011585-1909328400-1909333800@kalender.regensburg-digital.de
SUMMARY:Friedensgespräche Neupfarrplatz
DESCRIPTION:Sorry\, but you do not have permission to view this content.
URL:https://kalender.regensburg-digital.de/veranstaltung/friedensgespraeche-neupfarrplatz/2030-07-03/
LOCATION:Karavan-Denkmal\, Neupfarrplatz\, Regensburg\, 93047\, Deutschland
CATEGORIES:Diskussion
ORGANIZER;CN="Regensburger Soziale Initiativen e.V.":MAILTO:info@soziale-initiativen.de
END:VEVENT
BEGIN:VEVENT
DTSTART;TZID=Europe/Berlin:20300704T100000
DTEND;TZID=Europe/Berlin:20300704T100000
DTSTAMP:20260422T171023
CREATED:20250928T120126Z
LAST-MODIFIED:20250928T120126Z
UID:10028344-1909389600-1909389600@kalender.regensburg-digital.de
SUMMARY:Sofa-Ost Frühstückstreff im KfE*
DESCRIPTION:Sorry\, but you do not have permission to view this content.
URL:https://kalender.regensburg-digital.de/veranstaltung/sofa-ost-fruehstueckstreff-im-kfe/2030-07-04/
LOCATION:Kaufladen für Erwachsene\, Guerickestr. 71a\, Regensburg\, Bayern\, 93055\, Deutschland
CATEGORIES:Selbsthilfe
ATTACH;FMTTYPE=image/jpeg:https://kalender.regensburg-digital.de/wp-content/uploads/2025/09/547143176_122240895266219175_2656218367145284190_n-1.jpg
ORGANIZER;CN="Regensburger Soziale Initiativen e.V.":MAILTO:info@soziale-initiativen.de
END:VEVENT
BEGIN:VEVENT
DTSTART;TZID=Europe/Berlin:20300710T170000
DTEND;TZID=Europe/Berlin:20300710T183000
DTSTAMP:20260422T171023
CREATED:20230927T111207Z
LAST-MODIFIED:20230927T111207Z
UID:10011586-1909933200-1909938600@kalender.regensburg-digital.de
SUMMARY:Friedensgespräche Neupfarrplatz
DESCRIPTION:Sorry\, but you do not have permission to view this content.
URL:https://kalender.regensburg-digital.de/veranstaltung/friedensgespraeche-neupfarrplatz/2030-07-10/
LOCATION:Karavan-Denkmal\, Neupfarrplatz\, Regensburg\, 93047\, Deutschland
CATEGORIES:Diskussion
ORGANIZER;CN="Regensburger Soziale Initiativen e.V.":MAILTO:info@soziale-initiativen.de
END:VEVENT
BEGIN:VEVENT
DTSTART;TZID=Europe/Berlin:20300711T100000
DTEND;TZID=Europe/Berlin:20300711T100000
DTSTAMP:20260422T171023
CREATED:20250928T120126Z
LAST-MODIFIED:20250928T120126Z
UID:10028345-1909994400-1909994400@kalender.regensburg-digital.de
SUMMARY:Sofa-Ost Frühstückstreff im KfE*
DESCRIPTION:Sorry\, but you do not have permission to view this content.
URL:https://kalender.regensburg-digital.de/veranstaltung/sofa-ost-fruehstueckstreff-im-kfe/2030-07-11/
LOCATION:Kaufladen für Erwachsene\, Guerickestr. 71a\, Regensburg\, Bayern\, 93055\, Deutschland
CATEGORIES:Selbsthilfe
ATTACH;FMTTYPE=image/jpeg:https://kalender.regensburg-digital.de/wp-content/uploads/2025/09/547143176_122240895266219175_2656218367145284190_n-1.jpg
ORGANIZER;CN="Regensburger Soziale Initiativen e.V.":MAILTO:info@soziale-initiativen.de
END:VEVENT
BEGIN:VEVENT
DTSTART;TZID=Europe/Berlin:20300717T170000
DTEND;TZID=Europe/Berlin:20300717T183000
DTSTAMP:20260422T171023
CREATED:20230927T111207Z
LAST-MODIFIED:20230927T111207Z
UID:10011587-1910538000-1910543400@kalender.regensburg-digital.de
SUMMARY:Friedensgespräche Neupfarrplatz
DESCRIPTION:Sorry\, but you do not have permission to view this content.
URL:https://kalender.regensburg-digital.de/veranstaltung/friedensgespraeche-neupfarrplatz/2030-07-17/
LOCATION:Karavan-Denkmal\, Neupfarrplatz\, Regensburg\, 93047\, Deutschland
CATEGORIES:Diskussion
ORGANIZER;CN="Regensburger Soziale Initiativen e.V.":MAILTO:info@soziale-initiativen.de
END:VEVENT
BEGIN:VEVENT
DTSTART;TZID=Europe/Berlin:20300718T100000
DTEND;TZID=Europe/Berlin:20300718T100000
DTSTAMP:20260422T171023
CREATED:20250928T120126Z
LAST-MODIFIED:20250928T120126Z
UID:10028346-1910599200-1910599200@kalender.regensburg-digital.de
SUMMARY:Sofa-Ost Frühstückstreff im KfE*
DESCRIPTION:Sorry\, but you do not have permission to view this content.
URL:https://kalender.regensburg-digital.de/veranstaltung/sofa-ost-fruehstueckstreff-im-kfe/2030-07-18/
LOCATION:Kaufladen für Erwachsene\, Guerickestr. 71a\, Regensburg\, Bayern\, 93055\, Deutschland
CATEGORIES:Selbsthilfe
ATTACH;FMTTYPE=image/jpeg:https://kalender.regensburg-digital.de/wp-content/uploads/2025/09/547143176_122240895266219175_2656218367145284190_n-1.jpg
ORGANIZER;CN="Regensburger Soziale Initiativen e.V.":MAILTO:info@soziale-initiativen.de
END:VEVENT
END:VCALENDAR