BEGIN:VCALENDAR
VERSION:2.0
PRODID:-//Regensburg Digital Kalender - ECPv6.14.2//NONSGML v1.0//EN
CALSCALE:GREGORIAN
METHOD:PUBLISH
X-ORIGINAL-URL:https://kalender.regensburg-digital.de
X-WR-CALDESC:Veranstaltungen für Regensburg Digital Kalender
REFRESH-INTERVAL;VALUE=DURATION:PT1H
X-Robots-Tag:noindex
X-PUBLISHED-TTL:PT1H
BEGIN:VTIMEZONE
TZID:Europe/Berlin
BEGIN:DAYLIGHT
TZOFFSETFROM:+0100
TZOFFSETTO:+0200
TZNAME:CEST
DTSTART:20260329T010000
END:DAYLIGHT
BEGIN:STANDARD
TZOFFSETFROM:+0200
TZOFFSETTO:+0100
TZNAME:CET
DTSTART:20261025T010000
END:STANDARD
BEGIN:DAYLIGHT
TZOFFSETFROM:+0100
TZOFFSETTO:+0200
TZNAME:CEST
DTSTART:20270328T010000
END:DAYLIGHT
BEGIN:STANDARD
TZOFFSETFROM:+0200
TZOFFSETTO:+0100
TZNAME:CET
DTSTART:20271031T010000
END:STANDARD
END:VTIMEZONE
BEGIN:VEVENT
DTSTART;TZID=Europe/Berlin:20261028T170000
DTEND;TZID=Europe/Berlin:20261028T183000
DTSTAMP:20260421T105324
CREATED:20230927T111207Z
LAST-MODIFIED:20230927T111207Z
UID:10011393-1793206800-1793212200@kalender.regensburg-digital.de
SUMMARY:Friedensgespräche Neupfarrplatz
DESCRIPTION:Sorry\, but you do not have permission to view this content.
URL:https://kalender.regensburg-digital.de/veranstaltung/friedensgespraeche-neupfarrplatz/2026-10-28/
LOCATION:Karavan-Denkmal\, Neupfarrplatz\, Regensburg\, 93047\, Deutschland
CATEGORIES:Diskussion
ORGANIZER;CN="Regensburger Soziale Initiativen e.V.":MAILTO:info@soziale-initiativen.de
END:VEVENT
BEGIN:VEVENT
DTSTART;TZID=Europe/Berlin:20261029T100000
DTEND;TZID=Europe/Berlin:20261029T100000
DTSTAMP:20260421T105324
CREATED:20250928T120126Z
LAST-MODIFIED:20250928T120126Z
UID:10028152-1793268000-1793268000@kalender.regensburg-digital.de
SUMMARY:Sofa-Ost Frühstückstreff im KfE*
DESCRIPTION:Sorry\, but you do not have permission to view this content.
URL:https://kalender.regensburg-digital.de/veranstaltung/sofa-ost-fruehstueckstreff-im-kfe/2026-10-29/
LOCATION:Kaufladen für Erwachsene\, Guerickestr. 71a\, Regensburg\, Bayern\, 93055\, Deutschland
CATEGORIES:Selbsthilfe
ATTACH;FMTTYPE=image/jpeg:https://kalender.regensburg-digital.de/wp-content/uploads/2025/09/547143176_122240895266219175_2656218367145284190_n-1.jpg
ORGANIZER;CN="Regensburger Soziale Initiativen e.V.":MAILTO:info@soziale-initiativen.de
END:VEVENT
BEGIN:VEVENT
DTSTART;TZID=Europe/Berlin:20261104T170000
DTEND;TZID=Europe/Berlin:20261104T183000
DTSTAMP:20260421T105324
CREATED:20230927T111207Z
LAST-MODIFIED:20230927T111207Z
UID:10011394-1793811600-1793817000@kalender.regensburg-digital.de
SUMMARY:Friedensgespräche Neupfarrplatz
DESCRIPTION:Sorry\, but you do not have permission to view this content.
URL:https://kalender.regensburg-digital.de/veranstaltung/friedensgespraeche-neupfarrplatz/2026-11-04/
LOCATION:Karavan-Denkmal\, Neupfarrplatz\, Regensburg\, 93047\, Deutschland
CATEGORIES:Diskussion
ORGANIZER;CN="Regensburger Soziale Initiativen e.V.":MAILTO:info@soziale-initiativen.de
END:VEVENT
BEGIN:VEVENT
DTSTART;TZID=Europe/Berlin:20261105T100000
DTEND;TZID=Europe/Berlin:20261105T100000
DTSTAMP:20260421T105324
CREATED:20250928T120126Z
LAST-MODIFIED:20250928T120126Z
UID:10028153-1793872800-1793872800@kalender.regensburg-digital.de
SUMMARY:Sofa-Ost Frühstückstreff im KfE*
DESCRIPTION:Sorry\, but you do not have permission to view this content.
URL:https://kalender.regensburg-digital.de/veranstaltung/sofa-ost-fruehstueckstreff-im-kfe/2026-11-05/
LOCATION:Kaufladen für Erwachsene\, Guerickestr. 71a\, Regensburg\, Bayern\, 93055\, Deutschland
CATEGORIES:Selbsthilfe
ATTACH;FMTTYPE=image/jpeg:https://kalender.regensburg-digital.de/wp-content/uploads/2025/09/547143176_122240895266219175_2656218367145284190_n-1.jpg
ORGANIZER;CN="Regensburger Soziale Initiativen e.V.":MAILTO:info@soziale-initiativen.de
END:VEVENT
BEGIN:VEVENT
DTSTART;TZID=Europe/Berlin:20261111T170000
DTEND;TZID=Europe/Berlin:20261111T183000
DTSTAMP:20260421T105324
CREATED:20230927T111207Z
LAST-MODIFIED:20230927T111207Z
UID:10011395-1794416400-1794421800@kalender.regensburg-digital.de
SUMMARY:Friedensgespräche Neupfarrplatz
DESCRIPTION:Sorry\, but you do not have permission to view this content.
URL:https://kalender.regensburg-digital.de/veranstaltung/friedensgespraeche-neupfarrplatz/2026-11-11/
LOCATION:Karavan-Denkmal\, Neupfarrplatz\, Regensburg\, 93047\, Deutschland
CATEGORIES:Diskussion
ORGANIZER;CN="Regensburger Soziale Initiativen e.V.":MAILTO:info@soziale-initiativen.de
END:VEVENT
BEGIN:VEVENT
DTSTART;TZID=Europe/Berlin:20261112T100000
DTEND;TZID=Europe/Berlin:20261112T100000
DTSTAMP:20260421T105324
CREATED:20250928T120126Z
LAST-MODIFIED:20250928T120126Z
UID:10028154-1794477600-1794477600@kalender.regensburg-digital.de
SUMMARY:Sofa-Ost Frühstückstreff im KfE*
DESCRIPTION:Sorry\, but you do not have permission to view this content.
URL:https://kalender.regensburg-digital.de/veranstaltung/sofa-ost-fruehstueckstreff-im-kfe/2026-11-12/
LOCATION:Kaufladen für Erwachsene\, Guerickestr. 71a\, Regensburg\, Bayern\, 93055\, Deutschland
CATEGORIES:Selbsthilfe
ATTACH;FMTTYPE=image/jpeg:https://kalender.regensburg-digital.de/wp-content/uploads/2025/09/547143176_122240895266219175_2656218367145284190_n-1.jpg
ORGANIZER;CN="Regensburger Soziale Initiativen e.V.":MAILTO:info@soziale-initiativen.de
END:VEVENT
BEGIN:VEVENT
DTSTART;TZID=Europe/Berlin:20261118T170000
DTEND;TZID=Europe/Berlin:20261118T183000
DTSTAMP:20260421T105324
CREATED:20230927T111207Z
LAST-MODIFIED:20230927T111207Z
UID:10011396-1795021200-1795026600@kalender.regensburg-digital.de
SUMMARY:Friedensgespräche Neupfarrplatz
DESCRIPTION:Sorry\, but you do not have permission to view this content.
URL:https://kalender.regensburg-digital.de/veranstaltung/friedensgespraeche-neupfarrplatz/2026-11-18/
LOCATION:Karavan-Denkmal\, Neupfarrplatz\, Regensburg\, 93047\, Deutschland
CATEGORIES:Diskussion
ORGANIZER;CN="Regensburger Soziale Initiativen e.V.":MAILTO:info@soziale-initiativen.de
END:VEVENT
BEGIN:VEVENT
DTSTART;TZID=Europe/Berlin:20261119T100000
DTEND;TZID=Europe/Berlin:20261119T100000
DTSTAMP:20260421T105324
CREATED:20250928T120126Z
LAST-MODIFIED:20250928T120126Z
UID:10028155-1795082400-1795082400@kalender.regensburg-digital.de
SUMMARY:Sofa-Ost Frühstückstreff im KfE*
DESCRIPTION:Sorry\, but you do not have permission to view this content.
URL:https://kalender.regensburg-digital.de/veranstaltung/sofa-ost-fruehstueckstreff-im-kfe/2026-11-19/
LOCATION:Kaufladen für Erwachsene\, Guerickestr. 71a\, Regensburg\, Bayern\, 93055\, Deutschland
CATEGORIES:Selbsthilfe
ATTACH;FMTTYPE=image/jpeg:https://kalender.regensburg-digital.de/wp-content/uploads/2025/09/547143176_122240895266219175_2656218367145284190_n-1.jpg
ORGANIZER;CN="Regensburger Soziale Initiativen e.V.":MAILTO:info@soziale-initiativen.de
END:VEVENT
BEGIN:VEVENT
DTSTART;TZID=Europe/Berlin:20261125T170000
DTEND;TZID=Europe/Berlin:20261125T183000
DTSTAMP:20260421T105324
CREATED:20230927T111207Z
LAST-MODIFIED:20230927T111207Z
UID:10011397-1795626000-1795631400@kalender.regensburg-digital.de
SUMMARY:Friedensgespräche Neupfarrplatz
DESCRIPTION:Sorry\, but you do not have permission to view this content.
URL:https://kalender.regensburg-digital.de/veranstaltung/friedensgespraeche-neupfarrplatz/2026-11-25/
LOCATION:Karavan-Denkmal\, Neupfarrplatz\, Regensburg\, 93047\, Deutschland
CATEGORIES:Diskussion
ORGANIZER;CN="Regensburger Soziale Initiativen e.V.":MAILTO:info@soziale-initiativen.de
END:VEVENT
BEGIN:VEVENT
DTSTART;TZID=Europe/Berlin:20261126T100000
DTEND;TZID=Europe/Berlin:20261126T100000
DTSTAMP:20260421T105324
CREATED:20250928T120126Z
LAST-MODIFIED:20250928T120126Z
UID:10028156-1795687200-1795687200@kalender.regensburg-digital.de
SUMMARY:Sofa-Ost Frühstückstreff im KfE*
DESCRIPTION:Sorry\, but you do not have permission to view this content.
URL:https://kalender.regensburg-digital.de/veranstaltung/sofa-ost-fruehstueckstreff-im-kfe/2026-11-26/
LOCATION:Kaufladen für Erwachsene\, Guerickestr. 71a\, Regensburg\, Bayern\, 93055\, Deutschland
CATEGORIES:Selbsthilfe
ATTACH;FMTTYPE=image/jpeg:https://kalender.regensburg-digital.de/wp-content/uploads/2025/09/547143176_122240895266219175_2656218367145284190_n-1.jpg
ORGANIZER;CN="Regensburger Soziale Initiativen e.V.":MAILTO:info@soziale-initiativen.de
END:VEVENT
BEGIN:VEVENT
DTSTART;TZID=Europe/Berlin:20261202T170000
DTEND;TZID=Europe/Berlin:20261202T183000
DTSTAMP:20260421T105324
CREATED:20230927T111207Z
LAST-MODIFIED:20230927T111207Z
UID:10011398-1796230800-1796236200@kalender.regensburg-digital.de
SUMMARY:Friedensgespräche Neupfarrplatz
DESCRIPTION:Sorry\, but you do not have permission to view this content.
URL:https://kalender.regensburg-digital.de/veranstaltung/friedensgespraeche-neupfarrplatz/2026-12-02/
LOCATION:Karavan-Denkmal\, Neupfarrplatz\, Regensburg\, 93047\, Deutschland
CATEGORIES:Diskussion
ORGANIZER;CN="Regensburger Soziale Initiativen e.V.":MAILTO:info@soziale-initiativen.de
END:VEVENT
BEGIN:VEVENT
DTSTART;TZID=Europe/Berlin:20261203T100000
DTEND;TZID=Europe/Berlin:20261203T100000
DTSTAMP:20260421T105324
CREATED:20250928T120126Z
LAST-MODIFIED:20250928T120126Z
UID:10028157-1796292000-1796292000@kalender.regensburg-digital.de
SUMMARY:Sofa-Ost Frühstückstreff im KfE*
DESCRIPTION:Sorry\, but you do not have permission to view this content.
URL:https://kalender.regensburg-digital.de/veranstaltung/sofa-ost-fruehstueckstreff-im-kfe/2026-12-03/
LOCATION:Kaufladen für Erwachsene\, Guerickestr. 71a\, Regensburg\, Bayern\, 93055\, Deutschland
CATEGORIES:Selbsthilfe
ATTACH;FMTTYPE=image/jpeg:https://kalender.regensburg-digital.de/wp-content/uploads/2025/09/547143176_122240895266219175_2656218367145284190_n-1.jpg
ORGANIZER;CN="Regensburger Soziale Initiativen e.V.":MAILTO:info@soziale-initiativen.de
END:VEVENT
BEGIN:VEVENT
DTSTART;TZID=Europe/Berlin:20261209T170000
DTEND;TZID=Europe/Berlin:20261209T183000
DTSTAMP:20260421T105324
CREATED:20230927T111207Z
LAST-MODIFIED:20230927T111207Z
UID:10011399-1796835600-1796841000@kalender.regensburg-digital.de
SUMMARY:Friedensgespräche Neupfarrplatz
DESCRIPTION:Sorry\, but you do not have permission to view this content.
URL:https://kalender.regensburg-digital.de/veranstaltung/friedensgespraeche-neupfarrplatz/2026-12-09/
LOCATION:Karavan-Denkmal\, Neupfarrplatz\, Regensburg\, 93047\, Deutschland
CATEGORIES:Diskussion
ORGANIZER;CN="Regensburger Soziale Initiativen e.V.":MAILTO:info@soziale-initiativen.de
END:VEVENT
BEGIN:VEVENT
DTSTART;TZID=Europe/Berlin:20261210T100000
DTEND;TZID=Europe/Berlin:20261210T100000
DTSTAMP:20260421T105324
CREATED:20250928T120126Z
LAST-MODIFIED:20250928T120126Z
UID:10028158-1796896800-1796896800@kalender.regensburg-digital.de
SUMMARY:Sofa-Ost Frühstückstreff im KfE*
DESCRIPTION:Sorry\, but you do not have permission to view this content.
URL:https://kalender.regensburg-digital.de/veranstaltung/sofa-ost-fruehstueckstreff-im-kfe/2026-12-10/
LOCATION:Kaufladen für Erwachsene\, Guerickestr. 71a\, Regensburg\, Bayern\, 93055\, Deutschland
CATEGORIES:Selbsthilfe
ATTACH;FMTTYPE=image/jpeg:https://kalender.regensburg-digital.de/wp-content/uploads/2025/09/547143176_122240895266219175_2656218367145284190_n-1.jpg
ORGANIZER;CN="Regensburger Soziale Initiativen e.V.":MAILTO:info@soziale-initiativen.de
END:VEVENT
BEGIN:VEVENT
DTSTART;TZID=Europe/Berlin:20261216T170000
DTEND;TZID=Europe/Berlin:20261216T183000
DTSTAMP:20260421T105324
CREATED:20230927T111207Z
LAST-MODIFIED:20230927T111207Z
UID:10011400-1797440400-1797445800@kalender.regensburg-digital.de
SUMMARY:Friedensgespräche Neupfarrplatz
DESCRIPTION:Sorry\, but you do not have permission to view this content.
URL:https://kalender.regensburg-digital.de/veranstaltung/friedensgespraeche-neupfarrplatz/2026-12-16/
LOCATION:Karavan-Denkmal\, Neupfarrplatz\, Regensburg\, 93047\, Deutschland
CATEGORIES:Diskussion
ORGANIZER;CN="Regensburger Soziale Initiativen e.V.":MAILTO:info@soziale-initiativen.de
END:VEVENT
BEGIN:VEVENT
DTSTART;TZID=Europe/Berlin:20261217T100000
DTEND;TZID=Europe/Berlin:20261217T100000
DTSTAMP:20260421T105324
CREATED:20250928T120126Z
LAST-MODIFIED:20250928T120126Z
UID:10028159-1797501600-1797501600@kalender.regensburg-digital.de
SUMMARY:Sofa-Ost Frühstückstreff im KfE*
DESCRIPTION:Sorry\, but you do not have permission to view this content.
URL:https://kalender.regensburg-digital.de/veranstaltung/sofa-ost-fruehstueckstreff-im-kfe/2026-12-17/
LOCATION:Kaufladen für Erwachsene\, Guerickestr. 71a\, Regensburg\, Bayern\, 93055\, Deutschland
CATEGORIES:Selbsthilfe
ATTACH;FMTTYPE=image/jpeg:https://kalender.regensburg-digital.de/wp-content/uploads/2025/09/547143176_122240895266219175_2656218367145284190_n-1.jpg
ORGANIZER;CN="Regensburger Soziale Initiativen e.V.":MAILTO:info@soziale-initiativen.de
END:VEVENT
BEGIN:VEVENT
DTSTART;TZID=Europe/Berlin:20261223T170000
DTEND;TZID=Europe/Berlin:20261223T183000
DTSTAMP:20260421T105324
CREATED:20230927T111207Z
LAST-MODIFIED:20230927T111207Z
UID:10011401-1798045200-1798050600@kalender.regensburg-digital.de
SUMMARY:Friedensgespräche Neupfarrplatz
DESCRIPTION:Sorry\, but you do not have permission to view this content.
URL:https://kalender.regensburg-digital.de/veranstaltung/friedensgespraeche-neupfarrplatz/2026-12-23/
LOCATION:Karavan-Denkmal\, Neupfarrplatz\, Regensburg\, 93047\, Deutschland
CATEGORIES:Diskussion
ORGANIZER;CN="Regensburger Soziale Initiativen e.V.":MAILTO:info@soziale-initiativen.de
END:VEVENT
BEGIN:VEVENT
DTSTART;TZID=Europe/Berlin:20261224T100000
DTEND;TZID=Europe/Berlin:20261224T100000
DTSTAMP:20260421T105324
CREATED:20250928T120126Z
LAST-MODIFIED:20250928T120126Z
UID:10028160-1798106400-1798106400@kalender.regensburg-digital.de
SUMMARY:Sofa-Ost Frühstückstreff im KfE*
DESCRIPTION:Sorry\, but you do not have permission to view this content.
URL:https://kalender.regensburg-digital.de/veranstaltung/sofa-ost-fruehstueckstreff-im-kfe/2026-12-24/
LOCATION:Kaufladen für Erwachsene\, Guerickestr. 71a\, Regensburg\, Bayern\, 93055\, Deutschland
CATEGORIES:Selbsthilfe
ATTACH;FMTTYPE=image/jpeg:https://kalender.regensburg-digital.de/wp-content/uploads/2025/09/547143176_122240895266219175_2656218367145284190_n-1.jpg
ORGANIZER;CN="Regensburger Soziale Initiativen e.V.":MAILTO:info@soziale-initiativen.de
END:VEVENT
BEGIN:VEVENT
DTSTART;TZID=Europe/Berlin:20261230T170000
DTEND;TZID=Europe/Berlin:20261230T183000
DTSTAMP:20260421T105324
CREATED:20230927T111207Z
LAST-MODIFIED:20230927T111207Z
UID:10011402-1798650000-1798655400@kalender.regensburg-digital.de
SUMMARY:Friedensgespräche Neupfarrplatz
DESCRIPTION:Sorry\, but you do not have permission to view this content.
URL:https://kalender.regensburg-digital.de/veranstaltung/friedensgespraeche-neupfarrplatz/2026-12-30/
LOCATION:Karavan-Denkmal\, Neupfarrplatz\, Regensburg\, 93047\, Deutschland
CATEGORIES:Diskussion
ORGANIZER;CN="Regensburger Soziale Initiativen e.V.":MAILTO:info@soziale-initiativen.de
END:VEVENT
BEGIN:VEVENT
DTSTART;TZID=Europe/Berlin:20261231T100000
DTEND;TZID=Europe/Berlin:20261231T100000
DTSTAMP:20260421T105324
CREATED:20250928T120126Z
LAST-MODIFIED:20250928T120126Z
UID:10028161-1798711200-1798711200@kalender.regensburg-digital.de
SUMMARY:Sofa-Ost Frühstückstreff im KfE*
DESCRIPTION:Sorry\, but you do not have permission to view this content.
URL:https://kalender.regensburg-digital.de/veranstaltung/sofa-ost-fruehstueckstreff-im-kfe/2026-12-31/
LOCATION:Kaufladen für Erwachsene\, Guerickestr. 71a\, Regensburg\, Bayern\, 93055\, Deutschland
CATEGORIES:Selbsthilfe
ATTACH;FMTTYPE=image/jpeg:https://kalender.regensburg-digital.de/wp-content/uploads/2025/09/547143176_122240895266219175_2656218367145284190_n-1.jpg
ORGANIZER;CN="Regensburger Soziale Initiativen e.V.":MAILTO:info@soziale-initiativen.de
END:VEVENT
BEGIN:VEVENT
DTSTART;TZID=Europe/Berlin:20270106T170000
DTEND;TZID=Europe/Berlin:20270106T183000
DTSTAMP:20260421T105324
CREATED:20230927T111207Z
LAST-MODIFIED:20230927T111207Z
UID:10011403-1799254800-1799260200@kalender.regensburg-digital.de
SUMMARY:Friedensgespräche Neupfarrplatz
DESCRIPTION:Sorry\, but you do not have permission to view this content.
URL:https://kalender.regensburg-digital.de/veranstaltung/friedensgespraeche-neupfarrplatz/2027-01-06/
LOCATION:Karavan-Denkmal\, Neupfarrplatz\, Regensburg\, 93047\, Deutschland
CATEGORIES:Diskussion
ORGANIZER;CN="Regensburger Soziale Initiativen e.V.":MAILTO:info@soziale-initiativen.de
END:VEVENT
BEGIN:VEVENT
DTSTART;TZID=Europe/Berlin:20270107T100000
DTEND;TZID=Europe/Berlin:20270107T100000
DTSTAMP:20260421T105324
CREATED:20250928T120126Z
LAST-MODIFIED:20250928T120126Z
UID:10028162-1799316000-1799316000@kalender.regensburg-digital.de
SUMMARY:Sofa-Ost Frühstückstreff im KfE*
DESCRIPTION:Sorry\, but you do not have permission to view this content.
URL:https://kalender.regensburg-digital.de/veranstaltung/sofa-ost-fruehstueckstreff-im-kfe/2027-01-07/
LOCATION:Kaufladen für Erwachsene\, Guerickestr. 71a\, Regensburg\, Bayern\, 93055\, Deutschland
CATEGORIES:Selbsthilfe
ATTACH;FMTTYPE=image/jpeg:https://kalender.regensburg-digital.de/wp-content/uploads/2025/09/547143176_122240895266219175_2656218367145284190_n-1.jpg
ORGANIZER;CN="Regensburger Soziale Initiativen e.V.":MAILTO:info@soziale-initiativen.de
END:VEVENT
BEGIN:VEVENT
DTSTART;TZID=Europe/Berlin:20270113T170000
DTEND;TZID=Europe/Berlin:20270113T183000
DTSTAMP:20260421T105324
CREATED:20230927T111207Z
LAST-MODIFIED:20230927T111207Z
UID:10011404-1799859600-1799865000@kalender.regensburg-digital.de
SUMMARY:Friedensgespräche Neupfarrplatz
DESCRIPTION:Sorry\, but you do not have permission to view this content.
URL:https://kalender.regensburg-digital.de/veranstaltung/friedensgespraeche-neupfarrplatz/2027-01-13/
LOCATION:Karavan-Denkmal\, Neupfarrplatz\, Regensburg\, 93047\, Deutschland
CATEGORIES:Diskussion
ORGANIZER;CN="Regensburger Soziale Initiativen e.V.":MAILTO:info@soziale-initiativen.de
END:VEVENT
BEGIN:VEVENT
DTSTART;TZID=Europe/Berlin:20270114T100000
DTEND;TZID=Europe/Berlin:20270114T100000
DTSTAMP:20260421T105324
CREATED:20250928T120126Z
LAST-MODIFIED:20250928T120126Z
UID:10028163-1799920800-1799920800@kalender.regensburg-digital.de
SUMMARY:Sofa-Ost Frühstückstreff im KfE*
DESCRIPTION:Sorry\, but you do not have permission to view this content.
URL:https://kalender.regensburg-digital.de/veranstaltung/sofa-ost-fruehstueckstreff-im-kfe/2027-01-14/
LOCATION:Kaufladen für Erwachsene\, Guerickestr. 71a\, Regensburg\, Bayern\, 93055\, Deutschland
CATEGORIES:Selbsthilfe
ATTACH;FMTTYPE=image/jpeg:https://kalender.regensburg-digital.de/wp-content/uploads/2025/09/547143176_122240895266219175_2656218367145284190_n-1.jpg
ORGANIZER;CN="Regensburger Soziale Initiativen e.V.":MAILTO:info@soziale-initiativen.de
END:VEVENT
BEGIN:VEVENT
DTSTART;TZID=Europe/Berlin:20270120T170000
DTEND;TZID=Europe/Berlin:20270120T183000
DTSTAMP:20260421T105324
CREATED:20230927T111207Z
LAST-MODIFIED:20230927T111207Z
UID:10011405-1800464400-1800469800@kalender.regensburg-digital.de
SUMMARY:Friedensgespräche Neupfarrplatz
DESCRIPTION:Sorry\, but you do not have permission to view this content.
URL:https://kalender.regensburg-digital.de/veranstaltung/friedensgespraeche-neupfarrplatz/2027-01-20/
LOCATION:Karavan-Denkmal\, Neupfarrplatz\, Regensburg\, 93047\, Deutschland
CATEGORIES:Diskussion
ORGANIZER;CN="Regensburger Soziale Initiativen e.V.":MAILTO:info@soziale-initiativen.de
END:VEVENT
BEGIN:VEVENT
DTSTART;TZID=Europe/Berlin:20270121T100000
DTEND;TZID=Europe/Berlin:20270121T100000
DTSTAMP:20260421T105324
CREATED:20250928T120126Z
LAST-MODIFIED:20250928T120126Z
UID:10028164-1800525600-1800525600@kalender.regensburg-digital.de
SUMMARY:Sofa-Ost Frühstückstreff im KfE*
DESCRIPTION:Sorry\, but you do not have permission to view this content.
URL:https://kalender.regensburg-digital.de/veranstaltung/sofa-ost-fruehstueckstreff-im-kfe/2027-01-21/
LOCATION:Kaufladen für Erwachsene\, Guerickestr. 71a\, Regensburg\, Bayern\, 93055\, Deutschland
CATEGORIES:Selbsthilfe
ATTACH;FMTTYPE=image/jpeg:https://kalender.regensburg-digital.de/wp-content/uploads/2025/09/547143176_122240895266219175_2656218367145284190_n-1.jpg
ORGANIZER;CN="Regensburger Soziale Initiativen e.V.":MAILTO:info@soziale-initiativen.de
END:VEVENT
BEGIN:VEVENT
DTSTART;TZID=Europe/Berlin:20270127T170000
DTEND;TZID=Europe/Berlin:20270127T183000
DTSTAMP:20260421T105324
CREATED:20230927T111207Z
LAST-MODIFIED:20230927T111207Z
UID:10011406-1801069200-1801074600@kalender.regensburg-digital.de
SUMMARY:Friedensgespräche Neupfarrplatz
DESCRIPTION:Sorry\, but you do not have permission to view this content.
URL:https://kalender.regensburg-digital.de/veranstaltung/friedensgespraeche-neupfarrplatz/2027-01-27/
LOCATION:Karavan-Denkmal\, Neupfarrplatz\, Regensburg\, 93047\, Deutschland
CATEGORIES:Diskussion
ORGANIZER;CN="Regensburger Soziale Initiativen e.V.":MAILTO:info@soziale-initiativen.de
END:VEVENT
BEGIN:VEVENT
DTSTART;TZID=Europe/Berlin:20270128T100000
DTEND;TZID=Europe/Berlin:20270128T100000
DTSTAMP:20260421T105324
CREATED:20250928T120126Z
LAST-MODIFIED:20250928T120126Z
UID:10028165-1801130400-1801130400@kalender.regensburg-digital.de
SUMMARY:Sofa-Ost Frühstückstreff im KfE*
DESCRIPTION:Sorry\, but you do not have permission to view this content.
URL:https://kalender.regensburg-digital.de/veranstaltung/sofa-ost-fruehstueckstreff-im-kfe/2027-01-28/
LOCATION:Kaufladen für Erwachsene\, Guerickestr. 71a\, Regensburg\, Bayern\, 93055\, Deutschland
CATEGORIES:Selbsthilfe
ATTACH;FMTTYPE=image/jpeg:https://kalender.regensburg-digital.de/wp-content/uploads/2025/09/547143176_122240895266219175_2656218367145284190_n-1.jpg
ORGANIZER;CN="Regensburger Soziale Initiativen e.V.":MAILTO:info@soziale-initiativen.de
END:VEVENT
BEGIN:VEVENT
DTSTART;TZID=Europe/Berlin:20270203T170000
DTEND;TZID=Europe/Berlin:20270203T183000
DTSTAMP:20260421T105324
CREATED:20230927T111207Z
LAST-MODIFIED:20230927T111207Z
UID:10011407-1801674000-1801679400@kalender.regensburg-digital.de
SUMMARY:Friedensgespräche Neupfarrplatz
DESCRIPTION:Sorry\, but you do not have permission to view this content.
URL:https://kalender.regensburg-digital.de/veranstaltung/friedensgespraeche-neupfarrplatz/2027-02-03/
LOCATION:Karavan-Denkmal\, Neupfarrplatz\, Regensburg\, 93047\, Deutschland
CATEGORIES:Diskussion
ORGANIZER;CN="Regensburger Soziale Initiativen e.V.":MAILTO:info@soziale-initiativen.de
END:VEVENT
BEGIN:VEVENT
DTSTART;TZID=Europe/Berlin:20270204T100000
DTEND;TZID=Europe/Berlin:20270204T100000
DTSTAMP:20260421T105324
CREATED:20250928T120126Z
LAST-MODIFIED:20250928T120126Z
UID:10028166-1801735200-1801735200@kalender.regensburg-digital.de
SUMMARY:Sofa-Ost Frühstückstreff im KfE*
DESCRIPTION:Sorry\, but you do not have permission to view this content.
URL:https://kalender.regensburg-digital.de/veranstaltung/sofa-ost-fruehstueckstreff-im-kfe/2027-02-04/
LOCATION:Kaufladen für Erwachsene\, Guerickestr. 71a\, Regensburg\, Bayern\, 93055\, Deutschland
CATEGORIES:Selbsthilfe
ATTACH;FMTTYPE=image/jpeg:https://kalender.regensburg-digital.de/wp-content/uploads/2025/09/547143176_122240895266219175_2656218367145284190_n-1.jpg
ORGANIZER;CN="Regensburger Soziale Initiativen e.V.":MAILTO:info@soziale-initiativen.de
END:VEVENT
END:VCALENDAR