BEGIN:VCALENDAR
VERSION:2.0
PRODID:-//Regensburg Digital Kalender - ECPv6.14.2//NONSGML v1.0//EN
CALSCALE:GREGORIAN
METHOD:PUBLISH
X-ORIGINAL-URL:https://kalender.regensburg-digital.de
X-WR-CALDESC:Veranstaltungen für Regensburg Digital Kalender
REFRESH-INTERVAL;VALUE=DURATION:PT1H
X-Robots-Tag:noindex
X-PUBLISHED-TTL:PT1H
BEGIN:VTIMEZONE
TZID:Europe/Berlin
BEGIN:DAYLIGHT
TZOFFSETFROM:+0100
TZOFFSETTO:+0200
TZNAME:CEST
DTSTART:20260329T010000
END:DAYLIGHT
BEGIN:STANDARD
TZOFFSETFROM:+0200
TZOFFSETTO:+0100
TZNAME:CET
DTSTART:20261025T010000
END:STANDARD
BEGIN:DAYLIGHT
TZOFFSETFROM:+0100
TZOFFSETTO:+0200
TZNAME:CEST
DTSTART:20270328T010000
END:DAYLIGHT
BEGIN:STANDARD
TZOFFSETFROM:+0200
TZOFFSETTO:+0100
TZNAME:CET
DTSTART:20271031T010000
END:STANDARD
END:VTIMEZONE
BEGIN:VEVENT
DTSTART;TZID=Europe/Berlin:20261230T170000
DTEND;TZID=Europe/Berlin:20261230T183000
DTSTAMP:20260421T120729
CREATED:20230927T111207Z
LAST-MODIFIED:20230927T111207Z
UID:10011402-1798650000-1798655400@kalender.regensburg-digital.de
SUMMARY:Friedensgespräche Neupfarrplatz
DESCRIPTION:Sorry\, but you do not have permission to view this content.
URL:https://kalender.regensburg-digital.de/veranstaltung/friedensgespraeche-neupfarrplatz/2026-12-30/
LOCATION:Karavan-Denkmal\, Neupfarrplatz\, Regensburg\, 93047\, Deutschland
CATEGORIES:Diskussion
ORGANIZER;CN="Regensburger Soziale Initiativen e.V.":MAILTO:info@soziale-initiativen.de
END:VEVENT
BEGIN:VEVENT
DTSTART;TZID=Europe/Berlin:20261231T100000
DTEND;TZID=Europe/Berlin:20261231T100000
DTSTAMP:20260421T120729
CREATED:20250928T120126Z
LAST-MODIFIED:20250928T120126Z
UID:10028161-1798711200-1798711200@kalender.regensburg-digital.de
SUMMARY:Sofa-Ost Frühstückstreff im KfE*
DESCRIPTION:Sorry\, but you do not have permission to view this content.
URL:https://kalender.regensburg-digital.de/veranstaltung/sofa-ost-fruehstueckstreff-im-kfe/2026-12-31/
LOCATION:Kaufladen für Erwachsene\, Guerickestr. 71a\, Regensburg\, Bayern\, 93055\, Deutschland
CATEGORIES:Selbsthilfe
ATTACH;FMTTYPE=image/jpeg:https://kalender.regensburg-digital.de/wp-content/uploads/2025/09/547143176_122240895266219175_2656218367145284190_n-1.jpg
ORGANIZER;CN="Regensburger Soziale Initiativen e.V.":MAILTO:info@soziale-initiativen.de
END:VEVENT
BEGIN:VEVENT
DTSTART;TZID=Europe/Berlin:20270106T170000
DTEND;TZID=Europe/Berlin:20270106T183000
DTSTAMP:20260421T120729
CREATED:20230927T111207Z
LAST-MODIFIED:20230927T111207Z
UID:10011403-1799254800-1799260200@kalender.regensburg-digital.de
SUMMARY:Friedensgespräche Neupfarrplatz
DESCRIPTION:Sorry\, but you do not have permission to view this content.
URL:https://kalender.regensburg-digital.de/veranstaltung/friedensgespraeche-neupfarrplatz/2027-01-06/
LOCATION:Karavan-Denkmal\, Neupfarrplatz\, Regensburg\, 93047\, Deutschland
CATEGORIES:Diskussion
ORGANIZER;CN="Regensburger Soziale Initiativen e.V.":MAILTO:info@soziale-initiativen.de
END:VEVENT
BEGIN:VEVENT
DTSTART;TZID=Europe/Berlin:20270107T100000
DTEND;TZID=Europe/Berlin:20270107T100000
DTSTAMP:20260421T120729
CREATED:20250928T120126Z
LAST-MODIFIED:20250928T120126Z
UID:10028162-1799316000-1799316000@kalender.regensburg-digital.de
SUMMARY:Sofa-Ost Frühstückstreff im KfE*
DESCRIPTION:Sorry\, but you do not have permission to view this content.
URL:https://kalender.regensburg-digital.de/veranstaltung/sofa-ost-fruehstueckstreff-im-kfe/2027-01-07/
LOCATION:Kaufladen für Erwachsene\, Guerickestr. 71a\, Regensburg\, Bayern\, 93055\, Deutschland
CATEGORIES:Selbsthilfe
ATTACH;FMTTYPE=image/jpeg:https://kalender.regensburg-digital.de/wp-content/uploads/2025/09/547143176_122240895266219175_2656218367145284190_n-1.jpg
ORGANIZER;CN="Regensburger Soziale Initiativen e.V.":MAILTO:info@soziale-initiativen.de
END:VEVENT
BEGIN:VEVENT
DTSTART;TZID=Europe/Berlin:20270113T170000
DTEND;TZID=Europe/Berlin:20270113T183000
DTSTAMP:20260421T120729
CREATED:20230927T111207Z
LAST-MODIFIED:20230927T111207Z
UID:10011404-1799859600-1799865000@kalender.regensburg-digital.de
SUMMARY:Friedensgespräche Neupfarrplatz
DESCRIPTION:Sorry\, but you do not have permission to view this content.
URL:https://kalender.regensburg-digital.de/veranstaltung/friedensgespraeche-neupfarrplatz/2027-01-13/
LOCATION:Karavan-Denkmal\, Neupfarrplatz\, Regensburg\, 93047\, Deutschland
CATEGORIES:Diskussion
ORGANIZER;CN="Regensburger Soziale Initiativen e.V.":MAILTO:info@soziale-initiativen.de
END:VEVENT
BEGIN:VEVENT
DTSTART;TZID=Europe/Berlin:20270114T100000
DTEND;TZID=Europe/Berlin:20270114T100000
DTSTAMP:20260421T120729
CREATED:20250928T120126Z
LAST-MODIFIED:20250928T120126Z
UID:10028163-1799920800-1799920800@kalender.regensburg-digital.de
SUMMARY:Sofa-Ost Frühstückstreff im KfE*
DESCRIPTION:Sorry\, but you do not have permission to view this content.
URL:https://kalender.regensburg-digital.de/veranstaltung/sofa-ost-fruehstueckstreff-im-kfe/2027-01-14/
LOCATION:Kaufladen für Erwachsene\, Guerickestr. 71a\, Regensburg\, Bayern\, 93055\, Deutschland
CATEGORIES:Selbsthilfe
ATTACH;FMTTYPE=image/jpeg:https://kalender.regensburg-digital.de/wp-content/uploads/2025/09/547143176_122240895266219175_2656218367145284190_n-1.jpg
ORGANIZER;CN="Regensburger Soziale Initiativen e.V.":MAILTO:info@soziale-initiativen.de
END:VEVENT
BEGIN:VEVENT
DTSTART;TZID=Europe/Berlin:20270120T170000
DTEND;TZID=Europe/Berlin:20270120T183000
DTSTAMP:20260421T120729
CREATED:20230927T111207Z
LAST-MODIFIED:20230927T111207Z
UID:10011405-1800464400-1800469800@kalender.regensburg-digital.de
SUMMARY:Friedensgespräche Neupfarrplatz
DESCRIPTION:Sorry\, but you do not have permission to view this content.
URL:https://kalender.regensburg-digital.de/veranstaltung/friedensgespraeche-neupfarrplatz/2027-01-20/
LOCATION:Karavan-Denkmal\, Neupfarrplatz\, Regensburg\, 93047\, Deutschland
CATEGORIES:Diskussion
ORGANIZER;CN="Regensburger Soziale Initiativen e.V.":MAILTO:info@soziale-initiativen.de
END:VEVENT
BEGIN:VEVENT
DTSTART;TZID=Europe/Berlin:20270121T100000
DTEND;TZID=Europe/Berlin:20270121T100000
DTSTAMP:20260421T120729
CREATED:20250928T120126Z
LAST-MODIFIED:20250928T120126Z
UID:10028164-1800525600-1800525600@kalender.regensburg-digital.de
SUMMARY:Sofa-Ost Frühstückstreff im KfE*
DESCRIPTION:Sorry\, but you do not have permission to view this content.
URL:https://kalender.regensburg-digital.de/veranstaltung/sofa-ost-fruehstueckstreff-im-kfe/2027-01-21/
LOCATION:Kaufladen für Erwachsene\, Guerickestr. 71a\, Regensburg\, Bayern\, 93055\, Deutschland
CATEGORIES:Selbsthilfe
ATTACH;FMTTYPE=image/jpeg:https://kalender.regensburg-digital.de/wp-content/uploads/2025/09/547143176_122240895266219175_2656218367145284190_n-1.jpg
ORGANIZER;CN="Regensburger Soziale Initiativen e.V.":MAILTO:info@soziale-initiativen.de
END:VEVENT
BEGIN:VEVENT
DTSTART;TZID=Europe/Berlin:20270127T170000
DTEND;TZID=Europe/Berlin:20270127T183000
DTSTAMP:20260421T120729
CREATED:20230927T111207Z
LAST-MODIFIED:20230927T111207Z
UID:10011406-1801069200-1801074600@kalender.regensburg-digital.de
SUMMARY:Friedensgespräche Neupfarrplatz
DESCRIPTION:Sorry\, but you do not have permission to view this content.
URL:https://kalender.regensburg-digital.de/veranstaltung/friedensgespraeche-neupfarrplatz/2027-01-27/
LOCATION:Karavan-Denkmal\, Neupfarrplatz\, Regensburg\, 93047\, Deutschland
CATEGORIES:Diskussion
ORGANIZER;CN="Regensburger Soziale Initiativen e.V.":MAILTO:info@soziale-initiativen.de
END:VEVENT
BEGIN:VEVENT
DTSTART;TZID=Europe/Berlin:20270128T100000
DTEND;TZID=Europe/Berlin:20270128T100000
DTSTAMP:20260421T120729
CREATED:20250928T120126Z
LAST-MODIFIED:20250928T120126Z
UID:10028165-1801130400-1801130400@kalender.regensburg-digital.de
SUMMARY:Sofa-Ost Frühstückstreff im KfE*
DESCRIPTION:Sorry\, but you do not have permission to view this content.
URL:https://kalender.regensburg-digital.de/veranstaltung/sofa-ost-fruehstueckstreff-im-kfe/2027-01-28/
LOCATION:Kaufladen für Erwachsene\, Guerickestr. 71a\, Regensburg\, Bayern\, 93055\, Deutschland
CATEGORIES:Selbsthilfe
ATTACH;FMTTYPE=image/jpeg:https://kalender.regensburg-digital.de/wp-content/uploads/2025/09/547143176_122240895266219175_2656218367145284190_n-1.jpg
ORGANIZER;CN="Regensburger Soziale Initiativen e.V.":MAILTO:info@soziale-initiativen.de
END:VEVENT
BEGIN:VEVENT
DTSTART;TZID=Europe/Berlin:20270203T170000
DTEND;TZID=Europe/Berlin:20270203T183000
DTSTAMP:20260421T120729
CREATED:20230927T111207Z
LAST-MODIFIED:20230927T111207Z
UID:10011407-1801674000-1801679400@kalender.regensburg-digital.de
SUMMARY:Friedensgespräche Neupfarrplatz
DESCRIPTION:Sorry\, but you do not have permission to view this content.
URL:https://kalender.regensburg-digital.de/veranstaltung/friedensgespraeche-neupfarrplatz/2027-02-03/
LOCATION:Karavan-Denkmal\, Neupfarrplatz\, Regensburg\, 93047\, Deutschland
CATEGORIES:Diskussion
ORGANIZER;CN="Regensburger Soziale Initiativen e.V.":MAILTO:info@soziale-initiativen.de
END:VEVENT
BEGIN:VEVENT
DTSTART;TZID=Europe/Berlin:20270204T100000
DTEND;TZID=Europe/Berlin:20270204T100000
DTSTAMP:20260421T120729
CREATED:20250928T120126Z
LAST-MODIFIED:20250928T120126Z
UID:10028166-1801735200-1801735200@kalender.regensburg-digital.de
SUMMARY:Sofa-Ost Frühstückstreff im KfE*
DESCRIPTION:Sorry\, but you do not have permission to view this content.
URL:https://kalender.regensburg-digital.de/veranstaltung/sofa-ost-fruehstueckstreff-im-kfe/2027-02-04/
LOCATION:Kaufladen für Erwachsene\, Guerickestr. 71a\, Regensburg\, Bayern\, 93055\, Deutschland
CATEGORIES:Selbsthilfe
ATTACH;FMTTYPE=image/jpeg:https://kalender.regensburg-digital.de/wp-content/uploads/2025/09/547143176_122240895266219175_2656218367145284190_n-1.jpg
ORGANIZER;CN="Regensburger Soziale Initiativen e.V.":MAILTO:info@soziale-initiativen.de
END:VEVENT
BEGIN:VEVENT
DTSTART;TZID=Europe/Berlin:20270210T170000
DTEND;TZID=Europe/Berlin:20270210T183000
DTSTAMP:20260421T120729
CREATED:20230927T111207Z
LAST-MODIFIED:20230927T111207Z
UID:10011408-1802278800-1802284200@kalender.regensburg-digital.de
SUMMARY:Friedensgespräche Neupfarrplatz
DESCRIPTION:Sorry\, but you do not have permission to view this content.
URL:https://kalender.regensburg-digital.de/veranstaltung/friedensgespraeche-neupfarrplatz/2027-02-10/
LOCATION:Karavan-Denkmal\, Neupfarrplatz\, Regensburg\, 93047\, Deutschland
CATEGORIES:Diskussion
ORGANIZER;CN="Regensburger Soziale Initiativen e.V.":MAILTO:info@soziale-initiativen.de
END:VEVENT
BEGIN:VEVENT
DTSTART;TZID=Europe/Berlin:20270211T100000
DTEND;TZID=Europe/Berlin:20270211T100000
DTSTAMP:20260421T120729
CREATED:20250928T120126Z
LAST-MODIFIED:20250928T120126Z
UID:10028167-1802340000-1802340000@kalender.regensburg-digital.de
SUMMARY:Sofa-Ost Frühstückstreff im KfE*
DESCRIPTION:Sorry\, but you do not have permission to view this content.
URL:https://kalender.regensburg-digital.de/veranstaltung/sofa-ost-fruehstueckstreff-im-kfe/2027-02-11/
LOCATION:Kaufladen für Erwachsene\, Guerickestr. 71a\, Regensburg\, Bayern\, 93055\, Deutschland
CATEGORIES:Selbsthilfe
ATTACH;FMTTYPE=image/jpeg:https://kalender.regensburg-digital.de/wp-content/uploads/2025/09/547143176_122240895266219175_2656218367145284190_n-1.jpg
ORGANIZER;CN="Regensburger Soziale Initiativen e.V.":MAILTO:info@soziale-initiativen.de
END:VEVENT
BEGIN:VEVENT
DTSTART;TZID=Europe/Berlin:20270217T170000
DTEND;TZID=Europe/Berlin:20270217T183000
DTSTAMP:20260421T120729
CREATED:20230927T111207Z
LAST-MODIFIED:20230927T111207Z
UID:10011409-1802883600-1802889000@kalender.regensburg-digital.de
SUMMARY:Friedensgespräche Neupfarrplatz
DESCRIPTION:Sorry\, but you do not have permission to view this content.
URL:https://kalender.regensburg-digital.de/veranstaltung/friedensgespraeche-neupfarrplatz/2027-02-17/
LOCATION:Karavan-Denkmal\, Neupfarrplatz\, Regensburg\, 93047\, Deutschland
CATEGORIES:Diskussion
ORGANIZER;CN="Regensburger Soziale Initiativen e.V.":MAILTO:info@soziale-initiativen.de
END:VEVENT
BEGIN:VEVENT
DTSTART;TZID=Europe/Berlin:20270218T100000
DTEND;TZID=Europe/Berlin:20270218T100000
DTSTAMP:20260421T120729
CREATED:20250928T120126Z
LAST-MODIFIED:20250928T120126Z
UID:10028168-1802944800-1802944800@kalender.regensburg-digital.de
SUMMARY:Sofa-Ost Frühstückstreff im KfE*
DESCRIPTION:Sorry\, but you do not have permission to view this content.
URL:https://kalender.regensburg-digital.de/veranstaltung/sofa-ost-fruehstueckstreff-im-kfe/2027-02-18/
LOCATION:Kaufladen für Erwachsene\, Guerickestr. 71a\, Regensburg\, Bayern\, 93055\, Deutschland
CATEGORIES:Selbsthilfe
ATTACH;FMTTYPE=image/jpeg:https://kalender.regensburg-digital.de/wp-content/uploads/2025/09/547143176_122240895266219175_2656218367145284190_n-1.jpg
ORGANIZER;CN="Regensburger Soziale Initiativen e.V.":MAILTO:info@soziale-initiativen.de
END:VEVENT
BEGIN:VEVENT
DTSTART;TZID=Europe/Berlin:20270224T170000
DTEND;TZID=Europe/Berlin:20270224T183000
DTSTAMP:20260421T120729
CREATED:20230927T111207Z
LAST-MODIFIED:20230927T111207Z
UID:10011410-1803488400-1803493800@kalender.regensburg-digital.de
SUMMARY:Friedensgespräche Neupfarrplatz
DESCRIPTION:Sorry\, but you do not have permission to view this content.
URL:https://kalender.regensburg-digital.de/veranstaltung/friedensgespraeche-neupfarrplatz/2027-02-24/
LOCATION:Karavan-Denkmal\, Neupfarrplatz\, Regensburg\, 93047\, Deutschland
CATEGORIES:Diskussion
ORGANIZER;CN="Regensburger Soziale Initiativen e.V.":MAILTO:info@soziale-initiativen.de
END:VEVENT
BEGIN:VEVENT
DTSTART;TZID=Europe/Berlin:20270225T100000
DTEND;TZID=Europe/Berlin:20270225T100000
DTSTAMP:20260421T120729
CREATED:20250928T120126Z
LAST-MODIFIED:20250928T120126Z
UID:10028169-1803549600-1803549600@kalender.regensburg-digital.de
SUMMARY:Sofa-Ost Frühstückstreff im KfE*
DESCRIPTION:Sorry\, but you do not have permission to view this content.
URL:https://kalender.regensburg-digital.de/veranstaltung/sofa-ost-fruehstueckstreff-im-kfe/2027-02-25/
LOCATION:Kaufladen für Erwachsene\, Guerickestr. 71a\, Regensburg\, Bayern\, 93055\, Deutschland
CATEGORIES:Selbsthilfe
ATTACH;FMTTYPE=image/jpeg:https://kalender.regensburg-digital.de/wp-content/uploads/2025/09/547143176_122240895266219175_2656218367145284190_n-1.jpg
ORGANIZER;CN="Regensburger Soziale Initiativen e.V.":MAILTO:info@soziale-initiativen.de
END:VEVENT
BEGIN:VEVENT
DTSTART;TZID=Europe/Berlin:20270303T170000
DTEND;TZID=Europe/Berlin:20270303T183000
DTSTAMP:20260421T120729
CREATED:20230927T111207Z
LAST-MODIFIED:20230927T111207Z
UID:10011411-1804093200-1804098600@kalender.regensburg-digital.de
SUMMARY:Friedensgespräche Neupfarrplatz
DESCRIPTION:Sorry\, but you do not have permission to view this content.
URL:https://kalender.regensburg-digital.de/veranstaltung/friedensgespraeche-neupfarrplatz/2027-03-03/
LOCATION:Karavan-Denkmal\, Neupfarrplatz\, Regensburg\, 93047\, Deutschland
CATEGORIES:Diskussion
ORGANIZER;CN="Regensburger Soziale Initiativen e.V.":MAILTO:info@soziale-initiativen.de
END:VEVENT
BEGIN:VEVENT
DTSTART;TZID=Europe/Berlin:20270304T100000
DTEND;TZID=Europe/Berlin:20270304T100000
DTSTAMP:20260421T120729
CREATED:20250928T120126Z
LAST-MODIFIED:20250928T120126Z
UID:10028170-1804154400-1804154400@kalender.regensburg-digital.de
SUMMARY:Sofa-Ost Frühstückstreff im KfE*
DESCRIPTION:Sorry\, but you do not have permission to view this content.
URL:https://kalender.regensburg-digital.de/veranstaltung/sofa-ost-fruehstueckstreff-im-kfe/2027-03-04/
LOCATION:Kaufladen für Erwachsene\, Guerickestr. 71a\, Regensburg\, Bayern\, 93055\, Deutschland
CATEGORIES:Selbsthilfe
ATTACH;FMTTYPE=image/jpeg:https://kalender.regensburg-digital.de/wp-content/uploads/2025/09/547143176_122240895266219175_2656218367145284190_n-1.jpg
ORGANIZER;CN="Regensburger Soziale Initiativen e.V.":MAILTO:info@soziale-initiativen.de
END:VEVENT
BEGIN:VEVENT
DTSTART;TZID=Europe/Berlin:20270310T170000
DTEND;TZID=Europe/Berlin:20270310T183000
DTSTAMP:20260421T120729
CREATED:20230927T111207Z
LAST-MODIFIED:20230927T111207Z
UID:10011412-1804698000-1804703400@kalender.regensburg-digital.de
SUMMARY:Friedensgespräche Neupfarrplatz
DESCRIPTION:Sorry\, but you do not have permission to view this content.
URL:https://kalender.regensburg-digital.de/veranstaltung/friedensgespraeche-neupfarrplatz/2027-03-10/
LOCATION:Karavan-Denkmal\, Neupfarrplatz\, Regensburg\, 93047\, Deutschland
CATEGORIES:Diskussion
ORGANIZER;CN="Regensburger Soziale Initiativen e.V.":MAILTO:info@soziale-initiativen.de
END:VEVENT
BEGIN:VEVENT
DTSTART;TZID=Europe/Berlin:20270311T100000
DTEND;TZID=Europe/Berlin:20270311T100000
DTSTAMP:20260421T120729
CREATED:20250928T120126Z
LAST-MODIFIED:20250928T120126Z
UID:10028171-1804759200-1804759200@kalender.regensburg-digital.de
SUMMARY:Sofa-Ost Frühstückstreff im KfE*
DESCRIPTION:Sorry\, but you do not have permission to view this content.
URL:https://kalender.regensburg-digital.de/veranstaltung/sofa-ost-fruehstueckstreff-im-kfe/2027-03-11/
LOCATION:Kaufladen für Erwachsene\, Guerickestr. 71a\, Regensburg\, Bayern\, 93055\, Deutschland
CATEGORIES:Selbsthilfe
ATTACH;FMTTYPE=image/jpeg:https://kalender.regensburg-digital.de/wp-content/uploads/2025/09/547143176_122240895266219175_2656218367145284190_n-1.jpg
ORGANIZER;CN="Regensburger Soziale Initiativen e.V.":MAILTO:info@soziale-initiativen.de
END:VEVENT
BEGIN:VEVENT
DTSTART;TZID=Europe/Berlin:20270317T170000
DTEND;TZID=Europe/Berlin:20270317T183000
DTSTAMP:20260421T120729
CREATED:20230927T111207Z
LAST-MODIFIED:20230927T111207Z
UID:10011413-1805302800-1805308200@kalender.regensburg-digital.de
SUMMARY:Friedensgespräche Neupfarrplatz
DESCRIPTION:Sorry\, but you do not have permission to view this content.
URL:https://kalender.regensburg-digital.de/veranstaltung/friedensgespraeche-neupfarrplatz/2027-03-17/
LOCATION:Karavan-Denkmal\, Neupfarrplatz\, Regensburg\, 93047\, Deutschland
CATEGORIES:Diskussion
ORGANIZER;CN="Regensburger Soziale Initiativen e.V.":MAILTO:info@soziale-initiativen.de
END:VEVENT
BEGIN:VEVENT
DTSTART;TZID=Europe/Berlin:20270318T100000
DTEND;TZID=Europe/Berlin:20270318T100000
DTSTAMP:20260421T120729
CREATED:20250928T120126Z
LAST-MODIFIED:20250928T120126Z
UID:10028172-1805364000-1805364000@kalender.regensburg-digital.de
SUMMARY:Sofa-Ost Frühstückstreff im KfE*
DESCRIPTION:Sorry\, but you do not have permission to view this content.
URL:https://kalender.regensburg-digital.de/veranstaltung/sofa-ost-fruehstueckstreff-im-kfe/2027-03-18/
LOCATION:Kaufladen für Erwachsene\, Guerickestr. 71a\, Regensburg\, Bayern\, 93055\, Deutschland
CATEGORIES:Selbsthilfe
ATTACH;FMTTYPE=image/jpeg:https://kalender.regensburg-digital.de/wp-content/uploads/2025/09/547143176_122240895266219175_2656218367145284190_n-1.jpg
ORGANIZER;CN="Regensburger Soziale Initiativen e.V.":MAILTO:info@soziale-initiativen.de
END:VEVENT
BEGIN:VEVENT
DTSTART;TZID=Europe/Berlin:20270324T170000
DTEND;TZID=Europe/Berlin:20270324T183000
DTSTAMP:20260421T120729
CREATED:20230927T111207Z
LAST-MODIFIED:20230927T111207Z
UID:10011414-1805907600-1805913000@kalender.regensburg-digital.de
SUMMARY:Friedensgespräche Neupfarrplatz
DESCRIPTION:Sorry\, but you do not have permission to view this content.
URL:https://kalender.regensburg-digital.de/veranstaltung/friedensgespraeche-neupfarrplatz/2027-03-24/
LOCATION:Karavan-Denkmal\, Neupfarrplatz\, Regensburg\, 93047\, Deutschland
CATEGORIES:Diskussion
ORGANIZER;CN="Regensburger Soziale Initiativen e.V.":MAILTO:info@soziale-initiativen.de
END:VEVENT
BEGIN:VEVENT
DTSTART;TZID=Europe/Berlin:20270325T100000
DTEND;TZID=Europe/Berlin:20270325T100000
DTSTAMP:20260421T120729
CREATED:20250928T120126Z
LAST-MODIFIED:20250928T120126Z
UID:10028173-1805968800-1805968800@kalender.regensburg-digital.de
SUMMARY:Sofa-Ost Frühstückstreff im KfE*
DESCRIPTION:Sorry\, but you do not have permission to view this content.
URL:https://kalender.regensburg-digital.de/veranstaltung/sofa-ost-fruehstueckstreff-im-kfe/2027-03-25/
LOCATION:Kaufladen für Erwachsene\, Guerickestr. 71a\, Regensburg\, Bayern\, 93055\, Deutschland
CATEGORIES:Selbsthilfe
ATTACH;FMTTYPE=image/jpeg:https://kalender.regensburg-digital.de/wp-content/uploads/2025/09/547143176_122240895266219175_2656218367145284190_n-1.jpg
ORGANIZER;CN="Regensburger Soziale Initiativen e.V.":MAILTO:info@soziale-initiativen.de
END:VEVENT
BEGIN:VEVENT
DTSTART;TZID=Europe/Berlin:20270331T170000
DTEND;TZID=Europe/Berlin:20270331T183000
DTSTAMP:20260421T120729
CREATED:20230927T111207Z
LAST-MODIFIED:20230927T111207Z
UID:10011415-1806512400-1806517800@kalender.regensburg-digital.de
SUMMARY:Friedensgespräche Neupfarrplatz
DESCRIPTION:Sorry\, but you do not have permission to view this content.
URL:https://kalender.regensburg-digital.de/veranstaltung/friedensgespraeche-neupfarrplatz/2027-03-31/
LOCATION:Karavan-Denkmal\, Neupfarrplatz\, Regensburg\, 93047\, Deutschland
CATEGORIES:Diskussion
ORGANIZER;CN="Regensburger Soziale Initiativen e.V.":MAILTO:info@soziale-initiativen.de
END:VEVENT
BEGIN:VEVENT
DTSTART;TZID=Europe/Berlin:20270401T100000
DTEND;TZID=Europe/Berlin:20270401T100000
DTSTAMP:20260421T120729
CREATED:20250928T120126Z
LAST-MODIFIED:20250928T120126Z
UID:10028174-1806573600-1806573600@kalender.regensburg-digital.de
SUMMARY:Sofa-Ost Frühstückstreff im KfE*
DESCRIPTION:Sorry\, but you do not have permission to view this content.
URL:https://kalender.regensburg-digital.de/veranstaltung/sofa-ost-fruehstueckstreff-im-kfe/2027-04-01/
LOCATION:Kaufladen für Erwachsene\, Guerickestr. 71a\, Regensburg\, Bayern\, 93055\, Deutschland
CATEGORIES:Selbsthilfe
ATTACH;FMTTYPE=image/jpeg:https://kalender.regensburg-digital.de/wp-content/uploads/2025/09/547143176_122240895266219175_2656218367145284190_n-1.jpg
ORGANIZER;CN="Regensburger Soziale Initiativen e.V.":MAILTO:info@soziale-initiativen.de
END:VEVENT
BEGIN:VEVENT
DTSTART;TZID=Europe/Berlin:20270407T170000
DTEND;TZID=Europe/Berlin:20270407T183000
DTSTAMP:20260421T120729
CREATED:20230927T111207Z
LAST-MODIFIED:20230927T111207Z
UID:10011416-1807117200-1807122600@kalender.regensburg-digital.de
SUMMARY:Friedensgespräche Neupfarrplatz
DESCRIPTION:Sorry\, but you do not have permission to view this content.
URL:https://kalender.regensburg-digital.de/veranstaltung/friedensgespraeche-neupfarrplatz/2027-04-07/
LOCATION:Karavan-Denkmal\, Neupfarrplatz\, Regensburg\, 93047\, Deutschland
CATEGORIES:Diskussion
ORGANIZER;CN="Regensburger Soziale Initiativen e.V.":MAILTO:info@soziale-initiativen.de
END:VEVENT
BEGIN:VEVENT
DTSTART;TZID=Europe/Berlin:20270408T100000
DTEND;TZID=Europe/Berlin:20270408T100000
DTSTAMP:20260421T120729
CREATED:20250928T120126Z
LAST-MODIFIED:20250928T120126Z
UID:10028175-1807178400-1807178400@kalender.regensburg-digital.de
SUMMARY:Sofa-Ost Frühstückstreff im KfE*
DESCRIPTION:Sorry\, but you do not have permission to view this content.
URL:https://kalender.regensburg-digital.de/veranstaltung/sofa-ost-fruehstueckstreff-im-kfe/2027-04-08/
LOCATION:Kaufladen für Erwachsene\, Guerickestr. 71a\, Regensburg\, Bayern\, 93055\, Deutschland
CATEGORIES:Selbsthilfe
ATTACH;FMTTYPE=image/jpeg:https://kalender.regensburg-digital.de/wp-content/uploads/2025/09/547143176_122240895266219175_2656218367145284190_n-1.jpg
ORGANIZER;CN="Regensburger Soziale Initiativen e.V.":MAILTO:info@soziale-initiativen.de
END:VEVENT
END:VCALENDAR