BEGIN:VCALENDAR
VERSION:2.0
PRODID:-//Regensburg Digital Kalender - ECPv6.14.2//NONSGML v1.0//EN
CALSCALE:GREGORIAN
METHOD:PUBLISH
X-ORIGINAL-URL:https://kalender.regensburg-digital.de
X-WR-CALDESC:Veranstaltungen für Regensburg Digital Kalender
REFRESH-INTERVAL;VALUE=DURATION:PT1H
X-Robots-Tag:noindex
X-PUBLISHED-TTL:PT1H
BEGIN:VTIMEZONE
TZID:Europe/Berlin
BEGIN:DAYLIGHT
TZOFFSETFROM:+0100
TZOFFSETTO:+0200
TZNAME:CEST
DTSTART:20270328T010000
END:DAYLIGHT
BEGIN:STANDARD
TZOFFSETFROM:+0200
TZOFFSETTO:+0100
TZNAME:CET
DTSTART:20271031T010000
END:STANDARD
END:VTIMEZONE
BEGIN:VEVENT
DTSTART;TZID=Europe/Berlin:20270505T170000
DTEND;TZID=Europe/Berlin:20270505T183000
DTSTAMP:20260421T150622
CREATED:20230927T111207Z
LAST-MODIFIED:20230927T111207Z
UID:10011420-1809536400-1809541800@kalender.regensburg-digital.de
SUMMARY:Friedensgespräche Neupfarrplatz
DESCRIPTION:Sorry\, but you do not have permission to view this content.
URL:https://kalender.regensburg-digital.de/veranstaltung/friedensgespraeche-neupfarrplatz/2027-05-05/
LOCATION:Karavan-Denkmal\, Neupfarrplatz\, Regensburg\, 93047\, Deutschland
CATEGORIES:Diskussion
ORGANIZER;CN="Regensburger Soziale Initiativen e.V.":MAILTO:info@soziale-initiativen.de
END:VEVENT
BEGIN:VEVENT
DTSTART;TZID=Europe/Berlin:20270506T100000
DTEND;TZID=Europe/Berlin:20270506T100000
DTSTAMP:20260421T150622
CREATED:20250928T120126Z
LAST-MODIFIED:20250928T120126Z
UID:10028179-1809597600-1809597600@kalender.regensburg-digital.de
SUMMARY:Sofa-Ost Frühstückstreff im KfE*
DESCRIPTION:Sorry\, but you do not have permission to view this content.
URL:https://kalender.regensburg-digital.de/veranstaltung/sofa-ost-fruehstueckstreff-im-kfe/2027-05-06/
LOCATION:Kaufladen für Erwachsene\, Guerickestr. 71a\, Regensburg\, Bayern\, 93055\, Deutschland
CATEGORIES:Selbsthilfe
ATTACH;FMTTYPE=image/jpeg:https://kalender.regensburg-digital.de/wp-content/uploads/2025/09/547143176_122240895266219175_2656218367145284190_n-1.jpg
ORGANIZER;CN="Regensburger Soziale Initiativen e.V.":MAILTO:info@soziale-initiativen.de
END:VEVENT
BEGIN:VEVENT
DTSTART;TZID=Europe/Berlin:20270512T170000
DTEND;TZID=Europe/Berlin:20270512T183000
DTSTAMP:20260421T150622
CREATED:20230927T111207Z
LAST-MODIFIED:20230927T111207Z
UID:10011421-1810141200-1810146600@kalender.regensburg-digital.de
SUMMARY:Friedensgespräche Neupfarrplatz
DESCRIPTION:Sorry\, but you do not have permission to view this content.
URL:https://kalender.regensburg-digital.de/veranstaltung/friedensgespraeche-neupfarrplatz/2027-05-12/
LOCATION:Karavan-Denkmal\, Neupfarrplatz\, Regensburg\, 93047\, Deutschland
CATEGORIES:Diskussion
ORGANIZER;CN="Regensburger Soziale Initiativen e.V.":MAILTO:info@soziale-initiativen.de
END:VEVENT
BEGIN:VEVENT
DTSTART;TZID=Europe/Berlin:20270513T100000
DTEND;TZID=Europe/Berlin:20270513T100000
DTSTAMP:20260421T150622
CREATED:20250928T120126Z
LAST-MODIFIED:20250928T120126Z
UID:10028180-1810202400-1810202400@kalender.regensburg-digital.de
SUMMARY:Sofa-Ost Frühstückstreff im KfE*
DESCRIPTION:Sorry\, but you do not have permission to view this content.
URL:https://kalender.regensburg-digital.de/veranstaltung/sofa-ost-fruehstueckstreff-im-kfe/2027-05-13/
LOCATION:Kaufladen für Erwachsene\, Guerickestr. 71a\, Regensburg\, Bayern\, 93055\, Deutschland
CATEGORIES:Selbsthilfe
ATTACH;FMTTYPE=image/jpeg:https://kalender.regensburg-digital.de/wp-content/uploads/2025/09/547143176_122240895266219175_2656218367145284190_n-1.jpg
ORGANIZER;CN="Regensburger Soziale Initiativen e.V.":MAILTO:info@soziale-initiativen.de
END:VEVENT
BEGIN:VEVENT
DTSTART;TZID=Europe/Berlin:20270519T170000
DTEND;TZID=Europe/Berlin:20270519T183000
DTSTAMP:20260421T150622
CREATED:20230927T111207Z
LAST-MODIFIED:20230927T111207Z
UID:10011422-1810746000-1810751400@kalender.regensburg-digital.de
SUMMARY:Friedensgespräche Neupfarrplatz
DESCRIPTION:Sorry\, but you do not have permission to view this content.
URL:https://kalender.regensburg-digital.de/veranstaltung/friedensgespraeche-neupfarrplatz/2027-05-19/
LOCATION:Karavan-Denkmal\, Neupfarrplatz\, Regensburg\, 93047\, Deutschland
CATEGORIES:Diskussion
ORGANIZER;CN="Regensburger Soziale Initiativen e.V.":MAILTO:info@soziale-initiativen.de
END:VEVENT
BEGIN:VEVENT
DTSTART;TZID=Europe/Berlin:20270520T100000
DTEND;TZID=Europe/Berlin:20270520T100000
DTSTAMP:20260421T150622
CREATED:20250928T120126Z
LAST-MODIFIED:20250928T120126Z
UID:10028181-1810807200-1810807200@kalender.regensburg-digital.de
SUMMARY:Sofa-Ost Frühstückstreff im KfE*
DESCRIPTION:Sorry\, but you do not have permission to view this content.
URL:https://kalender.regensburg-digital.de/veranstaltung/sofa-ost-fruehstueckstreff-im-kfe/2027-05-20/
LOCATION:Kaufladen für Erwachsene\, Guerickestr. 71a\, Regensburg\, Bayern\, 93055\, Deutschland
CATEGORIES:Selbsthilfe
ATTACH;FMTTYPE=image/jpeg:https://kalender.regensburg-digital.de/wp-content/uploads/2025/09/547143176_122240895266219175_2656218367145284190_n-1.jpg
ORGANIZER;CN="Regensburger Soziale Initiativen e.V.":MAILTO:info@soziale-initiativen.de
END:VEVENT
BEGIN:VEVENT
DTSTART;TZID=Europe/Berlin:20270526T170000
DTEND;TZID=Europe/Berlin:20270526T183000
DTSTAMP:20260421T150622
CREATED:20230927T111207Z
LAST-MODIFIED:20230927T111207Z
UID:10011423-1811350800-1811356200@kalender.regensburg-digital.de
SUMMARY:Friedensgespräche Neupfarrplatz
DESCRIPTION:Sorry\, but you do not have permission to view this content.
URL:https://kalender.regensburg-digital.de/veranstaltung/friedensgespraeche-neupfarrplatz/2027-05-26/
LOCATION:Karavan-Denkmal\, Neupfarrplatz\, Regensburg\, 93047\, Deutschland
CATEGORIES:Diskussion
ORGANIZER;CN="Regensburger Soziale Initiativen e.V.":MAILTO:info@soziale-initiativen.de
END:VEVENT
BEGIN:VEVENT
DTSTART;TZID=Europe/Berlin:20270527T100000
DTEND;TZID=Europe/Berlin:20270527T100000
DTSTAMP:20260421T150622
CREATED:20250928T120126Z
LAST-MODIFIED:20250928T120126Z
UID:10028182-1811412000-1811412000@kalender.regensburg-digital.de
SUMMARY:Sofa-Ost Frühstückstreff im KfE*
DESCRIPTION:Sorry\, but you do not have permission to view this content.
URL:https://kalender.regensburg-digital.de/veranstaltung/sofa-ost-fruehstueckstreff-im-kfe/2027-05-27/
LOCATION:Kaufladen für Erwachsene\, Guerickestr. 71a\, Regensburg\, Bayern\, 93055\, Deutschland
CATEGORIES:Selbsthilfe
ATTACH;FMTTYPE=image/jpeg:https://kalender.regensburg-digital.de/wp-content/uploads/2025/09/547143176_122240895266219175_2656218367145284190_n-1.jpg
ORGANIZER;CN="Regensburger Soziale Initiativen e.V.":MAILTO:info@soziale-initiativen.de
END:VEVENT
BEGIN:VEVENT
DTSTART;TZID=Europe/Berlin:20270602T170000
DTEND;TZID=Europe/Berlin:20270602T183000
DTSTAMP:20260421T150622
CREATED:20230927T111207Z
LAST-MODIFIED:20230927T111207Z
UID:10011424-1811955600-1811961000@kalender.regensburg-digital.de
SUMMARY:Friedensgespräche Neupfarrplatz
DESCRIPTION:Sorry\, but you do not have permission to view this content.
URL:https://kalender.regensburg-digital.de/veranstaltung/friedensgespraeche-neupfarrplatz/2027-06-02/
LOCATION:Karavan-Denkmal\, Neupfarrplatz\, Regensburg\, 93047\, Deutschland
CATEGORIES:Diskussion
ORGANIZER;CN="Regensburger Soziale Initiativen e.V.":MAILTO:info@soziale-initiativen.de
END:VEVENT
BEGIN:VEVENT
DTSTART;TZID=Europe/Berlin:20270603T100000
DTEND;TZID=Europe/Berlin:20270603T100000
DTSTAMP:20260421T150622
CREATED:20250928T120126Z
LAST-MODIFIED:20250928T120126Z
UID:10028183-1812016800-1812016800@kalender.regensburg-digital.de
SUMMARY:Sofa-Ost Frühstückstreff im KfE*
DESCRIPTION:Sorry\, but you do not have permission to view this content.
URL:https://kalender.regensburg-digital.de/veranstaltung/sofa-ost-fruehstueckstreff-im-kfe/2027-06-03/
LOCATION:Kaufladen für Erwachsene\, Guerickestr. 71a\, Regensburg\, Bayern\, 93055\, Deutschland
CATEGORIES:Selbsthilfe
ATTACH;FMTTYPE=image/jpeg:https://kalender.regensburg-digital.de/wp-content/uploads/2025/09/547143176_122240895266219175_2656218367145284190_n-1.jpg
ORGANIZER;CN="Regensburger Soziale Initiativen e.V.":MAILTO:info@soziale-initiativen.de
END:VEVENT
BEGIN:VEVENT
DTSTART;TZID=Europe/Berlin:20270609T170000
DTEND;TZID=Europe/Berlin:20270609T183000
DTSTAMP:20260421T150622
CREATED:20230927T111207Z
LAST-MODIFIED:20230927T111207Z
UID:10011425-1812560400-1812565800@kalender.regensburg-digital.de
SUMMARY:Friedensgespräche Neupfarrplatz
DESCRIPTION:Sorry\, but you do not have permission to view this content.
URL:https://kalender.regensburg-digital.de/veranstaltung/friedensgespraeche-neupfarrplatz/2027-06-09/
LOCATION:Karavan-Denkmal\, Neupfarrplatz\, Regensburg\, 93047\, Deutschland
CATEGORIES:Diskussion
ORGANIZER;CN="Regensburger Soziale Initiativen e.V.":MAILTO:info@soziale-initiativen.de
END:VEVENT
BEGIN:VEVENT
DTSTART;TZID=Europe/Berlin:20270610T100000
DTEND;TZID=Europe/Berlin:20270610T100000
DTSTAMP:20260421T150622
CREATED:20250928T120126Z
LAST-MODIFIED:20250928T120126Z
UID:10028184-1812621600-1812621600@kalender.regensburg-digital.de
SUMMARY:Sofa-Ost Frühstückstreff im KfE*
DESCRIPTION:Sorry\, but you do not have permission to view this content.
URL:https://kalender.regensburg-digital.de/veranstaltung/sofa-ost-fruehstueckstreff-im-kfe/2027-06-10/
LOCATION:Kaufladen für Erwachsene\, Guerickestr. 71a\, Regensburg\, Bayern\, 93055\, Deutschland
CATEGORIES:Selbsthilfe
ATTACH;FMTTYPE=image/jpeg:https://kalender.regensburg-digital.de/wp-content/uploads/2025/09/547143176_122240895266219175_2656218367145284190_n-1.jpg
ORGANIZER;CN="Regensburger Soziale Initiativen e.V.":MAILTO:info@soziale-initiativen.de
END:VEVENT
BEGIN:VEVENT
DTSTART;TZID=Europe/Berlin:20270616T170000
DTEND;TZID=Europe/Berlin:20270616T183000
DTSTAMP:20260421T150622
CREATED:20230927T111207Z
LAST-MODIFIED:20230927T111207Z
UID:10011426-1813165200-1813170600@kalender.regensburg-digital.de
SUMMARY:Friedensgespräche Neupfarrplatz
DESCRIPTION:Sorry\, but you do not have permission to view this content.
URL:https://kalender.regensburg-digital.de/veranstaltung/friedensgespraeche-neupfarrplatz/2027-06-16/
LOCATION:Karavan-Denkmal\, Neupfarrplatz\, Regensburg\, 93047\, Deutschland
CATEGORIES:Diskussion
ORGANIZER;CN="Regensburger Soziale Initiativen e.V.":MAILTO:info@soziale-initiativen.de
END:VEVENT
BEGIN:VEVENT
DTSTART;TZID=Europe/Berlin:20270617T100000
DTEND;TZID=Europe/Berlin:20270617T100000
DTSTAMP:20260421T150622
CREATED:20250928T120126Z
LAST-MODIFIED:20250928T120126Z
UID:10028185-1813226400-1813226400@kalender.regensburg-digital.de
SUMMARY:Sofa-Ost Frühstückstreff im KfE*
DESCRIPTION:Sorry\, but you do not have permission to view this content.
URL:https://kalender.regensburg-digital.de/veranstaltung/sofa-ost-fruehstueckstreff-im-kfe/2027-06-17/
LOCATION:Kaufladen für Erwachsene\, Guerickestr. 71a\, Regensburg\, Bayern\, 93055\, Deutschland
CATEGORIES:Selbsthilfe
ATTACH;FMTTYPE=image/jpeg:https://kalender.regensburg-digital.de/wp-content/uploads/2025/09/547143176_122240895266219175_2656218367145284190_n-1.jpg
ORGANIZER;CN="Regensburger Soziale Initiativen e.V.":MAILTO:info@soziale-initiativen.de
END:VEVENT
BEGIN:VEVENT
DTSTART;TZID=Europe/Berlin:20270623T170000
DTEND;TZID=Europe/Berlin:20270623T183000
DTSTAMP:20260421T150622
CREATED:20230927T111207Z
LAST-MODIFIED:20230927T111207Z
UID:10011427-1813770000-1813775400@kalender.regensburg-digital.de
SUMMARY:Friedensgespräche Neupfarrplatz
DESCRIPTION:Sorry\, but you do not have permission to view this content.
URL:https://kalender.regensburg-digital.de/veranstaltung/friedensgespraeche-neupfarrplatz/2027-06-23/
LOCATION:Karavan-Denkmal\, Neupfarrplatz\, Regensburg\, 93047\, Deutschland
CATEGORIES:Diskussion
ORGANIZER;CN="Regensburger Soziale Initiativen e.V.":MAILTO:info@soziale-initiativen.de
END:VEVENT
BEGIN:VEVENT
DTSTART;TZID=Europe/Berlin:20270624T100000
DTEND;TZID=Europe/Berlin:20270624T100000
DTSTAMP:20260421T150622
CREATED:20250928T120126Z
LAST-MODIFIED:20250928T120126Z
UID:10028186-1813831200-1813831200@kalender.regensburg-digital.de
SUMMARY:Sofa-Ost Frühstückstreff im KfE*
DESCRIPTION:Sorry\, but you do not have permission to view this content.
URL:https://kalender.regensburg-digital.de/veranstaltung/sofa-ost-fruehstueckstreff-im-kfe/2027-06-24/
LOCATION:Kaufladen für Erwachsene\, Guerickestr. 71a\, Regensburg\, Bayern\, 93055\, Deutschland
CATEGORIES:Selbsthilfe
ATTACH;FMTTYPE=image/jpeg:https://kalender.regensburg-digital.de/wp-content/uploads/2025/09/547143176_122240895266219175_2656218367145284190_n-1.jpg
ORGANIZER;CN="Regensburger Soziale Initiativen e.V.":MAILTO:info@soziale-initiativen.de
END:VEVENT
BEGIN:VEVENT
DTSTART;TZID=Europe/Berlin:20270630T170000
DTEND;TZID=Europe/Berlin:20270630T183000
DTSTAMP:20260421T150622
CREATED:20230927T111207Z
LAST-MODIFIED:20230927T111207Z
UID:10011428-1814374800-1814380200@kalender.regensburg-digital.de
SUMMARY:Friedensgespräche Neupfarrplatz
DESCRIPTION:Sorry\, but you do not have permission to view this content.
URL:https://kalender.regensburg-digital.de/veranstaltung/friedensgespraeche-neupfarrplatz/2027-06-30/
LOCATION:Karavan-Denkmal\, Neupfarrplatz\, Regensburg\, 93047\, Deutschland
CATEGORIES:Diskussion
ORGANIZER;CN="Regensburger Soziale Initiativen e.V.":MAILTO:info@soziale-initiativen.de
END:VEVENT
BEGIN:VEVENT
DTSTART;TZID=Europe/Berlin:20270701T100000
DTEND;TZID=Europe/Berlin:20270701T100000
DTSTAMP:20260421T150622
CREATED:20250928T120126Z
LAST-MODIFIED:20250928T120126Z
UID:10028187-1814436000-1814436000@kalender.regensburg-digital.de
SUMMARY:Sofa-Ost Frühstückstreff im KfE*
DESCRIPTION:Sorry\, but you do not have permission to view this content.
URL:https://kalender.regensburg-digital.de/veranstaltung/sofa-ost-fruehstueckstreff-im-kfe/2027-07-01/
LOCATION:Kaufladen für Erwachsene\, Guerickestr. 71a\, Regensburg\, Bayern\, 93055\, Deutschland
CATEGORIES:Selbsthilfe
ATTACH;FMTTYPE=image/jpeg:https://kalender.regensburg-digital.de/wp-content/uploads/2025/09/547143176_122240895266219175_2656218367145284190_n-1.jpg
ORGANIZER;CN="Regensburger Soziale Initiativen e.V.":MAILTO:info@soziale-initiativen.de
END:VEVENT
BEGIN:VEVENT
DTSTART;TZID=Europe/Berlin:20270707T170000
DTEND;TZID=Europe/Berlin:20270707T183000
DTSTAMP:20260421T150622
CREATED:20230927T111207Z
LAST-MODIFIED:20230927T111207Z
UID:10011429-1814979600-1814985000@kalender.regensburg-digital.de
SUMMARY:Friedensgespräche Neupfarrplatz
DESCRIPTION:Sorry\, but you do not have permission to view this content.
URL:https://kalender.regensburg-digital.de/veranstaltung/friedensgespraeche-neupfarrplatz/2027-07-07/
LOCATION:Karavan-Denkmal\, Neupfarrplatz\, Regensburg\, 93047\, Deutschland
CATEGORIES:Diskussion
ORGANIZER;CN="Regensburger Soziale Initiativen e.V.":MAILTO:info@soziale-initiativen.de
END:VEVENT
BEGIN:VEVENT
DTSTART;TZID=Europe/Berlin:20270708T100000
DTEND;TZID=Europe/Berlin:20270708T100000
DTSTAMP:20260421T150622
CREATED:20250928T120126Z
LAST-MODIFIED:20250928T120126Z
UID:10028188-1815040800-1815040800@kalender.regensburg-digital.de
SUMMARY:Sofa-Ost Frühstückstreff im KfE*
DESCRIPTION:Sorry\, but you do not have permission to view this content.
URL:https://kalender.regensburg-digital.de/veranstaltung/sofa-ost-fruehstueckstreff-im-kfe/2027-07-08/
LOCATION:Kaufladen für Erwachsene\, Guerickestr. 71a\, Regensburg\, Bayern\, 93055\, Deutschland
CATEGORIES:Selbsthilfe
ATTACH;FMTTYPE=image/jpeg:https://kalender.regensburg-digital.de/wp-content/uploads/2025/09/547143176_122240895266219175_2656218367145284190_n-1.jpg
ORGANIZER;CN="Regensburger Soziale Initiativen e.V.":MAILTO:info@soziale-initiativen.de
END:VEVENT
BEGIN:VEVENT
DTSTART;TZID=Europe/Berlin:20270714T170000
DTEND;TZID=Europe/Berlin:20270714T183000
DTSTAMP:20260421T150622
CREATED:20230927T111207Z
LAST-MODIFIED:20230927T111207Z
UID:10011430-1815584400-1815589800@kalender.regensburg-digital.de
SUMMARY:Friedensgespräche Neupfarrplatz
DESCRIPTION:Sorry\, but you do not have permission to view this content.
URL:https://kalender.regensburg-digital.de/veranstaltung/friedensgespraeche-neupfarrplatz/2027-07-14/
LOCATION:Karavan-Denkmal\, Neupfarrplatz\, Regensburg\, 93047\, Deutschland
CATEGORIES:Diskussion
ORGANIZER;CN="Regensburger Soziale Initiativen e.V.":MAILTO:info@soziale-initiativen.de
END:VEVENT
BEGIN:VEVENT
DTSTART;TZID=Europe/Berlin:20270715T100000
DTEND;TZID=Europe/Berlin:20270715T100000
DTSTAMP:20260421T150622
CREATED:20250928T120126Z
LAST-MODIFIED:20250928T120126Z
UID:10028189-1815645600-1815645600@kalender.regensburg-digital.de
SUMMARY:Sofa-Ost Frühstückstreff im KfE*
DESCRIPTION:Sorry\, but you do not have permission to view this content.
URL:https://kalender.regensburg-digital.de/veranstaltung/sofa-ost-fruehstueckstreff-im-kfe/2027-07-15/
LOCATION:Kaufladen für Erwachsene\, Guerickestr. 71a\, Regensburg\, Bayern\, 93055\, Deutschland
CATEGORIES:Selbsthilfe
ATTACH;FMTTYPE=image/jpeg:https://kalender.regensburg-digital.de/wp-content/uploads/2025/09/547143176_122240895266219175_2656218367145284190_n-1.jpg
ORGANIZER;CN="Regensburger Soziale Initiativen e.V.":MAILTO:info@soziale-initiativen.de
END:VEVENT
BEGIN:VEVENT
DTSTART;TZID=Europe/Berlin:20270721T170000
DTEND;TZID=Europe/Berlin:20270721T183000
DTSTAMP:20260421T150622
CREATED:20230927T111207Z
LAST-MODIFIED:20230927T111207Z
UID:10011431-1816189200-1816194600@kalender.regensburg-digital.de
SUMMARY:Friedensgespräche Neupfarrplatz
DESCRIPTION:Sorry\, but you do not have permission to view this content.
URL:https://kalender.regensburg-digital.de/veranstaltung/friedensgespraeche-neupfarrplatz/2027-07-21/
LOCATION:Karavan-Denkmal\, Neupfarrplatz\, Regensburg\, 93047\, Deutschland
CATEGORIES:Diskussion
ORGANIZER;CN="Regensburger Soziale Initiativen e.V.":MAILTO:info@soziale-initiativen.de
END:VEVENT
BEGIN:VEVENT
DTSTART;TZID=Europe/Berlin:20270722T100000
DTEND;TZID=Europe/Berlin:20270722T100000
DTSTAMP:20260421T150622
CREATED:20250928T120126Z
LAST-MODIFIED:20250928T120126Z
UID:10028190-1816250400-1816250400@kalender.regensburg-digital.de
SUMMARY:Sofa-Ost Frühstückstreff im KfE*
DESCRIPTION:Sorry\, but you do not have permission to view this content.
URL:https://kalender.regensburg-digital.de/veranstaltung/sofa-ost-fruehstueckstreff-im-kfe/2027-07-22/
LOCATION:Kaufladen für Erwachsene\, Guerickestr. 71a\, Regensburg\, Bayern\, 93055\, Deutschland
CATEGORIES:Selbsthilfe
ATTACH;FMTTYPE=image/jpeg:https://kalender.regensburg-digital.de/wp-content/uploads/2025/09/547143176_122240895266219175_2656218367145284190_n-1.jpg
ORGANIZER;CN="Regensburger Soziale Initiativen e.V.":MAILTO:info@soziale-initiativen.de
END:VEVENT
BEGIN:VEVENT
DTSTART;TZID=Europe/Berlin:20270728T170000
DTEND;TZID=Europe/Berlin:20270728T183000
DTSTAMP:20260421T150622
CREATED:20230927T111207Z
LAST-MODIFIED:20230927T111207Z
UID:10011432-1816794000-1816799400@kalender.regensburg-digital.de
SUMMARY:Friedensgespräche Neupfarrplatz
DESCRIPTION:Sorry\, but you do not have permission to view this content.
URL:https://kalender.regensburg-digital.de/veranstaltung/friedensgespraeche-neupfarrplatz/2027-07-28/
LOCATION:Karavan-Denkmal\, Neupfarrplatz\, Regensburg\, 93047\, Deutschland
CATEGORIES:Diskussion
ORGANIZER;CN="Regensburger Soziale Initiativen e.V.":MAILTO:info@soziale-initiativen.de
END:VEVENT
BEGIN:VEVENT
DTSTART;TZID=Europe/Berlin:20270729T100000
DTEND;TZID=Europe/Berlin:20270729T100000
DTSTAMP:20260421T150622
CREATED:20250928T120126Z
LAST-MODIFIED:20250928T120126Z
UID:10028191-1816855200-1816855200@kalender.regensburg-digital.de
SUMMARY:Sofa-Ost Frühstückstreff im KfE*
DESCRIPTION:Sorry\, but you do not have permission to view this content.
URL:https://kalender.regensburg-digital.de/veranstaltung/sofa-ost-fruehstueckstreff-im-kfe/2027-07-29/
LOCATION:Kaufladen für Erwachsene\, Guerickestr. 71a\, Regensburg\, Bayern\, 93055\, Deutschland
CATEGORIES:Selbsthilfe
ATTACH;FMTTYPE=image/jpeg:https://kalender.regensburg-digital.de/wp-content/uploads/2025/09/547143176_122240895266219175_2656218367145284190_n-1.jpg
ORGANIZER;CN="Regensburger Soziale Initiativen e.V.":MAILTO:info@soziale-initiativen.de
END:VEVENT
BEGIN:VEVENT
DTSTART;TZID=Europe/Berlin:20270804T170000
DTEND;TZID=Europe/Berlin:20270804T183000
DTSTAMP:20260421T150622
CREATED:20230927T111207Z
LAST-MODIFIED:20230927T111207Z
UID:10011433-1817398800-1817404200@kalender.regensburg-digital.de
SUMMARY:Friedensgespräche Neupfarrplatz
DESCRIPTION:Sorry\, but you do not have permission to view this content.
URL:https://kalender.regensburg-digital.de/veranstaltung/friedensgespraeche-neupfarrplatz/2027-08-04/
LOCATION:Karavan-Denkmal\, Neupfarrplatz\, Regensburg\, 93047\, Deutschland
CATEGORIES:Diskussion
ORGANIZER;CN="Regensburger Soziale Initiativen e.V.":MAILTO:info@soziale-initiativen.de
END:VEVENT
BEGIN:VEVENT
DTSTART;TZID=Europe/Berlin:20270805T100000
DTEND;TZID=Europe/Berlin:20270805T100000
DTSTAMP:20260421T150622
CREATED:20250928T120126Z
LAST-MODIFIED:20250928T120126Z
UID:10028192-1817460000-1817460000@kalender.regensburg-digital.de
SUMMARY:Sofa-Ost Frühstückstreff im KfE*
DESCRIPTION:Sorry\, but you do not have permission to view this content.
URL:https://kalender.regensburg-digital.de/veranstaltung/sofa-ost-fruehstueckstreff-im-kfe/2027-08-05/
LOCATION:Kaufladen für Erwachsene\, Guerickestr. 71a\, Regensburg\, Bayern\, 93055\, Deutschland
CATEGORIES:Selbsthilfe
ATTACH;FMTTYPE=image/jpeg:https://kalender.regensburg-digital.de/wp-content/uploads/2025/09/547143176_122240895266219175_2656218367145284190_n-1.jpg
ORGANIZER;CN="Regensburger Soziale Initiativen e.V.":MAILTO:info@soziale-initiativen.de
END:VEVENT
BEGIN:VEVENT
DTSTART;TZID=Europe/Berlin:20270811T170000
DTEND;TZID=Europe/Berlin:20270811T183000
DTSTAMP:20260421T150622
CREATED:20230927T111207Z
LAST-MODIFIED:20230927T111207Z
UID:10011434-1818003600-1818009000@kalender.regensburg-digital.de
SUMMARY:Friedensgespräche Neupfarrplatz
DESCRIPTION:Sorry\, but you do not have permission to view this content.
URL:https://kalender.regensburg-digital.de/veranstaltung/friedensgespraeche-neupfarrplatz/2027-08-11/
LOCATION:Karavan-Denkmal\, Neupfarrplatz\, Regensburg\, 93047\, Deutschland
CATEGORIES:Diskussion
ORGANIZER;CN="Regensburger Soziale Initiativen e.V.":MAILTO:info@soziale-initiativen.de
END:VEVENT
BEGIN:VEVENT
DTSTART;TZID=Europe/Berlin:20270812T100000
DTEND;TZID=Europe/Berlin:20270812T100000
DTSTAMP:20260421T150622
CREATED:20250928T120126Z
LAST-MODIFIED:20250928T120126Z
UID:10028193-1818064800-1818064800@kalender.regensburg-digital.de
SUMMARY:Sofa-Ost Frühstückstreff im KfE*
DESCRIPTION:Sorry\, but you do not have permission to view this content.
URL:https://kalender.regensburg-digital.de/veranstaltung/sofa-ost-fruehstueckstreff-im-kfe/2027-08-12/
LOCATION:Kaufladen für Erwachsene\, Guerickestr. 71a\, Regensburg\, Bayern\, 93055\, Deutschland
CATEGORIES:Selbsthilfe
ATTACH;FMTTYPE=image/jpeg:https://kalender.regensburg-digital.de/wp-content/uploads/2025/09/547143176_122240895266219175_2656218367145284190_n-1.jpg
ORGANIZER;CN="Regensburger Soziale Initiativen e.V.":MAILTO:info@soziale-initiativen.de
END:VEVENT
END:VCALENDAR