BEGIN:VCALENDAR
VERSION:2.0
PRODID:-//Regensburg Digital Kalender - ECPv6.14.2//NONSGML v1.0//EN
CALSCALE:GREGORIAN
METHOD:PUBLISH
X-ORIGINAL-URL:https://kalender.regensburg-digital.de
X-WR-CALDESC:Veranstaltungen für Regensburg Digital Kalender
REFRESH-INTERVAL;VALUE=DURATION:PT1H
X-Robots-Tag:noindex
X-PUBLISHED-TTL:PT1H
BEGIN:VTIMEZONE
TZID:Europe/Berlin
BEGIN:DAYLIGHT
TZOFFSETFROM:+0100
TZOFFSETTO:+0200
TZNAME:CEST
DTSTART:20260329T010000
END:DAYLIGHT
BEGIN:STANDARD
TZOFFSETFROM:+0200
TZOFFSETTO:+0100
TZNAME:CET
DTSTART:20261025T010000
END:STANDARD
END:VTIMEZONE
BEGIN:VEVENT
DTSTART;TZID=Europe/Berlin:20260522T140000
DTEND;TZID=Europe/Berlin:20260525T170000
DTSTAMP:20260423T164646
CREATED:20260423T093217Z
LAST-MODIFIED:20260423T093217Z
UID:10091751-1779458400-1779728400@kalender.regensburg-digital.de
SUMMARY:Schalt Kreis Symposium
DESCRIPTION:Das Schalt Kreis Symposium vereint zum zweiten Mal vier Tage lang Bastler\, Künstlerinnen und Technikenthusiasten jeden Levels zu einem kreativen Austausch rund um Elektronik\, Kunst und Technologie. In unserem temporären Makerspace entstehen elektronische Instrumente\, kinetische Skulpturen und Lichtkunst-Experimente. Bring dein eigenes Projekt mit oder arbeite in Gruppen – hier ist Raum für experimentelles Erschaffen! Vorträge und Sessions mit lokalen und internationalen Gästen finden auch statt. Von Löten über Mikrocontroller-Programmierung bis zu digitaler Medienkunst – die Vielfalt kennt keine Grenzen. Neben dem intensiven Austausch bleibt Zeit zum gemeinsamen Kochen\, für Ausflüge und natürlich zum Feiern. Zum Abschluss der vier Tage präsentieren wir gemeinsam\, was entstanden ist\, und feiern zusammen.\n\nDas Symposium lebt vom Mitmachen! Du weißt oder kannst etwas Spannendes? Zeige es anderen und gestalte einen Workshop mit Gleichgesinnten. Hier zählt jeder Beitrag – vom Anfänger bis zum Profi. Gemeinsam erschaffen wir mehr als allein.\n\n 
URL:https://kalender.regensburg-digital.de/veranstaltung/schalt-kreis-symposium/
LOCATION:blinkyparts im Auweg\, Auweg 42a\, Regensburg\, 93055
CATEGORIES:Bildung
ORGANIZER;CN="blinkyparts":MAILTO:workshops@blinkyparts.com
END:VEVENT
END:VCALENDAR