BEGIN:VCALENDAR
VERSION:2.0
PRODID:-//Regensburg Digital Kalender - ECPv6.14.2//NONSGML v1.0//EN
CALSCALE:GREGORIAN
METHOD:PUBLISH
X-WR-CALNAME:Regensburg Digital Kalender
X-ORIGINAL-URL:https://kalender.regensburg-digital.de
X-WR-CALDESC:Veranstaltungen für Regensburg Digital Kalender
REFRESH-INTERVAL;VALUE=DURATION:PT1H
X-Robots-Tag:noindex
X-PUBLISHED-TTL:PT1H
BEGIN:VTIMEZONE
TZID:Europe/Berlin
BEGIN:DAYLIGHT
TZOFFSETFROM:+0100
TZOFFSETTO:+0200
TZNAME:CEST
DTSTART:20300331T010000
END:DAYLIGHT
BEGIN:STANDARD
TZOFFSETFROM:+0200
TZOFFSETTO:+0100
TZNAME:CET
DTSTART:20301027T010000
END:STANDARD
BEGIN:DAYLIGHT
TZOFFSETFROM:+0100
TZOFFSETTO:+0200
TZNAME:CEST
DTSTART:20310330T010000
END:DAYLIGHT
BEGIN:STANDARD
TZOFFSETFROM:+0200
TZOFFSETTO:+0100
TZNAME:CET
DTSTART:20311026T010000
END:STANDARD
END:VTIMEZONE
BEGIN:VEVENT
DTSTART;TZID=Europe/Berlin:20300612T170000
DTEND;TZID=Europe/Berlin:20300612T183000
DTSTAMP:20260422T012926
CREATED:20230927T111207Z
LAST-MODIFIED:20230927T111207Z
UID:10011582-1907514000-1907519400@kalender.regensburg-digital.de
SUMMARY:Friedensgespräche Neupfarrplatz
DESCRIPTION:Jeden Mittwoch 17-18.30 Uhr\n\nFriedensgespräche Neupfarrplatz zum Ukrainekrieg beim Karavan-Denkmal\n\nSoziale Initiativen und Unorganisierte
URL:https://kalender.regensburg-digital.de/veranstaltung/friedensgespraeche-neupfarrplatz/2030-06-12/
LOCATION:Karavan-Denkmal\, Neupfarrplatz\, Regensburg\, 93047\, Deutschland
CATEGORIES:Diskussion
ORGANIZER;CN="Regensburger Soziale Initiativen e.V.":MAILTO:info@soziale-initiativen.de
END:VEVENT
BEGIN:VEVENT
DTSTART;TZID=Europe/Berlin:20300619T170000
DTEND;TZID=Europe/Berlin:20300619T183000
DTSTAMP:20260422T012926
CREATED:20230927T111207Z
LAST-MODIFIED:20230927T111207Z
UID:10011583-1908118800-1908124200@kalender.regensburg-digital.de
SUMMARY:Friedensgespräche Neupfarrplatz
DESCRIPTION:Jeden Mittwoch 17-18.30 Uhr\n\nFriedensgespräche Neupfarrplatz zum Ukrainekrieg beim Karavan-Denkmal\n\nSoziale Initiativen und Unorganisierte
URL:https://kalender.regensburg-digital.de/veranstaltung/friedensgespraeche-neupfarrplatz/2030-06-19/
LOCATION:Karavan-Denkmal\, Neupfarrplatz\, Regensburg\, 93047\, Deutschland
CATEGORIES:Diskussion
ORGANIZER;CN="Regensburger Soziale Initiativen e.V.":MAILTO:info@soziale-initiativen.de
END:VEVENT
BEGIN:VEVENT
DTSTART;TZID=Europe/Berlin:20300626T170000
DTEND;TZID=Europe/Berlin:20300626T183000
DTSTAMP:20260422T012926
CREATED:20230927T111207Z
LAST-MODIFIED:20230927T111207Z
UID:10011584-1908723600-1908729000@kalender.regensburg-digital.de
SUMMARY:Friedensgespräche Neupfarrplatz
DESCRIPTION:Jeden Mittwoch 17-18.30 Uhr\n\nFriedensgespräche Neupfarrplatz zum Ukrainekrieg beim Karavan-Denkmal\n\nSoziale Initiativen und Unorganisierte
URL:https://kalender.regensburg-digital.de/veranstaltung/friedensgespraeche-neupfarrplatz/2030-06-26/
LOCATION:Karavan-Denkmal\, Neupfarrplatz\, Regensburg\, 93047\, Deutschland
CATEGORIES:Diskussion
ORGANIZER;CN="Regensburger Soziale Initiativen e.V.":MAILTO:info@soziale-initiativen.de
END:VEVENT
BEGIN:VEVENT
DTSTART;TZID=Europe/Berlin:20300703T170000
DTEND;TZID=Europe/Berlin:20300703T183000
DTSTAMP:20260422T012926
CREATED:20230927T111207Z
LAST-MODIFIED:20230927T111207Z
UID:10011585-1909328400-1909333800@kalender.regensburg-digital.de
SUMMARY:Friedensgespräche Neupfarrplatz
DESCRIPTION:Jeden Mittwoch 17-18.30 Uhr\n\nFriedensgespräche Neupfarrplatz zum Ukrainekrieg beim Karavan-Denkmal\n\nSoziale Initiativen und Unorganisierte
URL:https://kalender.regensburg-digital.de/veranstaltung/friedensgespraeche-neupfarrplatz/2030-07-03/
LOCATION:Karavan-Denkmal\, Neupfarrplatz\, Regensburg\, 93047\, Deutschland
CATEGORIES:Diskussion
ORGANIZER;CN="Regensburger Soziale Initiativen e.V.":MAILTO:info@soziale-initiativen.de
END:VEVENT
BEGIN:VEVENT
DTSTART;TZID=Europe/Berlin:20300710T170000
DTEND;TZID=Europe/Berlin:20300710T183000
DTSTAMP:20260422T012926
CREATED:20230927T111207Z
LAST-MODIFIED:20230927T111207Z
UID:10011586-1909933200-1909938600@kalender.regensburg-digital.de
SUMMARY:Friedensgespräche Neupfarrplatz
DESCRIPTION:Jeden Mittwoch 17-18.30 Uhr\n\nFriedensgespräche Neupfarrplatz zum Ukrainekrieg beim Karavan-Denkmal\n\nSoziale Initiativen und Unorganisierte
URL:https://kalender.regensburg-digital.de/veranstaltung/friedensgespraeche-neupfarrplatz/2030-07-10/
LOCATION:Karavan-Denkmal\, Neupfarrplatz\, Regensburg\, 93047\, Deutschland
CATEGORIES:Diskussion
ORGANIZER;CN="Regensburger Soziale Initiativen e.V.":MAILTO:info@soziale-initiativen.de
END:VEVENT
BEGIN:VEVENT
DTSTART;TZID=Europe/Berlin:20300717T170000
DTEND;TZID=Europe/Berlin:20300717T183000
DTSTAMP:20260422T012926
CREATED:20230927T111207Z
LAST-MODIFIED:20230927T111207Z
UID:10011587-1910538000-1910543400@kalender.regensburg-digital.de
SUMMARY:Friedensgespräche Neupfarrplatz
DESCRIPTION:Jeden Mittwoch 17-18.30 Uhr\n\nFriedensgespräche Neupfarrplatz zum Ukrainekrieg beim Karavan-Denkmal\n\nSoziale Initiativen und Unorganisierte
URL:https://kalender.regensburg-digital.de/veranstaltung/friedensgespraeche-neupfarrplatz/2030-07-17/
LOCATION:Karavan-Denkmal\, Neupfarrplatz\, Regensburg\, 93047\, Deutschland
CATEGORIES:Diskussion
ORGANIZER;CN="Regensburger Soziale Initiativen e.V.":MAILTO:info@soziale-initiativen.de
END:VEVENT
BEGIN:VEVENT
DTSTART;TZID=Europe/Berlin:20300724T170000
DTEND;TZID=Europe/Berlin:20300724T183000
DTSTAMP:20260422T012926
CREATED:20230927T111207Z
LAST-MODIFIED:20230927T111207Z
UID:10011588-1911142800-1911148200@kalender.regensburg-digital.de
SUMMARY:Friedensgespräche Neupfarrplatz
DESCRIPTION:Jeden Mittwoch 17-18.30 Uhr\n\nFriedensgespräche Neupfarrplatz zum Ukrainekrieg beim Karavan-Denkmal\n\nSoziale Initiativen und Unorganisierte
URL:https://kalender.regensburg-digital.de/veranstaltung/friedensgespraeche-neupfarrplatz/2030-07-24/
LOCATION:Karavan-Denkmal\, Neupfarrplatz\, Regensburg\, 93047\, Deutschland
CATEGORIES:Diskussion
ORGANIZER;CN="Regensburger Soziale Initiativen e.V.":MAILTO:info@soziale-initiativen.de
END:VEVENT
BEGIN:VEVENT
DTSTART;TZID=Europe/Berlin:20300731T170000
DTEND;TZID=Europe/Berlin:20300731T183000
DTSTAMP:20260422T012926
CREATED:20230927T111207Z
LAST-MODIFIED:20230927T111207Z
UID:10011589-1911747600-1911753000@kalender.regensburg-digital.de
SUMMARY:Friedensgespräche Neupfarrplatz
DESCRIPTION:Jeden Mittwoch 17-18.30 Uhr\n\nFriedensgespräche Neupfarrplatz zum Ukrainekrieg beim Karavan-Denkmal\n\nSoziale Initiativen und Unorganisierte
URL:https://kalender.regensburg-digital.de/veranstaltung/friedensgespraeche-neupfarrplatz/2030-07-31/
LOCATION:Karavan-Denkmal\, Neupfarrplatz\, Regensburg\, 93047\, Deutschland
CATEGORIES:Diskussion
ORGANIZER;CN="Regensburger Soziale Initiativen e.V.":MAILTO:info@soziale-initiativen.de
END:VEVENT
BEGIN:VEVENT
DTSTART;TZID=Europe/Berlin:20300807T170000
DTEND;TZID=Europe/Berlin:20300807T183000
DTSTAMP:20260422T012926
CREATED:20230927T111207Z
LAST-MODIFIED:20230927T111207Z
UID:10011590-1912352400-1912357800@kalender.regensburg-digital.de
SUMMARY:Friedensgespräche Neupfarrplatz
DESCRIPTION:Jeden Mittwoch 17-18.30 Uhr\n\nFriedensgespräche Neupfarrplatz zum Ukrainekrieg beim Karavan-Denkmal\n\nSoziale Initiativen und Unorganisierte
URL:https://kalender.regensburg-digital.de/veranstaltung/friedensgespraeche-neupfarrplatz/2030-08-07/
LOCATION:Karavan-Denkmal\, Neupfarrplatz\, Regensburg\, 93047\, Deutschland
CATEGORIES:Diskussion
ORGANIZER;CN="Regensburger Soziale Initiativen e.V.":MAILTO:info@soziale-initiativen.de
END:VEVENT
BEGIN:VEVENT
DTSTART;TZID=Europe/Berlin:20300814T170000
DTEND;TZID=Europe/Berlin:20300814T183000
DTSTAMP:20260422T012926
CREATED:20230927T111207Z
LAST-MODIFIED:20230927T111207Z
UID:10012084-1912957200-1912962600@kalender.regensburg-digital.de
SUMMARY:Friedensgespräche Neupfarrplatz
DESCRIPTION:Jeden Mittwoch 17-18.30 Uhr\n\nFriedensgespräche Neupfarrplatz zum Ukrainekrieg beim Karavan-Denkmal\n\nSoziale Initiativen und Unorganisierte
URL:https://kalender.regensburg-digital.de/veranstaltung/friedensgespraeche-neupfarrplatz/2030-08-14/
LOCATION:Karavan-Denkmal\, Neupfarrplatz\, Regensburg\, 93047\, Deutschland
CATEGORIES:Diskussion
ORGANIZER;CN="Regensburger Soziale Initiativen e.V.":MAILTO:info@soziale-initiativen.de
END:VEVENT
BEGIN:VEVENT
DTSTART;TZID=Europe/Berlin:20300821T170000
DTEND;TZID=Europe/Berlin:20300821T183000
DTSTAMP:20260422T012926
CREATED:20230927T111207Z
LAST-MODIFIED:20230927T111207Z
UID:10015125-1913562000-1913567400@kalender.regensburg-digital.de
SUMMARY:Friedensgespräche Neupfarrplatz
DESCRIPTION:Jeden Mittwoch 17-18.30 Uhr\n\nFriedensgespräche Neupfarrplatz zum Ukrainekrieg beim Karavan-Denkmal\n\nSoziale Initiativen und Unorganisierte
URL:https://kalender.regensburg-digital.de/veranstaltung/friedensgespraeche-neupfarrplatz/2030-08-21/
LOCATION:Karavan-Denkmal\, Neupfarrplatz\, Regensburg\, 93047\, Deutschland
CATEGORIES:Diskussion
ORGANIZER;CN="Regensburger Soziale Initiativen e.V.":MAILTO:info@soziale-initiativen.de
END:VEVENT
BEGIN:VEVENT
DTSTART;TZID=Europe/Berlin:20300828T170000
DTEND;TZID=Europe/Berlin:20300828T183000
DTSTAMP:20260422T012926
CREATED:20230927T111207Z
LAST-MODIFIED:20230927T111207Z
UID:10017175-1914166800-1914172200@kalender.regensburg-digital.de
SUMMARY:Friedensgespräche Neupfarrplatz
DESCRIPTION:Jeden Mittwoch 17-18.30 Uhr\n\nFriedensgespräche Neupfarrplatz zum Ukrainekrieg beim Karavan-Denkmal\n\nSoziale Initiativen und Unorganisierte
URL:https://kalender.regensburg-digital.de/veranstaltung/friedensgespraeche-neupfarrplatz/2030-08-28/
LOCATION:Karavan-Denkmal\, Neupfarrplatz\, Regensburg\, 93047\, Deutschland
CATEGORIES:Diskussion
ORGANIZER;CN="Regensburger Soziale Initiativen e.V.":MAILTO:info@soziale-initiativen.de
END:VEVENT
BEGIN:VEVENT
DTSTART;TZID=Europe/Berlin:20300904T170000
DTEND;TZID=Europe/Berlin:20300904T183000
DTSTAMP:20260422T012926
CREATED:20230927T111207Z
LAST-MODIFIED:20230927T111207Z
UID:10020071-1914771600-1914777000@kalender.regensburg-digital.de
SUMMARY:Friedensgespräche Neupfarrplatz
DESCRIPTION:Jeden Mittwoch 17-18.30 Uhr\n\nFriedensgespräche Neupfarrplatz zum Ukrainekrieg beim Karavan-Denkmal\n\nSoziale Initiativen und Unorganisierte
URL:https://kalender.regensburg-digital.de/veranstaltung/friedensgespraeche-neupfarrplatz/2030-09-04/
LOCATION:Karavan-Denkmal\, Neupfarrplatz\, Regensburg\, 93047\, Deutschland
CATEGORIES:Diskussion
ORGANIZER;CN="Regensburger Soziale Initiativen e.V.":MAILTO:info@soziale-initiativen.de
END:VEVENT
BEGIN:VEVENT
DTSTART;TZID=Europe/Berlin:20300911T170000
DTEND;TZID=Europe/Berlin:20300911T183000
DTSTAMP:20260422T012926
CREATED:20230927T111207Z
LAST-MODIFIED:20230927T111207Z
UID:10022883-1915376400-1915381800@kalender.regensburg-digital.de
SUMMARY:Friedensgespräche Neupfarrplatz
DESCRIPTION:Jeden Mittwoch 17-18.30 Uhr\n\nFriedensgespräche Neupfarrplatz zum Ukrainekrieg beim Karavan-Denkmal\n\nSoziale Initiativen und Unorganisierte
URL:https://kalender.regensburg-digital.de/veranstaltung/friedensgespraeche-neupfarrplatz/2030-09-11/
LOCATION:Karavan-Denkmal\, Neupfarrplatz\, Regensburg\, 93047\, Deutschland
CATEGORIES:Diskussion
ORGANIZER;CN="Regensburger Soziale Initiativen e.V.":MAILTO:info@soziale-initiativen.de
END:VEVENT
BEGIN:VEVENT
DTSTART;TZID=Europe/Berlin:20300918T170000
DTEND;TZID=Europe/Berlin:20300918T183000
DTSTAMP:20260422T012926
CREATED:20230927T111207Z
LAST-MODIFIED:20230927T111207Z
UID:10025262-1915981200-1915986600@kalender.regensburg-digital.de
SUMMARY:Friedensgespräche Neupfarrplatz
DESCRIPTION:Jeden Mittwoch 17-18.30 Uhr\n\nFriedensgespräche Neupfarrplatz zum Ukrainekrieg beim Karavan-Denkmal\n\nSoziale Initiativen und Unorganisierte
URL:https://kalender.regensburg-digital.de/veranstaltung/friedensgespraeche-neupfarrplatz/2030-09-18/
LOCATION:Karavan-Denkmal\, Neupfarrplatz\, Regensburg\, 93047\, Deutschland
CATEGORIES:Diskussion
ORGANIZER;CN="Regensburger Soziale Initiativen e.V.":MAILTO:info@soziale-initiativen.de
END:VEVENT
BEGIN:VEVENT
DTSTART;TZID=Europe/Berlin:20300925T170000
DTEND;TZID=Europe/Berlin:20300925T183000
DTSTAMP:20260422T012926
CREATED:20230927T111207Z
LAST-MODIFIED:20230927T111207Z
UID:10027109-1916586000-1916591400@kalender.regensburg-digital.de
SUMMARY:Friedensgespräche Neupfarrplatz
DESCRIPTION:Jeden Mittwoch 17-18.30 Uhr\n\nFriedensgespräche Neupfarrplatz zum Ukrainekrieg beim Karavan-Denkmal\n\nSoziale Initiativen und Unorganisierte
URL:https://kalender.regensburg-digital.de/veranstaltung/friedensgespraeche-neupfarrplatz/2030-09-25/
LOCATION:Karavan-Denkmal\, Neupfarrplatz\, Regensburg\, 93047\, Deutschland
CATEGORIES:Diskussion
ORGANIZER;CN="Regensburger Soziale Initiativen e.V.":MAILTO:info@soziale-initiativen.de
END:VEVENT
BEGIN:VEVENT
DTSTART;TZID=Europe/Berlin:20301002T170000
DTEND;TZID=Europe/Berlin:20301002T183000
DTSTAMP:20260422T012926
CREATED:20230927T111207Z
LAST-MODIFIED:20230927T111207Z
UID:10032675-1917190800-1917196200@kalender.regensburg-digital.de
SUMMARY:Friedensgespräche Neupfarrplatz
DESCRIPTION:Jeden Mittwoch 17-18.30 Uhr\n\nFriedensgespräche Neupfarrplatz zum Ukrainekrieg beim Karavan-Denkmal\n\nSoziale Initiativen und Unorganisierte
URL:https://kalender.regensburg-digital.de/veranstaltung/friedensgespraeche-neupfarrplatz/2030-10-02/
LOCATION:Karavan-Denkmal\, Neupfarrplatz\, Regensburg\, 93047\, Deutschland
CATEGORIES:Diskussion
ORGANIZER;CN="Regensburger Soziale Initiativen e.V.":MAILTO:info@soziale-initiativen.de
END:VEVENT
BEGIN:VEVENT
DTSTART;TZID=Europe/Berlin:20301009T170000
DTEND;TZID=Europe/Berlin:20301009T183000
DTSTAMP:20260422T012926
CREATED:20230927T111207Z
LAST-MODIFIED:20230927T111207Z
UID:10035201-1917795600-1917801000@kalender.regensburg-digital.de
SUMMARY:Friedensgespräche Neupfarrplatz
DESCRIPTION:Jeden Mittwoch 17-18.30 Uhr\n\nFriedensgespräche Neupfarrplatz zum Ukrainekrieg beim Karavan-Denkmal\n\nSoziale Initiativen und Unorganisierte
URL:https://kalender.regensburg-digital.de/veranstaltung/friedensgespraeche-neupfarrplatz/2030-10-09/
LOCATION:Karavan-Denkmal\, Neupfarrplatz\, Regensburg\, 93047\, Deutschland
CATEGORIES:Diskussion
ORGANIZER;CN="Regensburger Soziale Initiativen e.V.":MAILTO:info@soziale-initiativen.de
END:VEVENT
BEGIN:VEVENT
DTSTART;TZID=Europe/Berlin:20301016T170000
DTEND;TZID=Europe/Berlin:20301016T183000
DTSTAMP:20260422T012926
CREATED:20230927T111207Z
LAST-MODIFIED:20230927T111207Z
UID:10037220-1918400400-1918405800@kalender.regensburg-digital.de
SUMMARY:Friedensgespräche Neupfarrplatz
DESCRIPTION:Jeden Mittwoch 17-18.30 Uhr\n\nFriedensgespräche Neupfarrplatz zum Ukrainekrieg beim Karavan-Denkmal\n\nSoziale Initiativen und Unorganisierte
URL:https://kalender.regensburg-digital.de/veranstaltung/friedensgespraeche-neupfarrplatz/2030-10-16/
LOCATION:Karavan-Denkmal\, Neupfarrplatz\, Regensburg\, 93047\, Deutschland
CATEGORIES:Diskussion
ORGANIZER;CN="Regensburger Soziale Initiativen e.V.":MAILTO:info@soziale-initiativen.de
END:VEVENT
BEGIN:VEVENT
DTSTART;TZID=Europe/Berlin:20301023T170000
DTEND;TZID=Europe/Berlin:20301023T183000
DTSTAMP:20260422T012926
CREATED:20230927T111207Z
LAST-MODIFIED:20230927T111207Z
UID:10039305-1919005200-1919010600@kalender.regensburg-digital.de
SUMMARY:Friedensgespräche Neupfarrplatz
DESCRIPTION:Jeden Mittwoch 17-18.30 Uhr\n\nFriedensgespräche Neupfarrplatz zum Ukrainekrieg beim Karavan-Denkmal\n\nSoziale Initiativen und Unorganisierte
URL:https://kalender.regensburg-digital.de/veranstaltung/friedensgespraeche-neupfarrplatz/2030-10-23/
LOCATION:Karavan-Denkmal\, Neupfarrplatz\, Regensburg\, 93047\, Deutschland
CATEGORIES:Diskussion
ORGANIZER;CN="Regensburger Soziale Initiativen e.V.":MAILTO:info@soziale-initiativen.de
END:VEVENT
BEGIN:VEVENT
DTSTART;TZID=Europe/Berlin:20301030T170000
DTEND;TZID=Europe/Berlin:20301030T183000
DTSTAMP:20260422T012926
CREATED:20230927T111207Z
LAST-MODIFIED:20230927T111207Z
UID:10041749-1919610000-1919615400@kalender.regensburg-digital.de
SUMMARY:Friedensgespräche Neupfarrplatz
DESCRIPTION:Jeden Mittwoch 17-18.30 Uhr\n\nFriedensgespräche Neupfarrplatz zum Ukrainekrieg beim Karavan-Denkmal\n\nSoziale Initiativen und Unorganisierte
URL:https://kalender.regensburg-digital.de/veranstaltung/friedensgespraeche-neupfarrplatz/2030-10-30/
LOCATION:Karavan-Denkmal\, Neupfarrplatz\, Regensburg\, 93047\, Deutschland
CATEGORIES:Diskussion
ORGANIZER;CN="Regensburger Soziale Initiativen e.V.":MAILTO:info@soziale-initiativen.de
END:VEVENT
BEGIN:VEVENT
DTSTART;TZID=Europe/Berlin:20301106T170000
DTEND;TZID=Europe/Berlin:20301106T183000
DTSTAMP:20260422T012926
CREATED:20230927T111207Z
LAST-MODIFIED:20230927T111207Z
UID:10046026-1920214800-1920220200@kalender.regensburg-digital.de
SUMMARY:Friedensgespräche Neupfarrplatz
DESCRIPTION:Jeden Mittwoch 17-18.30 Uhr\n\nFriedensgespräche Neupfarrplatz zum Ukrainekrieg beim Karavan-Denkmal\n\nSoziale Initiativen und Unorganisierte
URL:https://kalender.regensburg-digital.de/veranstaltung/friedensgespraeche-neupfarrplatz/2030-11-06/
LOCATION:Karavan-Denkmal\, Neupfarrplatz\, Regensburg\, 93047\, Deutschland
CATEGORIES:Diskussion
ORGANIZER;CN="Regensburger Soziale Initiativen e.V.":MAILTO:info@soziale-initiativen.de
END:VEVENT
BEGIN:VEVENT
DTSTART;TZID=Europe/Berlin:20301113T170000
DTEND;TZID=Europe/Berlin:20301113T183000
DTSTAMP:20260422T012926
CREATED:20230927T111207Z
LAST-MODIFIED:20230927T111207Z
UID:10048507-1920819600-1920825000@kalender.regensburg-digital.de
SUMMARY:Friedensgespräche Neupfarrplatz
DESCRIPTION:Jeden Mittwoch 17-18.30 Uhr\n\nFriedensgespräche Neupfarrplatz zum Ukrainekrieg beim Karavan-Denkmal\n\nSoziale Initiativen und Unorganisierte
URL:https://kalender.regensburg-digital.de/veranstaltung/friedensgespraeche-neupfarrplatz/2030-11-13/
LOCATION:Karavan-Denkmal\, Neupfarrplatz\, Regensburg\, 93047\, Deutschland
CATEGORIES:Diskussion
ORGANIZER;CN="Regensburger Soziale Initiativen e.V.":MAILTO:info@soziale-initiativen.de
END:VEVENT
BEGIN:VEVENT
DTSTART;TZID=Europe/Berlin:20301120T170000
DTEND;TZID=Europe/Berlin:20301120T183000
DTSTAMP:20260422T012926
CREATED:20230927T111207Z
LAST-MODIFIED:20230927T111207Z
UID:10051831-1921424400-1921429800@kalender.regensburg-digital.de
SUMMARY:Friedensgespräche Neupfarrplatz
DESCRIPTION:Jeden Mittwoch 17-18.30 Uhr\n\nFriedensgespräche Neupfarrplatz zum Ukrainekrieg beim Karavan-Denkmal\n\nSoziale Initiativen und Unorganisierte
URL:https://kalender.regensburg-digital.de/veranstaltung/friedensgespraeche-neupfarrplatz/2030-11-20/
LOCATION:Karavan-Denkmal\, Neupfarrplatz\, Regensburg\, 93047\, Deutschland
CATEGORIES:Diskussion
ORGANIZER;CN="Regensburger Soziale Initiativen e.V.":MAILTO:info@soziale-initiativen.de
END:VEVENT
BEGIN:VEVENT
DTSTART;TZID=Europe/Berlin:20301127T170000
DTEND;TZID=Europe/Berlin:20301127T183000
DTSTAMP:20260422T012926
CREATED:20230927T111207Z
LAST-MODIFIED:20230927T111207Z
UID:10053986-1922029200-1922034600@kalender.regensburg-digital.de
SUMMARY:Friedensgespräche Neupfarrplatz
DESCRIPTION:Jeden Mittwoch 17-18.30 Uhr\n\nFriedensgespräche Neupfarrplatz zum Ukrainekrieg beim Karavan-Denkmal\n\nSoziale Initiativen und Unorganisierte
URL:https://kalender.regensburg-digital.de/veranstaltung/friedensgespraeche-neupfarrplatz/2030-11-27/
LOCATION:Karavan-Denkmal\, Neupfarrplatz\, Regensburg\, 93047\, Deutschland
CATEGORIES:Diskussion
ORGANIZER;CN="Regensburger Soziale Initiativen e.V.":MAILTO:info@soziale-initiativen.de
END:VEVENT
BEGIN:VEVENT
DTSTART;TZID=Europe/Berlin:20301204T170000
DTEND;TZID=Europe/Berlin:20301204T183000
DTSTAMP:20260422T012926
CREATED:20230927T111207Z
LAST-MODIFIED:20230927T111207Z
UID:10056128-1922634000-1922639400@kalender.regensburg-digital.de
SUMMARY:Friedensgespräche Neupfarrplatz
DESCRIPTION:Jeden Mittwoch 17-18.30 Uhr\n\nFriedensgespräche Neupfarrplatz zum Ukrainekrieg beim Karavan-Denkmal\n\nSoziale Initiativen und Unorganisierte
URL:https://kalender.regensburg-digital.de/veranstaltung/friedensgespraeche-neupfarrplatz/2030-12-04/
LOCATION:Karavan-Denkmal\, Neupfarrplatz\, Regensburg\, 93047\, Deutschland
CATEGORIES:Diskussion
ORGANIZER;CN="Regensburger Soziale Initiativen e.V.":MAILTO:info@soziale-initiativen.de
END:VEVENT
BEGIN:VEVENT
DTSTART;TZID=Europe/Berlin:20301211T170000
DTEND;TZID=Europe/Berlin:20301211T183000
DTSTAMP:20260422T012926
CREATED:20230927T111207Z
LAST-MODIFIED:20230927T111207Z
UID:10058153-1923238800-1923244200@kalender.regensburg-digital.de
SUMMARY:Friedensgespräche Neupfarrplatz
DESCRIPTION:Jeden Mittwoch 17-18.30 Uhr\n\nFriedensgespräche Neupfarrplatz zum Ukrainekrieg beim Karavan-Denkmal\n\nSoziale Initiativen und Unorganisierte
URL:https://kalender.regensburg-digital.de/veranstaltung/friedensgespraeche-neupfarrplatz/2030-12-11/
LOCATION:Karavan-Denkmal\, Neupfarrplatz\, Regensburg\, 93047\, Deutschland
CATEGORIES:Diskussion
ORGANIZER;CN="Regensburger Soziale Initiativen e.V.":MAILTO:info@soziale-initiativen.de
END:VEVENT
BEGIN:VEVENT
DTSTART;TZID=Europe/Berlin:20301218T170000
DTEND;TZID=Europe/Berlin:20301218T183000
DTSTAMP:20260422T012926
CREATED:20230927T111207Z
LAST-MODIFIED:20230927T111207Z
UID:10059641-1923843600-1923849000@kalender.regensburg-digital.de
SUMMARY:Friedensgespräche Neupfarrplatz
DESCRIPTION:Jeden Mittwoch 17-18.30 Uhr\n\nFriedensgespräche Neupfarrplatz zum Ukrainekrieg beim Karavan-Denkmal\n\nSoziale Initiativen und Unorganisierte
URL:https://kalender.regensburg-digital.de/veranstaltung/friedensgespraeche-neupfarrplatz/2030-12-18/
LOCATION:Karavan-Denkmal\, Neupfarrplatz\, Regensburg\, 93047\, Deutschland
CATEGORIES:Diskussion
ORGANIZER;CN="Regensburger Soziale Initiativen e.V.":MAILTO:info@soziale-initiativen.de
END:VEVENT
BEGIN:VEVENT
DTSTART;TZID=Europe/Berlin:20301225T170000
DTEND;TZID=Europe/Berlin:20301225T183000
DTSTAMP:20260422T012926
CREATED:20230927T111207Z
LAST-MODIFIED:20230927T111207Z
UID:10061360-1924448400-1924453800@kalender.regensburg-digital.de
SUMMARY:Friedensgespräche Neupfarrplatz
DESCRIPTION:Jeden Mittwoch 17-18.30 Uhr\n\nFriedensgespräche Neupfarrplatz zum Ukrainekrieg beim Karavan-Denkmal\n\nSoziale Initiativen und Unorganisierte
URL:https://kalender.regensburg-digital.de/veranstaltung/friedensgespraeche-neupfarrplatz/2030-12-25/
LOCATION:Karavan-Denkmal\, Neupfarrplatz\, Regensburg\, 93047\, Deutschland
CATEGORIES:Diskussion
ORGANIZER;CN="Regensburger Soziale Initiativen e.V.":MAILTO:info@soziale-initiativen.de
END:VEVENT
BEGIN:VEVENT
DTSTART;TZID=Europe/Berlin:20310101T170000
DTEND;TZID=Europe/Berlin:20310101T183000
DTSTAMP:20260422T012926
CREATED:20230927T111207Z
LAST-MODIFIED:20230927T111207Z
UID:10063691-1925053200-1925058600@kalender.regensburg-digital.de
SUMMARY:Friedensgespräche Neupfarrplatz
DESCRIPTION:Jeden Mittwoch 17-18.30 Uhr\n\nFriedensgespräche Neupfarrplatz zum Ukrainekrieg beim Karavan-Denkmal\n\nSoziale Initiativen und Unorganisierte
URL:https://kalender.regensburg-digital.de/veranstaltung/friedensgespraeche-neupfarrplatz/2031-01-01/
LOCATION:Karavan-Denkmal\, Neupfarrplatz\, Regensburg\, 93047\, Deutschland
CATEGORIES:Diskussion
ORGANIZER;CN="Regensburger Soziale Initiativen e.V.":MAILTO:info@soziale-initiativen.de
END:VEVENT
END:VCALENDAR