BEGIN:VCALENDAR
VERSION:2.0
PRODID:-//Regensburg Digital Kalender - ECPv6.14.2//NONSGML v1.0//EN
CALSCALE:GREGORIAN
METHOD:PUBLISH
X-ORIGINAL-URL:https://kalender.regensburg-digital.de
X-WR-CALDESC:Veranstaltungen für Regensburg Digital Kalender
REFRESH-INTERVAL;VALUE=DURATION:PT1H
X-Robots-Tag:noindex
X-PUBLISHED-TTL:PT1H
BEGIN:VTIMEZONE
TZID:Europe/Berlin
BEGIN:DAYLIGHT
TZOFFSETFROM:+0100
TZOFFSETTO:+0200
TZNAME:CEST
DTSTART:20300331T010000
END:DAYLIGHT
BEGIN:STANDARD
TZOFFSETFROM:+0200
TZOFFSETTO:+0100
TZNAME:CET
DTSTART:20301027T010000
END:STANDARD
BEGIN:DAYLIGHT
TZOFFSETFROM:+0100
TZOFFSETTO:+0200
TZNAME:CEST
DTSTART:20310330T010000
END:DAYLIGHT
BEGIN:STANDARD
TZOFFSETFROM:+0200
TZOFFSETTO:+0100
TZNAME:CET
DTSTART:20311026T010000
END:STANDARD
END:VTIMEZONE
BEGIN:VEVENT
DTSTART;TZID=Europe/Berlin:20301016T170000
DTEND;TZID=Europe/Berlin:20301016T183000
DTSTAMP:20260422T030822
CREATED:20230927T111207Z
LAST-MODIFIED:20230927T111207Z
UID:10037220-1918400400-1918405800@kalender.regensburg-digital.de
SUMMARY:Friedensgespräche Neupfarrplatz
DESCRIPTION:Jeden Mittwoch 17-18.30 Uhr\n\nFriedensgespräche Neupfarrplatz zum Ukrainekrieg beim Karavan-Denkmal\n\nSoziale Initiativen und Unorganisierte
URL:https://kalender.regensburg-digital.de/veranstaltung/friedensgespraeche-neupfarrplatz/2030-10-16/
LOCATION:Karavan-Denkmal\, Neupfarrplatz\, Regensburg\, 93047\, Deutschland
CATEGORIES:Diskussion
ORGANIZER;CN="Regensburger Soziale Initiativen e.V.":MAILTO:info@soziale-initiativen.de
END:VEVENT
BEGIN:VEVENT
DTSTART;TZID=Europe/Berlin:20301023T170000
DTEND;TZID=Europe/Berlin:20301023T183000
DTSTAMP:20260422T030822
CREATED:20230927T111207Z
LAST-MODIFIED:20230927T111207Z
UID:10039305-1919005200-1919010600@kalender.regensburg-digital.de
SUMMARY:Friedensgespräche Neupfarrplatz
DESCRIPTION:Jeden Mittwoch 17-18.30 Uhr\n\nFriedensgespräche Neupfarrplatz zum Ukrainekrieg beim Karavan-Denkmal\n\nSoziale Initiativen und Unorganisierte
URL:https://kalender.regensburg-digital.de/veranstaltung/friedensgespraeche-neupfarrplatz/2030-10-23/
LOCATION:Karavan-Denkmal\, Neupfarrplatz\, Regensburg\, 93047\, Deutschland
CATEGORIES:Diskussion
ORGANIZER;CN="Regensburger Soziale Initiativen e.V.":MAILTO:info@soziale-initiativen.de
END:VEVENT
BEGIN:VEVENT
DTSTART;TZID=Europe/Berlin:20301030T170000
DTEND;TZID=Europe/Berlin:20301030T183000
DTSTAMP:20260422T030822
CREATED:20230927T111207Z
LAST-MODIFIED:20230927T111207Z
UID:10041749-1919610000-1919615400@kalender.regensburg-digital.de
SUMMARY:Friedensgespräche Neupfarrplatz
DESCRIPTION:Jeden Mittwoch 17-18.30 Uhr\n\nFriedensgespräche Neupfarrplatz zum Ukrainekrieg beim Karavan-Denkmal\n\nSoziale Initiativen und Unorganisierte
URL:https://kalender.regensburg-digital.de/veranstaltung/friedensgespraeche-neupfarrplatz/2030-10-30/
LOCATION:Karavan-Denkmal\, Neupfarrplatz\, Regensburg\, 93047\, Deutschland
CATEGORIES:Diskussion
ORGANIZER;CN="Regensburger Soziale Initiativen e.V.":MAILTO:info@soziale-initiativen.de
END:VEVENT
BEGIN:VEVENT
DTSTART;TZID=Europe/Berlin:20301106T170000
DTEND;TZID=Europe/Berlin:20301106T183000
DTSTAMP:20260422T030822
CREATED:20230927T111207Z
LAST-MODIFIED:20230927T111207Z
UID:10046026-1920214800-1920220200@kalender.regensburg-digital.de
SUMMARY:Friedensgespräche Neupfarrplatz
DESCRIPTION:Jeden Mittwoch 17-18.30 Uhr\n\nFriedensgespräche Neupfarrplatz zum Ukrainekrieg beim Karavan-Denkmal\n\nSoziale Initiativen und Unorganisierte
URL:https://kalender.regensburg-digital.de/veranstaltung/friedensgespraeche-neupfarrplatz/2030-11-06/
LOCATION:Karavan-Denkmal\, Neupfarrplatz\, Regensburg\, 93047\, Deutschland
CATEGORIES:Diskussion
ORGANIZER;CN="Regensburger Soziale Initiativen e.V.":MAILTO:info@soziale-initiativen.de
END:VEVENT
BEGIN:VEVENT
DTSTART;TZID=Europe/Berlin:20301113T170000
DTEND;TZID=Europe/Berlin:20301113T183000
DTSTAMP:20260422T030822
CREATED:20230927T111207Z
LAST-MODIFIED:20230927T111207Z
UID:10048507-1920819600-1920825000@kalender.regensburg-digital.de
SUMMARY:Friedensgespräche Neupfarrplatz
DESCRIPTION:Jeden Mittwoch 17-18.30 Uhr\n\nFriedensgespräche Neupfarrplatz zum Ukrainekrieg beim Karavan-Denkmal\n\nSoziale Initiativen und Unorganisierte
URL:https://kalender.regensburg-digital.de/veranstaltung/friedensgespraeche-neupfarrplatz/2030-11-13/
LOCATION:Karavan-Denkmal\, Neupfarrplatz\, Regensburg\, 93047\, Deutschland
CATEGORIES:Diskussion
ORGANIZER;CN="Regensburger Soziale Initiativen e.V.":MAILTO:info@soziale-initiativen.de
END:VEVENT
BEGIN:VEVENT
DTSTART;TZID=Europe/Berlin:20301120T170000
DTEND;TZID=Europe/Berlin:20301120T183000
DTSTAMP:20260422T030822
CREATED:20230927T111207Z
LAST-MODIFIED:20230927T111207Z
UID:10051831-1921424400-1921429800@kalender.regensburg-digital.de
SUMMARY:Friedensgespräche Neupfarrplatz
DESCRIPTION:Jeden Mittwoch 17-18.30 Uhr\n\nFriedensgespräche Neupfarrplatz zum Ukrainekrieg beim Karavan-Denkmal\n\nSoziale Initiativen und Unorganisierte
URL:https://kalender.regensburg-digital.de/veranstaltung/friedensgespraeche-neupfarrplatz/2030-11-20/
LOCATION:Karavan-Denkmal\, Neupfarrplatz\, Regensburg\, 93047\, Deutschland
CATEGORIES:Diskussion
ORGANIZER;CN="Regensburger Soziale Initiativen e.V.":MAILTO:info@soziale-initiativen.de
END:VEVENT
BEGIN:VEVENT
DTSTART;TZID=Europe/Berlin:20301127T170000
DTEND;TZID=Europe/Berlin:20301127T183000
DTSTAMP:20260422T030822
CREATED:20230927T111207Z
LAST-MODIFIED:20230927T111207Z
UID:10053986-1922029200-1922034600@kalender.regensburg-digital.de
SUMMARY:Friedensgespräche Neupfarrplatz
DESCRIPTION:Jeden Mittwoch 17-18.30 Uhr\n\nFriedensgespräche Neupfarrplatz zum Ukrainekrieg beim Karavan-Denkmal\n\nSoziale Initiativen und Unorganisierte
URL:https://kalender.regensburg-digital.de/veranstaltung/friedensgespraeche-neupfarrplatz/2030-11-27/
LOCATION:Karavan-Denkmal\, Neupfarrplatz\, Regensburg\, 93047\, Deutschland
CATEGORIES:Diskussion
ORGANIZER;CN="Regensburger Soziale Initiativen e.V.":MAILTO:info@soziale-initiativen.de
END:VEVENT
BEGIN:VEVENT
DTSTART;TZID=Europe/Berlin:20301204T170000
DTEND;TZID=Europe/Berlin:20301204T183000
DTSTAMP:20260422T030822
CREATED:20230927T111207Z
LAST-MODIFIED:20230927T111207Z
UID:10056128-1922634000-1922639400@kalender.regensburg-digital.de
SUMMARY:Friedensgespräche Neupfarrplatz
DESCRIPTION:Jeden Mittwoch 17-18.30 Uhr\n\nFriedensgespräche Neupfarrplatz zum Ukrainekrieg beim Karavan-Denkmal\n\nSoziale Initiativen und Unorganisierte
URL:https://kalender.regensburg-digital.de/veranstaltung/friedensgespraeche-neupfarrplatz/2030-12-04/
LOCATION:Karavan-Denkmal\, Neupfarrplatz\, Regensburg\, 93047\, Deutschland
CATEGORIES:Diskussion
ORGANIZER;CN="Regensburger Soziale Initiativen e.V.":MAILTO:info@soziale-initiativen.de
END:VEVENT
BEGIN:VEVENT
DTSTART;TZID=Europe/Berlin:20301211T170000
DTEND;TZID=Europe/Berlin:20301211T183000
DTSTAMP:20260422T030822
CREATED:20230927T111207Z
LAST-MODIFIED:20230927T111207Z
UID:10058153-1923238800-1923244200@kalender.regensburg-digital.de
SUMMARY:Friedensgespräche Neupfarrplatz
DESCRIPTION:Jeden Mittwoch 17-18.30 Uhr\n\nFriedensgespräche Neupfarrplatz zum Ukrainekrieg beim Karavan-Denkmal\n\nSoziale Initiativen und Unorganisierte
URL:https://kalender.regensburg-digital.de/veranstaltung/friedensgespraeche-neupfarrplatz/2030-12-11/
LOCATION:Karavan-Denkmal\, Neupfarrplatz\, Regensburg\, 93047\, Deutschland
CATEGORIES:Diskussion
ORGANIZER;CN="Regensburger Soziale Initiativen e.V.":MAILTO:info@soziale-initiativen.de
END:VEVENT
BEGIN:VEVENT
DTSTART;TZID=Europe/Berlin:20301218T170000
DTEND;TZID=Europe/Berlin:20301218T183000
DTSTAMP:20260422T030822
CREATED:20230927T111207Z
LAST-MODIFIED:20230927T111207Z
UID:10059641-1923843600-1923849000@kalender.regensburg-digital.de
SUMMARY:Friedensgespräche Neupfarrplatz
DESCRIPTION:Jeden Mittwoch 17-18.30 Uhr\n\nFriedensgespräche Neupfarrplatz zum Ukrainekrieg beim Karavan-Denkmal\n\nSoziale Initiativen und Unorganisierte
URL:https://kalender.regensburg-digital.de/veranstaltung/friedensgespraeche-neupfarrplatz/2030-12-18/
LOCATION:Karavan-Denkmal\, Neupfarrplatz\, Regensburg\, 93047\, Deutschland
CATEGORIES:Diskussion
ORGANIZER;CN="Regensburger Soziale Initiativen e.V.":MAILTO:info@soziale-initiativen.de
END:VEVENT
BEGIN:VEVENT
DTSTART;TZID=Europe/Berlin:20301225T170000
DTEND;TZID=Europe/Berlin:20301225T183000
DTSTAMP:20260422T030822
CREATED:20230927T111207Z
LAST-MODIFIED:20230927T111207Z
UID:10061360-1924448400-1924453800@kalender.regensburg-digital.de
SUMMARY:Friedensgespräche Neupfarrplatz
DESCRIPTION:Jeden Mittwoch 17-18.30 Uhr\n\nFriedensgespräche Neupfarrplatz zum Ukrainekrieg beim Karavan-Denkmal\n\nSoziale Initiativen und Unorganisierte
URL:https://kalender.regensburg-digital.de/veranstaltung/friedensgespraeche-neupfarrplatz/2030-12-25/
LOCATION:Karavan-Denkmal\, Neupfarrplatz\, Regensburg\, 93047\, Deutschland
CATEGORIES:Diskussion
ORGANIZER;CN="Regensburger Soziale Initiativen e.V.":MAILTO:info@soziale-initiativen.de
END:VEVENT
BEGIN:VEVENT
DTSTART;TZID=Europe/Berlin:20310101T170000
DTEND;TZID=Europe/Berlin:20310101T183000
DTSTAMP:20260422T030822
CREATED:20230927T111207Z
LAST-MODIFIED:20230927T111207Z
UID:10063691-1925053200-1925058600@kalender.regensburg-digital.de
SUMMARY:Friedensgespräche Neupfarrplatz
DESCRIPTION:Jeden Mittwoch 17-18.30 Uhr\n\nFriedensgespräche Neupfarrplatz zum Ukrainekrieg beim Karavan-Denkmal\n\nSoziale Initiativen und Unorganisierte
URL:https://kalender.regensburg-digital.de/veranstaltung/friedensgespraeche-neupfarrplatz/2031-01-01/
LOCATION:Karavan-Denkmal\, Neupfarrplatz\, Regensburg\, 93047\, Deutschland
CATEGORIES:Diskussion
ORGANIZER;CN="Regensburger Soziale Initiativen e.V.":MAILTO:info@soziale-initiativen.de
END:VEVENT
BEGIN:VEVENT
DTSTART;TZID=Europe/Berlin:20310108T170000
DTEND;TZID=Europe/Berlin:20310108T183000
DTSTAMP:20260422T030822
CREATED:20230927T111207Z
LAST-MODIFIED:20230927T111207Z
UID:10065877-1925658000-1925663400@kalender.regensburg-digital.de
SUMMARY:Friedensgespräche Neupfarrplatz
DESCRIPTION:Jeden Mittwoch 17-18.30 Uhr\n\nFriedensgespräche Neupfarrplatz zum Ukrainekrieg beim Karavan-Denkmal\n\nSoziale Initiativen und Unorganisierte
URL:https://kalender.regensburg-digital.de/veranstaltung/friedensgespraeche-neupfarrplatz/2031-01-08/
LOCATION:Karavan-Denkmal\, Neupfarrplatz\, Regensburg\, 93047\, Deutschland
CATEGORIES:Diskussion
ORGANIZER;CN="Regensburger Soziale Initiativen e.V.":MAILTO:info@soziale-initiativen.de
END:VEVENT
BEGIN:VEVENT
DTSTART;TZID=Europe/Berlin:20310115T170000
DTEND;TZID=Europe/Berlin:20310115T183000
DTSTAMP:20260422T030822
CREATED:20230927T111207Z
LAST-MODIFIED:20230927T111207Z
UID:10067818-1926262800-1926268200@kalender.regensburg-digital.de
SUMMARY:Friedensgespräche Neupfarrplatz
DESCRIPTION:Jeden Mittwoch 17-18.30 Uhr\n\nFriedensgespräche Neupfarrplatz zum Ukrainekrieg beim Karavan-Denkmal\n\nSoziale Initiativen und Unorganisierte
URL:https://kalender.regensburg-digital.de/veranstaltung/friedensgespraeche-neupfarrplatz/2031-01-15/
LOCATION:Karavan-Denkmal\, Neupfarrplatz\, Regensburg\, 93047\, Deutschland
CATEGORIES:Diskussion
ORGANIZER;CN="Regensburger Soziale Initiativen e.V.":MAILTO:info@soziale-initiativen.de
END:VEVENT
BEGIN:VEVENT
DTSTART;TZID=Europe/Berlin:20310122T170000
DTEND;TZID=Europe/Berlin:20310122T183000
DTSTAMP:20260422T030822
CREATED:20230927T111207Z
LAST-MODIFIED:20230927T111207Z
UID:10069549-1926867600-1926873000@kalender.regensburg-digital.de
SUMMARY:Friedensgespräche Neupfarrplatz
DESCRIPTION:Jeden Mittwoch 17-18.30 Uhr\n\nFriedensgespräche Neupfarrplatz zum Ukrainekrieg beim Karavan-Denkmal\n\nSoziale Initiativen und Unorganisierte
URL:https://kalender.regensburg-digital.de/veranstaltung/friedensgespraeche-neupfarrplatz/2031-01-22/
LOCATION:Karavan-Denkmal\, Neupfarrplatz\, Regensburg\, 93047\, Deutschland
CATEGORIES:Diskussion
ORGANIZER;CN="Regensburger Soziale Initiativen e.V.":MAILTO:info@soziale-initiativen.de
END:VEVENT
BEGIN:VEVENT
DTSTART;TZID=Europe/Berlin:20310129T170000
DTEND;TZID=Europe/Berlin:20310129T183000
DTSTAMP:20260422T030822
CREATED:20230927T111207Z
LAST-MODIFIED:20230927T111207Z
UID:10071458-1927472400-1927477800@kalender.regensburg-digital.de
SUMMARY:Friedensgespräche Neupfarrplatz
DESCRIPTION:Jeden Mittwoch 17-18.30 Uhr\n\nFriedensgespräche Neupfarrplatz zum Ukrainekrieg beim Karavan-Denkmal\n\nSoziale Initiativen und Unorganisierte
URL:https://kalender.regensburg-digital.de/veranstaltung/friedensgespraeche-neupfarrplatz/2031-01-29/
LOCATION:Karavan-Denkmal\, Neupfarrplatz\, Regensburg\, 93047\, Deutschland
CATEGORIES:Diskussion
ORGANIZER;CN="Regensburger Soziale Initiativen e.V.":MAILTO:info@soziale-initiativen.de
END:VEVENT
BEGIN:VEVENT
DTSTART;TZID=Europe/Berlin:20310205T170000
DTEND;TZID=Europe/Berlin:20310205T183000
DTSTAMP:20260422T030822
CREATED:20230927T111207Z
LAST-MODIFIED:20230927T111207Z
UID:10072967-1928077200-1928082600@kalender.regensburg-digital.de
SUMMARY:Friedensgespräche Neupfarrplatz
DESCRIPTION:Jeden Mittwoch 17-18.30 Uhr\n\nFriedensgespräche Neupfarrplatz zum Ukrainekrieg beim Karavan-Denkmal\n\nSoziale Initiativen und Unorganisierte
URL:https://kalender.regensburg-digital.de/veranstaltung/friedensgespraeche-neupfarrplatz/2031-02-05/
LOCATION:Karavan-Denkmal\, Neupfarrplatz\, Regensburg\, 93047\, Deutschland
CATEGORIES:Diskussion
ORGANIZER;CN="Regensburger Soziale Initiativen e.V.":MAILTO:info@soziale-initiativen.de
END:VEVENT
BEGIN:VEVENT
DTSTART;TZID=Europe/Berlin:20310212T170000
DTEND;TZID=Europe/Berlin:20310212T183000
DTSTAMP:20260422T030822
CREATED:20230927T111207Z
LAST-MODIFIED:20230927T111207Z
UID:10075070-1928682000-1928687400@kalender.regensburg-digital.de
SUMMARY:Friedensgespräche Neupfarrplatz
DESCRIPTION:Jeden Mittwoch 17-18.30 Uhr\n\nFriedensgespräche Neupfarrplatz zum Ukrainekrieg beim Karavan-Denkmal\n\nSoziale Initiativen und Unorganisierte
URL:https://kalender.regensburg-digital.de/veranstaltung/friedensgespraeche-neupfarrplatz/2031-02-12/
LOCATION:Karavan-Denkmal\, Neupfarrplatz\, Regensburg\, 93047\, Deutschland
CATEGORIES:Diskussion
ORGANIZER;CN="Regensburger Soziale Initiativen e.V.":MAILTO:info@soziale-initiativen.de
END:VEVENT
BEGIN:VEVENT
DTSTART;TZID=Europe/Berlin:20310219T170000
DTEND;TZID=Europe/Berlin:20310219T183000
DTSTAMP:20260422T030822
CREATED:20230927T111207Z
LAST-MODIFIED:20230927T111207Z
UID:10076458-1929286800-1929292200@kalender.regensburg-digital.de
SUMMARY:Friedensgespräche Neupfarrplatz
DESCRIPTION:Jeden Mittwoch 17-18.30 Uhr\n\nFriedensgespräche Neupfarrplatz zum Ukrainekrieg beim Karavan-Denkmal\n\nSoziale Initiativen und Unorganisierte
URL:https://kalender.regensburg-digital.de/veranstaltung/friedensgespraeche-neupfarrplatz/2031-02-19/
LOCATION:Karavan-Denkmal\, Neupfarrplatz\, Regensburg\, 93047\, Deutschland
CATEGORIES:Diskussion
ORGANIZER;CN="Regensburger Soziale Initiativen e.V.":MAILTO:info@soziale-initiativen.de
END:VEVENT
BEGIN:VEVENT
DTSTART;TZID=Europe/Berlin:20310226T170000
DTEND;TZID=Europe/Berlin:20310226T183000
DTSTAMP:20260422T030822
CREATED:20230927T111207Z
LAST-MODIFIED:20230927T111207Z
UID:10079370-1929891600-1929897000@kalender.regensburg-digital.de
SUMMARY:Friedensgespräche Neupfarrplatz
DESCRIPTION:Jeden Mittwoch 17-18.30 Uhr\n\nFriedensgespräche Neupfarrplatz zum Ukrainekrieg beim Karavan-Denkmal\n\nSoziale Initiativen und Unorganisierte
URL:https://kalender.regensburg-digital.de/veranstaltung/friedensgespraeche-neupfarrplatz/2031-02-26/
LOCATION:Karavan-Denkmal\, Neupfarrplatz\, Regensburg\, 93047\, Deutschland
CATEGORIES:Diskussion
ORGANIZER;CN="Regensburger Soziale Initiativen e.V.":MAILTO:info@soziale-initiativen.de
END:VEVENT
BEGIN:VEVENT
DTSTART;TZID=Europe/Berlin:20310305T170000
DTEND;TZID=Europe/Berlin:20310305T183000
DTSTAMP:20260422T030822
CREATED:20230927T111207Z
LAST-MODIFIED:20230927T111207Z
UID:10080479-1930496400-1930501800@kalender.regensburg-digital.de
SUMMARY:Friedensgespräche Neupfarrplatz
DESCRIPTION:Jeden Mittwoch 17-18.30 Uhr\n\nFriedensgespräche Neupfarrplatz zum Ukrainekrieg beim Karavan-Denkmal\n\nSoziale Initiativen und Unorganisierte
URL:https://kalender.regensburg-digital.de/veranstaltung/friedensgespraeche-neupfarrplatz/2031-03-05/
LOCATION:Karavan-Denkmal\, Neupfarrplatz\, Regensburg\, 93047\, Deutschland
CATEGORIES:Diskussion
ORGANIZER;CN="Regensburger Soziale Initiativen e.V.":MAILTO:info@soziale-initiativen.de
END:VEVENT
BEGIN:VEVENT
DTSTART;TZID=Europe/Berlin:20310312T170000
DTEND;TZID=Europe/Berlin:20310312T183000
DTSTAMP:20260422T030822
CREATED:20230927T111207Z
LAST-MODIFIED:20230927T111207Z
UID:10083426-1931101200-1931106600@kalender.regensburg-digital.de
SUMMARY:Friedensgespräche Neupfarrplatz
DESCRIPTION:Jeden Mittwoch 17-18.30 Uhr\n\nFriedensgespräche Neupfarrplatz zum Ukrainekrieg beim Karavan-Denkmal\n\nSoziale Initiativen und Unorganisierte
URL:https://kalender.regensburg-digital.de/veranstaltung/friedensgespraeche-neupfarrplatz/2031-03-12/
LOCATION:Karavan-Denkmal\, Neupfarrplatz\, Regensburg\, 93047\, Deutschland
CATEGORIES:Diskussion
ORGANIZER;CN="Regensburger Soziale Initiativen e.V.":MAILTO:info@soziale-initiativen.de
END:VEVENT
BEGIN:VEVENT
DTSTART;TZID=Europe/Berlin:20310319T170000
DTEND;TZID=Europe/Berlin:20310319T183000
DTSTAMP:20260422T030822
CREATED:20230927T111207Z
LAST-MODIFIED:20230927T111207Z
UID:10084678-1931706000-1931711400@kalender.regensburg-digital.de
SUMMARY:Friedensgespräche Neupfarrplatz
DESCRIPTION:Jeden Mittwoch 17-18.30 Uhr\n\nFriedensgespräche Neupfarrplatz zum Ukrainekrieg beim Karavan-Denkmal\n\nSoziale Initiativen und Unorganisierte
URL:https://kalender.regensburg-digital.de/veranstaltung/friedensgespraeche-neupfarrplatz/2031-03-19/
LOCATION:Karavan-Denkmal\, Neupfarrplatz\, Regensburg\, 93047\, Deutschland
CATEGORIES:Diskussion
ORGANIZER;CN="Regensburger Soziale Initiativen e.V.":MAILTO:info@soziale-initiativen.de
END:VEVENT
BEGIN:VEVENT
DTSTART;TZID=Europe/Berlin:20310326T170000
DTEND;TZID=Europe/Berlin:20310326T183000
DTSTAMP:20260422T030822
CREATED:20230927T111207Z
LAST-MODIFIED:20230927T111207Z
UID:10086727-1932310800-1932316200@kalender.regensburg-digital.de
SUMMARY:Friedensgespräche Neupfarrplatz
DESCRIPTION:Jeden Mittwoch 17-18.30 Uhr\n\nFriedensgespräche Neupfarrplatz zum Ukrainekrieg beim Karavan-Denkmal\n\nSoziale Initiativen und Unorganisierte
URL:https://kalender.regensburg-digital.de/veranstaltung/friedensgespraeche-neupfarrplatz/2031-03-26/
LOCATION:Karavan-Denkmal\, Neupfarrplatz\, Regensburg\, 93047\, Deutschland
CATEGORIES:Diskussion
ORGANIZER;CN="Regensburger Soziale Initiativen e.V.":MAILTO:info@soziale-initiativen.de
END:VEVENT
BEGIN:VEVENT
DTSTART;TZID=Europe/Berlin:20310402T170000
DTEND;TZID=Europe/Berlin:20310402T183000
DTSTAMP:20260422T030822
CREATED:20230927T111207Z
LAST-MODIFIED:20230927T111207Z
UID:10088346-1932915600-1932921000@kalender.regensburg-digital.de
SUMMARY:Friedensgespräche Neupfarrplatz
DESCRIPTION:Jeden Mittwoch 17-18.30 Uhr\n\nFriedensgespräche Neupfarrplatz zum Ukrainekrieg beim Karavan-Denkmal\n\nSoziale Initiativen und Unorganisierte
URL:https://kalender.regensburg-digital.de/veranstaltung/friedensgespraeche-neupfarrplatz/2031-04-02/
LOCATION:Karavan-Denkmal\, Neupfarrplatz\, Regensburg\, 93047\, Deutschland
CATEGORIES:Diskussion
ORGANIZER;CN="Regensburger Soziale Initiativen e.V.":MAILTO:info@soziale-initiativen.de
END:VEVENT
BEGIN:VEVENT
DTSTART;TZID=Europe/Berlin:20310409T170000
DTEND;TZID=Europe/Berlin:20310409T183000
DTSTAMP:20260422T030822
CREATED:20230927T111207Z
LAST-MODIFIED:20230927T111207Z
UID:10089756-1933520400-1933525800@kalender.regensburg-digital.de
SUMMARY:Friedensgespräche Neupfarrplatz
DESCRIPTION:Jeden Mittwoch 17-18.30 Uhr\n\nFriedensgespräche Neupfarrplatz zum Ukrainekrieg beim Karavan-Denkmal\n\nSoziale Initiativen und Unorganisierte
URL:https://kalender.regensburg-digital.de/veranstaltung/friedensgespraeche-neupfarrplatz/2031-04-09/
LOCATION:Karavan-Denkmal\, Neupfarrplatz\, Regensburg\, 93047\, Deutschland
CATEGORIES:Diskussion
ORGANIZER;CN="Regensburger Soziale Initiativen e.V.":MAILTO:info@soziale-initiativen.de
END:VEVENT
END:VCALENDAR