BEGIN:VCALENDAR
VERSION:2.0
PRODID:-//Regensburg Digital Kalender - ECPv6.14.2//NONSGML v1.0//EN
CALSCALE:GREGORIAN
METHOD:PUBLISH
X-WR-CALNAME:Regensburg Digital Kalender
X-ORIGINAL-URL:https://kalender.regensburg-digital.de
X-WR-CALDESC:Veranstaltungen für Regensburg Digital Kalender
REFRESH-INTERVAL;VALUE=DURATION:PT1H
X-Robots-Tag:noindex
X-PUBLISHED-TTL:PT1H
BEGIN:VTIMEZONE
TZID:Europe/Berlin
BEGIN:DAYLIGHT
TZOFFSETFROM:+0100
TZOFFSETTO:+0200
TZNAME:CEST
DTSTART:20280326T010000
END:DAYLIGHT
BEGIN:STANDARD
TZOFFSETFROM:+0200
TZOFFSETTO:+0100
TZNAME:CET
DTSTART:20281029T010000
END:STANDARD
END:VTIMEZONE
BEGIN:VEVENT
DTSTART;TZID=Europe/Berlin:20280517T170000
DTEND;TZID=Europe/Berlin:20280517T183000
DTSTAMP:20260421T163226
CREATED:20230927T111207Z
LAST-MODIFIED:20230927T111207Z
UID:10011474-1842195600-1842201000@kalender.regensburg-digital.de
SUMMARY:Friedensgespräche Neupfarrplatz
DESCRIPTION:Jeden Mittwoch 17-18.30 Uhr\n\nFriedensgespräche Neupfarrplatz zum Ukrainekrieg beim Karavan-Denkmal\n\nSoziale Initiativen und Unorganisierte
URL:https://kalender.regensburg-digital.de/veranstaltung/friedensgespraeche-neupfarrplatz/2028-05-17/
LOCATION:Karavan-Denkmal\, Neupfarrplatz\, Regensburg\, 93047\, Deutschland
CATEGORIES:Diskussion
ORGANIZER;CN="Regensburger Soziale Initiativen e.V.":MAILTO:info@soziale-initiativen.de
END:VEVENT
BEGIN:VEVENT
DTSTART;TZID=Europe/Berlin:20280524T170000
DTEND;TZID=Europe/Berlin:20280524T183000
DTSTAMP:20260421T163226
CREATED:20230927T111207Z
LAST-MODIFIED:20230927T111207Z
UID:10011475-1842800400-1842805800@kalender.regensburg-digital.de
SUMMARY:Friedensgespräche Neupfarrplatz
DESCRIPTION:Jeden Mittwoch 17-18.30 Uhr\n\nFriedensgespräche Neupfarrplatz zum Ukrainekrieg beim Karavan-Denkmal\n\nSoziale Initiativen und Unorganisierte
URL:https://kalender.regensburg-digital.de/veranstaltung/friedensgespraeche-neupfarrplatz/2028-05-24/
LOCATION:Karavan-Denkmal\, Neupfarrplatz\, Regensburg\, 93047\, Deutschland
CATEGORIES:Diskussion
ORGANIZER;CN="Regensburger Soziale Initiativen e.V.":MAILTO:info@soziale-initiativen.de
END:VEVENT
BEGIN:VEVENT
DTSTART;TZID=Europe/Berlin:20280531T170000
DTEND;TZID=Europe/Berlin:20280531T183000
DTSTAMP:20260421T163226
CREATED:20230927T111207Z
LAST-MODIFIED:20230927T111207Z
UID:10011476-1843405200-1843410600@kalender.regensburg-digital.de
SUMMARY:Friedensgespräche Neupfarrplatz
DESCRIPTION:Jeden Mittwoch 17-18.30 Uhr\n\nFriedensgespräche Neupfarrplatz zum Ukrainekrieg beim Karavan-Denkmal\n\nSoziale Initiativen und Unorganisierte
URL:https://kalender.regensburg-digital.de/veranstaltung/friedensgespraeche-neupfarrplatz/2028-05-31/
LOCATION:Karavan-Denkmal\, Neupfarrplatz\, Regensburg\, 93047\, Deutschland
CATEGORIES:Diskussion
ORGANIZER;CN="Regensburger Soziale Initiativen e.V.":MAILTO:info@soziale-initiativen.de
END:VEVENT
BEGIN:VEVENT
DTSTART;TZID=Europe/Berlin:20280607T170000
DTEND;TZID=Europe/Berlin:20280607T183000
DTSTAMP:20260421T163226
CREATED:20230927T111207Z
LAST-MODIFIED:20230927T111207Z
UID:10011477-1844010000-1844015400@kalender.regensburg-digital.de
SUMMARY:Friedensgespräche Neupfarrplatz
DESCRIPTION:Jeden Mittwoch 17-18.30 Uhr\n\nFriedensgespräche Neupfarrplatz zum Ukrainekrieg beim Karavan-Denkmal\n\nSoziale Initiativen und Unorganisierte
URL:https://kalender.regensburg-digital.de/veranstaltung/friedensgespraeche-neupfarrplatz/2028-06-07/
LOCATION:Karavan-Denkmal\, Neupfarrplatz\, Regensburg\, 93047\, Deutschland
CATEGORIES:Diskussion
ORGANIZER;CN="Regensburger Soziale Initiativen e.V.":MAILTO:info@soziale-initiativen.de
END:VEVENT
BEGIN:VEVENT
DTSTART;TZID=Europe/Berlin:20280614T170000
DTEND;TZID=Europe/Berlin:20280614T183000
DTSTAMP:20260421T163226
CREATED:20230927T111207Z
LAST-MODIFIED:20230927T111207Z
UID:10011478-1844614800-1844620200@kalender.regensburg-digital.de
SUMMARY:Friedensgespräche Neupfarrplatz
DESCRIPTION:Jeden Mittwoch 17-18.30 Uhr\n\nFriedensgespräche Neupfarrplatz zum Ukrainekrieg beim Karavan-Denkmal\n\nSoziale Initiativen und Unorganisierte
URL:https://kalender.regensburg-digital.de/veranstaltung/friedensgespraeche-neupfarrplatz/2028-06-14/
LOCATION:Karavan-Denkmal\, Neupfarrplatz\, Regensburg\, 93047\, Deutschland
CATEGORIES:Diskussion
ORGANIZER;CN="Regensburger Soziale Initiativen e.V.":MAILTO:info@soziale-initiativen.de
END:VEVENT
BEGIN:VEVENT
DTSTART;TZID=Europe/Berlin:20280621T170000
DTEND;TZID=Europe/Berlin:20280621T183000
DTSTAMP:20260421T163226
CREATED:20230927T111207Z
LAST-MODIFIED:20230927T111207Z
UID:10011479-1845219600-1845225000@kalender.regensburg-digital.de
SUMMARY:Friedensgespräche Neupfarrplatz
DESCRIPTION:Jeden Mittwoch 17-18.30 Uhr\n\nFriedensgespräche Neupfarrplatz zum Ukrainekrieg beim Karavan-Denkmal\n\nSoziale Initiativen und Unorganisierte
URL:https://kalender.regensburg-digital.de/veranstaltung/friedensgespraeche-neupfarrplatz/2028-06-21/
LOCATION:Karavan-Denkmal\, Neupfarrplatz\, Regensburg\, 93047\, Deutschland
CATEGORIES:Diskussion
ORGANIZER;CN="Regensburger Soziale Initiativen e.V.":MAILTO:info@soziale-initiativen.de
END:VEVENT
BEGIN:VEVENT
DTSTART;TZID=Europe/Berlin:20280628T170000
DTEND;TZID=Europe/Berlin:20280628T183000
DTSTAMP:20260421T163226
CREATED:20230927T111207Z
LAST-MODIFIED:20230927T111207Z
UID:10011480-1845824400-1845829800@kalender.regensburg-digital.de
SUMMARY:Friedensgespräche Neupfarrplatz
DESCRIPTION:Jeden Mittwoch 17-18.30 Uhr\n\nFriedensgespräche Neupfarrplatz zum Ukrainekrieg beim Karavan-Denkmal\n\nSoziale Initiativen und Unorganisierte
URL:https://kalender.regensburg-digital.de/veranstaltung/friedensgespraeche-neupfarrplatz/2028-06-28/
LOCATION:Karavan-Denkmal\, Neupfarrplatz\, Regensburg\, 93047\, Deutschland
CATEGORIES:Diskussion
ORGANIZER;CN="Regensburger Soziale Initiativen e.V.":MAILTO:info@soziale-initiativen.de
END:VEVENT
BEGIN:VEVENT
DTSTART;TZID=Europe/Berlin:20280705T170000
DTEND;TZID=Europe/Berlin:20280705T183000
DTSTAMP:20260421T163226
CREATED:20230927T111207Z
LAST-MODIFIED:20230927T111207Z
UID:10011481-1846429200-1846434600@kalender.regensburg-digital.de
SUMMARY:Friedensgespräche Neupfarrplatz
DESCRIPTION:Jeden Mittwoch 17-18.30 Uhr\n\nFriedensgespräche Neupfarrplatz zum Ukrainekrieg beim Karavan-Denkmal\n\nSoziale Initiativen und Unorganisierte
URL:https://kalender.regensburg-digital.de/veranstaltung/friedensgespraeche-neupfarrplatz/2028-07-05/
LOCATION:Karavan-Denkmal\, Neupfarrplatz\, Regensburg\, 93047\, Deutschland
CATEGORIES:Diskussion
ORGANIZER;CN="Regensburger Soziale Initiativen e.V.":MAILTO:info@soziale-initiativen.de
END:VEVENT
BEGIN:VEVENT
DTSTART;TZID=Europe/Berlin:20280712T170000
DTEND;TZID=Europe/Berlin:20280712T183000
DTSTAMP:20260421T163226
CREATED:20230927T111207Z
LAST-MODIFIED:20230927T111207Z
UID:10011482-1847034000-1847039400@kalender.regensburg-digital.de
SUMMARY:Friedensgespräche Neupfarrplatz
DESCRIPTION:Jeden Mittwoch 17-18.30 Uhr\n\nFriedensgespräche Neupfarrplatz zum Ukrainekrieg beim Karavan-Denkmal\n\nSoziale Initiativen und Unorganisierte
URL:https://kalender.regensburg-digital.de/veranstaltung/friedensgespraeche-neupfarrplatz/2028-07-12/
LOCATION:Karavan-Denkmal\, Neupfarrplatz\, Regensburg\, 93047\, Deutschland
CATEGORIES:Diskussion
ORGANIZER;CN="Regensburger Soziale Initiativen e.V.":MAILTO:info@soziale-initiativen.de
END:VEVENT
BEGIN:VEVENT
DTSTART;TZID=Europe/Berlin:20280719T170000
DTEND;TZID=Europe/Berlin:20280719T183000
DTSTAMP:20260421T163226
CREATED:20230927T111207Z
LAST-MODIFIED:20230927T111207Z
UID:10011483-1847638800-1847644200@kalender.regensburg-digital.de
SUMMARY:Friedensgespräche Neupfarrplatz
DESCRIPTION:Jeden Mittwoch 17-18.30 Uhr\n\nFriedensgespräche Neupfarrplatz zum Ukrainekrieg beim Karavan-Denkmal\n\nSoziale Initiativen und Unorganisierte
URL:https://kalender.regensburg-digital.de/veranstaltung/friedensgespraeche-neupfarrplatz/2028-07-19/
LOCATION:Karavan-Denkmal\, Neupfarrplatz\, Regensburg\, 93047\, Deutschland
CATEGORIES:Diskussion
ORGANIZER;CN="Regensburger Soziale Initiativen e.V.":MAILTO:info@soziale-initiativen.de
END:VEVENT
BEGIN:VEVENT
DTSTART;TZID=Europe/Berlin:20280726T170000
DTEND;TZID=Europe/Berlin:20280726T183000
DTSTAMP:20260421T163226
CREATED:20230927T111207Z
LAST-MODIFIED:20230927T111207Z
UID:10011484-1848243600-1848249000@kalender.regensburg-digital.de
SUMMARY:Friedensgespräche Neupfarrplatz
DESCRIPTION:Jeden Mittwoch 17-18.30 Uhr\n\nFriedensgespräche Neupfarrplatz zum Ukrainekrieg beim Karavan-Denkmal\n\nSoziale Initiativen und Unorganisierte
URL:https://kalender.regensburg-digital.de/veranstaltung/friedensgespraeche-neupfarrplatz/2028-07-26/
LOCATION:Karavan-Denkmal\, Neupfarrplatz\, Regensburg\, 93047\, Deutschland
CATEGORIES:Diskussion
ORGANIZER;CN="Regensburger Soziale Initiativen e.V.":MAILTO:info@soziale-initiativen.de
END:VEVENT
BEGIN:VEVENT
DTSTART;TZID=Europe/Berlin:20280802T170000
DTEND;TZID=Europe/Berlin:20280802T183000
DTSTAMP:20260421T163226
CREATED:20230927T111207Z
LAST-MODIFIED:20230927T111207Z
UID:10011485-1848848400-1848853800@kalender.regensburg-digital.de
SUMMARY:Friedensgespräche Neupfarrplatz
DESCRIPTION:Jeden Mittwoch 17-18.30 Uhr\n\nFriedensgespräche Neupfarrplatz zum Ukrainekrieg beim Karavan-Denkmal\n\nSoziale Initiativen und Unorganisierte
URL:https://kalender.regensburg-digital.de/veranstaltung/friedensgespraeche-neupfarrplatz/2028-08-02/
LOCATION:Karavan-Denkmal\, Neupfarrplatz\, Regensburg\, 93047\, Deutschland
CATEGORIES:Diskussion
ORGANIZER;CN="Regensburger Soziale Initiativen e.V.":MAILTO:info@soziale-initiativen.de
END:VEVENT
BEGIN:VEVENT
DTSTART;TZID=Europe/Berlin:20280809T170000
DTEND;TZID=Europe/Berlin:20280809T183000
DTSTAMP:20260421T163226
CREATED:20230927T111207Z
LAST-MODIFIED:20230927T111207Z
UID:10011486-1849453200-1849458600@kalender.regensburg-digital.de
SUMMARY:Friedensgespräche Neupfarrplatz
DESCRIPTION:Jeden Mittwoch 17-18.30 Uhr\n\nFriedensgespräche Neupfarrplatz zum Ukrainekrieg beim Karavan-Denkmal\n\nSoziale Initiativen und Unorganisierte
URL:https://kalender.regensburg-digital.de/veranstaltung/friedensgespraeche-neupfarrplatz/2028-08-09/
LOCATION:Karavan-Denkmal\, Neupfarrplatz\, Regensburg\, 93047\, Deutschland
CATEGORIES:Diskussion
ORGANIZER;CN="Regensburger Soziale Initiativen e.V.":MAILTO:info@soziale-initiativen.de
END:VEVENT
BEGIN:VEVENT
DTSTART;TZID=Europe/Berlin:20280816T170000
DTEND;TZID=Europe/Berlin:20280816T183000
DTSTAMP:20260421T163226
CREATED:20230927T111207Z
LAST-MODIFIED:20230927T111207Z
UID:10011487-1850058000-1850063400@kalender.regensburg-digital.de
SUMMARY:Friedensgespräche Neupfarrplatz
DESCRIPTION:Jeden Mittwoch 17-18.30 Uhr\n\nFriedensgespräche Neupfarrplatz zum Ukrainekrieg beim Karavan-Denkmal\n\nSoziale Initiativen und Unorganisierte
URL:https://kalender.regensburg-digital.de/veranstaltung/friedensgespraeche-neupfarrplatz/2028-08-16/
LOCATION:Karavan-Denkmal\, Neupfarrplatz\, Regensburg\, 93047\, Deutschland
CATEGORIES:Diskussion
ORGANIZER;CN="Regensburger Soziale Initiativen e.V.":MAILTO:info@soziale-initiativen.de
END:VEVENT
BEGIN:VEVENT
DTSTART;TZID=Europe/Berlin:20280823T170000
DTEND;TZID=Europe/Berlin:20280823T183000
DTSTAMP:20260421T163226
CREATED:20230927T111207Z
LAST-MODIFIED:20230927T111207Z
UID:10011488-1850662800-1850668200@kalender.regensburg-digital.de
SUMMARY:Friedensgespräche Neupfarrplatz
DESCRIPTION:Jeden Mittwoch 17-18.30 Uhr\n\nFriedensgespräche Neupfarrplatz zum Ukrainekrieg beim Karavan-Denkmal\n\nSoziale Initiativen und Unorganisierte
URL:https://kalender.regensburg-digital.de/veranstaltung/friedensgespraeche-neupfarrplatz/2028-08-23/
LOCATION:Karavan-Denkmal\, Neupfarrplatz\, Regensburg\, 93047\, Deutschland
CATEGORIES:Diskussion
ORGANIZER;CN="Regensburger Soziale Initiativen e.V.":MAILTO:info@soziale-initiativen.de
END:VEVENT
BEGIN:VEVENT
DTSTART;TZID=Europe/Berlin:20280830T170000
DTEND;TZID=Europe/Berlin:20280830T183000
DTSTAMP:20260421T163226
CREATED:20230927T111207Z
LAST-MODIFIED:20230927T111207Z
UID:10011489-1851267600-1851273000@kalender.regensburg-digital.de
SUMMARY:Friedensgespräche Neupfarrplatz
DESCRIPTION:Jeden Mittwoch 17-18.30 Uhr\n\nFriedensgespräche Neupfarrplatz zum Ukrainekrieg beim Karavan-Denkmal\n\nSoziale Initiativen und Unorganisierte
URL:https://kalender.regensburg-digital.de/veranstaltung/friedensgespraeche-neupfarrplatz/2028-08-30/
LOCATION:Karavan-Denkmal\, Neupfarrplatz\, Regensburg\, 93047\, Deutschland
CATEGORIES:Diskussion
ORGANIZER;CN="Regensburger Soziale Initiativen e.V.":MAILTO:info@soziale-initiativen.de
END:VEVENT
BEGIN:VEVENT
DTSTART;TZID=Europe/Berlin:20280906T170000
DTEND;TZID=Europe/Berlin:20280906T183000
DTSTAMP:20260421T163226
CREATED:20230927T111207Z
LAST-MODIFIED:20230927T111207Z
UID:10011490-1851872400-1851877800@kalender.regensburg-digital.de
SUMMARY:Friedensgespräche Neupfarrplatz
DESCRIPTION:Jeden Mittwoch 17-18.30 Uhr\n\nFriedensgespräche Neupfarrplatz zum Ukrainekrieg beim Karavan-Denkmal\n\nSoziale Initiativen und Unorganisierte
URL:https://kalender.regensburg-digital.de/veranstaltung/friedensgespraeche-neupfarrplatz/2028-09-06/
LOCATION:Karavan-Denkmal\, Neupfarrplatz\, Regensburg\, 93047\, Deutschland
CATEGORIES:Diskussion
ORGANIZER;CN="Regensburger Soziale Initiativen e.V.":MAILTO:info@soziale-initiativen.de
END:VEVENT
BEGIN:VEVENT
DTSTART;TZID=Europe/Berlin:20280913T170000
DTEND;TZID=Europe/Berlin:20280913T183000
DTSTAMP:20260421T163226
CREATED:20230927T111207Z
LAST-MODIFIED:20230927T111207Z
UID:10011491-1852477200-1852482600@kalender.regensburg-digital.de
SUMMARY:Friedensgespräche Neupfarrplatz
DESCRIPTION:Jeden Mittwoch 17-18.30 Uhr\n\nFriedensgespräche Neupfarrplatz zum Ukrainekrieg beim Karavan-Denkmal\n\nSoziale Initiativen und Unorganisierte
URL:https://kalender.regensburg-digital.de/veranstaltung/friedensgespraeche-neupfarrplatz/2028-09-13/
LOCATION:Karavan-Denkmal\, Neupfarrplatz\, Regensburg\, 93047\, Deutschland
CATEGORIES:Diskussion
ORGANIZER;CN="Regensburger Soziale Initiativen e.V.":MAILTO:info@soziale-initiativen.de
END:VEVENT
BEGIN:VEVENT
DTSTART;TZID=Europe/Berlin:20280920T170000
DTEND;TZID=Europe/Berlin:20280920T183000
DTSTAMP:20260421T163226
CREATED:20230927T111207Z
LAST-MODIFIED:20230927T111207Z
UID:10011492-1853082000-1853087400@kalender.regensburg-digital.de
SUMMARY:Friedensgespräche Neupfarrplatz
DESCRIPTION:Jeden Mittwoch 17-18.30 Uhr\n\nFriedensgespräche Neupfarrplatz zum Ukrainekrieg beim Karavan-Denkmal\n\nSoziale Initiativen und Unorganisierte
URL:https://kalender.regensburg-digital.de/veranstaltung/friedensgespraeche-neupfarrplatz/2028-09-20/
LOCATION:Karavan-Denkmal\, Neupfarrplatz\, Regensburg\, 93047\, Deutschland
CATEGORIES:Diskussion
ORGANIZER;CN="Regensburger Soziale Initiativen e.V.":MAILTO:info@soziale-initiativen.de
END:VEVENT
BEGIN:VEVENT
DTSTART;TZID=Europe/Berlin:20280927T170000
DTEND;TZID=Europe/Berlin:20280927T183000
DTSTAMP:20260421T163226
CREATED:20230927T111207Z
LAST-MODIFIED:20230927T111207Z
UID:10011493-1853686800-1853692200@kalender.regensburg-digital.de
SUMMARY:Friedensgespräche Neupfarrplatz
DESCRIPTION:Jeden Mittwoch 17-18.30 Uhr\n\nFriedensgespräche Neupfarrplatz zum Ukrainekrieg beim Karavan-Denkmal\n\nSoziale Initiativen und Unorganisierte
URL:https://kalender.regensburg-digital.de/veranstaltung/friedensgespraeche-neupfarrplatz/2028-09-27/
LOCATION:Karavan-Denkmal\, Neupfarrplatz\, Regensburg\, 93047\, Deutschland
CATEGORIES:Diskussion
ORGANIZER;CN="Regensburger Soziale Initiativen e.V.":MAILTO:info@soziale-initiativen.de
END:VEVENT
BEGIN:VEVENT
DTSTART;TZID=Europe/Berlin:20281004T170000
DTEND;TZID=Europe/Berlin:20281004T183000
DTSTAMP:20260421T163226
CREATED:20230927T111207Z
LAST-MODIFIED:20230927T111207Z
UID:10011494-1854291600-1854297000@kalender.regensburg-digital.de
SUMMARY:Friedensgespräche Neupfarrplatz
DESCRIPTION:Jeden Mittwoch 17-18.30 Uhr\n\nFriedensgespräche Neupfarrplatz zum Ukrainekrieg beim Karavan-Denkmal\n\nSoziale Initiativen und Unorganisierte
URL:https://kalender.regensburg-digital.de/veranstaltung/friedensgespraeche-neupfarrplatz/2028-10-04/
LOCATION:Karavan-Denkmal\, Neupfarrplatz\, Regensburg\, 93047\, Deutschland
CATEGORIES:Diskussion
ORGANIZER;CN="Regensburger Soziale Initiativen e.V.":MAILTO:info@soziale-initiativen.de
END:VEVENT
BEGIN:VEVENT
DTSTART;TZID=Europe/Berlin:20281011T170000
DTEND;TZID=Europe/Berlin:20281011T183000
DTSTAMP:20260421T163226
CREATED:20230927T111207Z
LAST-MODIFIED:20230927T111207Z
UID:10011495-1854896400-1854901800@kalender.regensburg-digital.de
SUMMARY:Friedensgespräche Neupfarrplatz
DESCRIPTION:Jeden Mittwoch 17-18.30 Uhr\n\nFriedensgespräche Neupfarrplatz zum Ukrainekrieg beim Karavan-Denkmal\n\nSoziale Initiativen und Unorganisierte
URL:https://kalender.regensburg-digital.de/veranstaltung/friedensgespraeche-neupfarrplatz/2028-10-11/
LOCATION:Karavan-Denkmal\, Neupfarrplatz\, Regensburg\, 93047\, Deutschland
CATEGORIES:Diskussion
ORGANIZER;CN="Regensburger Soziale Initiativen e.V.":MAILTO:info@soziale-initiativen.de
END:VEVENT
BEGIN:VEVENT
DTSTART;TZID=Europe/Berlin:20281018T170000
DTEND;TZID=Europe/Berlin:20281018T183000
DTSTAMP:20260421T163226
CREATED:20230927T111207Z
LAST-MODIFIED:20230927T111207Z
UID:10011496-1855501200-1855506600@kalender.regensburg-digital.de
SUMMARY:Friedensgespräche Neupfarrplatz
DESCRIPTION:Jeden Mittwoch 17-18.30 Uhr\n\nFriedensgespräche Neupfarrplatz zum Ukrainekrieg beim Karavan-Denkmal\n\nSoziale Initiativen und Unorganisierte
URL:https://kalender.regensburg-digital.de/veranstaltung/friedensgespraeche-neupfarrplatz/2028-10-18/
LOCATION:Karavan-Denkmal\, Neupfarrplatz\, Regensburg\, 93047\, Deutschland
CATEGORIES:Diskussion
ORGANIZER;CN="Regensburger Soziale Initiativen e.V.":MAILTO:info@soziale-initiativen.de
END:VEVENT
BEGIN:VEVENT
DTSTART;TZID=Europe/Berlin:20281025T170000
DTEND;TZID=Europe/Berlin:20281025T183000
DTSTAMP:20260421T163226
CREATED:20230927T111207Z
LAST-MODIFIED:20230927T111207Z
UID:10011497-1856106000-1856111400@kalender.regensburg-digital.de
SUMMARY:Friedensgespräche Neupfarrplatz
DESCRIPTION:Jeden Mittwoch 17-18.30 Uhr\n\nFriedensgespräche Neupfarrplatz zum Ukrainekrieg beim Karavan-Denkmal\n\nSoziale Initiativen und Unorganisierte
URL:https://kalender.regensburg-digital.de/veranstaltung/friedensgespraeche-neupfarrplatz/2028-10-25/
LOCATION:Karavan-Denkmal\, Neupfarrplatz\, Regensburg\, 93047\, Deutschland
CATEGORIES:Diskussion
ORGANIZER;CN="Regensburger Soziale Initiativen e.V.":MAILTO:info@soziale-initiativen.de
END:VEVENT
BEGIN:VEVENT
DTSTART;TZID=Europe/Berlin:20281101T170000
DTEND;TZID=Europe/Berlin:20281101T183000
DTSTAMP:20260421T163226
CREATED:20230927T111207Z
LAST-MODIFIED:20230927T111207Z
UID:10011498-1856710800-1856716200@kalender.regensburg-digital.de
SUMMARY:Friedensgespräche Neupfarrplatz
DESCRIPTION:Jeden Mittwoch 17-18.30 Uhr\n\nFriedensgespräche Neupfarrplatz zum Ukrainekrieg beim Karavan-Denkmal\n\nSoziale Initiativen und Unorganisierte
URL:https://kalender.regensburg-digital.de/veranstaltung/friedensgespraeche-neupfarrplatz/2028-11-01/
LOCATION:Karavan-Denkmal\, Neupfarrplatz\, Regensburg\, 93047\, Deutschland
CATEGORIES:Diskussion
ORGANIZER;CN="Regensburger Soziale Initiativen e.V.":MAILTO:info@soziale-initiativen.de
END:VEVENT
BEGIN:VEVENT
DTSTART;TZID=Europe/Berlin:20281108T170000
DTEND;TZID=Europe/Berlin:20281108T183000
DTSTAMP:20260421T163226
CREATED:20230927T111207Z
LAST-MODIFIED:20230927T111207Z
UID:10011499-1857315600-1857321000@kalender.regensburg-digital.de
SUMMARY:Friedensgespräche Neupfarrplatz
DESCRIPTION:Jeden Mittwoch 17-18.30 Uhr\n\nFriedensgespräche Neupfarrplatz zum Ukrainekrieg beim Karavan-Denkmal\n\nSoziale Initiativen und Unorganisierte
URL:https://kalender.regensburg-digital.de/veranstaltung/friedensgespraeche-neupfarrplatz/2028-11-08/
LOCATION:Karavan-Denkmal\, Neupfarrplatz\, Regensburg\, 93047\, Deutschland
CATEGORIES:Diskussion
ORGANIZER;CN="Regensburger Soziale Initiativen e.V.":MAILTO:info@soziale-initiativen.de
END:VEVENT
BEGIN:VEVENT
DTSTART;TZID=Europe/Berlin:20281115T170000
DTEND;TZID=Europe/Berlin:20281115T183000
DTSTAMP:20260421T163226
CREATED:20230927T111207Z
LAST-MODIFIED:20230927T111207Z
UID:10011500-1857920400-1857925800@kalender.regensburg-digital.de
SUMMARY:Friedensgespräche Neupfarrplatz
DESCRIPTION:Jeden Mittwoch 17-18.30 Uhr\n\nFriedensgespräche Neupfarrplatz zum Ukrainekrieg beim Karavan-Denkmal\n\nSoziale Initiativen und Unorganisierte
URL:https://kalender.regensburg-digital.de/veranstaltung/friedensgespraeche-neupfarrplatz/2028-11-15/
LOCATION:Karavan-Denkmal\, Neupfarrplatz\, Regensburg\, 93047\, Deutschland
CATEGORIES:Diskussion
ORGANIZER;CN="Regensburger Soziale Initiativen e.V.":MAILTO:info@soziale-initiativen.de
END:VEVENT
BEGIN:VEVENT
DTSTART;TZID=Europe/Berlin:20281122T170000
DTEND;TZID=Europe/Berlin:20281122T183000
DTSTAMP:20260421T163226
CREATED:20230927T111207Z
LAST-MODIFIED:20230927T111207Z
UID:10011501-1858525200-1858530600@kalender.regensburg-digital.de
SUMMARY:Friedensgespräche Neupfarrplatz
DESCRIPTION:Jeden Mittwoch 17-18.30 Uhr\n\nFriedensgespräche Neupfarrplatz zum Ukrainekrieg beim Karavan-Denkmal\n\nSoziale Initiativen und Unorganisierte
URL:https://kalender.regensburg-digital.de/veranstaltung/friedensgespraeche-neupfarrplatz/2028-11-22/
LOCATION:Karavan-Denkmal\, Neupfarrplatz\, Regensburg\, 93047\, Deutschland
CATEGORIES:Diskussion
ORGANIZER;CN="Regensburger Soziale Initiativen e.V.":MAILTO:info@soziale-initiativen.de
END:VEVENT
BEGIN:VEVENT
DTSTART;TZID=Europe/Berlin:20281129T170000
DTEND;TZID=Europe/Berlin:20281129T183000
DTSTAMP:20260421T163226
CREATED:20230927T111207Z
LAST-MODIFIED:20230927T111207Z
UID:10011502-1859130000-1859135400@kalender.regensburg-digital.de
SUMMARY:Friedensgespräche Neupfarrplatz
DESCRIPTION:Jeden Mittwoch 17-18.30 Uhr\n\nFriedensgespräche Neupfarrplatz zum Ukrainekrieg beim Karavan-Denkmal\n\nSoziale Initiativen und Unorganisierte
URL:https://kalender.regensburg-digital.de/veranstaltung/friedensgespraeche-neupfarrplatz/2028-11-29/
LOCATION:Karavan-Denkmal\, Neupfarrplatz\, Regensburg\, 93047\, Deutschland
CATEGORIES:Diskussion
ORGANIZER;CN="Regensburger Soziale Initiativen e.V.":MAILTO:info@soziale-initiativen.de
END:VEVENT
BEGIN:VEVENT
DTSTART;TZID=Europe/Berlin:20281206T170000
DTEND;TZID=Europe/Berlin:20281206T183000
DTSTAMP:20260421T163226
CREATED:20230927T111207Z
LAST-MODIFIED:20230927T111207Z
UID:10011503-1859734800-1859740200@kalender.regensburg-digital.de
SUMMARY:Friedensgespräche Neupfarrplatz
DESCRIPTION:Jeden Mittwoch 17-18.30 Uhr\n\nFriedensgespräche Neupfarrplatz zum Ukrainekrieg beim Karavan-Denkmal\n\nSoziale Initiativen und Unorganisierte
URL:https://kalender.regensburg-digital.de/veranstaltung/friedensgespraeche-neupfarrplatz/2028-12-06/
LOCATION:Karavan-Denkmal\, Neupfarrplatz\, Regensburg\, 93047\, Deutschland
CATEGORIES:Diskussion
ORGANIZER;CN="Regensburger Soziale Initiativen e.V.":MAILTO:info@soziale-initiativen.de
END:VEVENT
END:VCALENDAR