BEGIN:VCALENDAR
VERSION:2.0
PRODID:-//Regensburg Digital Kalender - ECPv6.14.2//NONSGML v1.0//EN
CALSCALE:GREGORIAN
METHOD:PUBLISH
X-WR-CALNAME:Regensburg Digital Kalender
X-ORIGINAL-URL:https://kalender.regensburg-digital.de
X-WR-CALDESC:Veranstaltungen für Regensburg Digital Kalender
REFRESH-INTERVAL;VALUE=DURATION:PT1H
X-Robots-Tag:noindex
X-PUBLISHED-TTL:PT1H
BEGIN:VTIMEZONE
TZID:Europe/Berlin
BEGIN:DAYLIGHT
TZOFFSETFROM:+0100
TZOFFSETTO:+0200
TZNAME:CEST
DTSTART:20290325T010000
END:DAYLIGHT
BEGIN:STANDARD
TZOFFSETFROM:+0200
TZOFFSETTO:+0100
TZNAME:CET
DTSTART:20291028T010000
END:STANDARD
END:VTIMEZONE
BEGIN:VEVENT
DTSTART;TZID=Europe/Berlin:20290124T170000
DTEND;TZID=Europe/Berlin:20290124T183000
DTSTAMP:20260421T192634
CREATED:20230927T111207Z
LAST-MODIFIED:20230927T111207Z
UID:10011510-1863968400-1863973800@kalender.regensburg-digital.de
SUMMARY:Friedensgespräche Neupfarrplatz
DESCRIPTION:Jeden Mittwoch 17-18.30 Uhr\n\nFriedensgespräche Neupfarrplatz zum Ukrainekrieg beim Karavan-Denkmal\n\nSoziale Initiativen und Unorganisierte
URL:https://kalender.regensburg-digital.de/veranstaltung/friedensgespraeche-neupfarrplatz/2029-01-24/
LOCATION:Karavan-Denkmal\, Neupfarrplatz\, Regensburg\, 93047\, Deutschland
CATEGORIES:Diskussion
ORGANIZER;CN="Regensburger Soziale Initiativen e.V.":MAILTO:info@soziale-initiativen.de
END:VEVENT
BEGIN:VEVENT
DTSTART;TZID=Europe/Berlin:20290131T170000
DTEND;TZID=Europe/Berlin:20290131T183000
DTSTAMP:20260421T192634
CREATED:20230927T111207Z
LAST-MODIFIED:20230927T111207Z
UID:10011511-1864573200-1864578600@kalender.regensburg-digital.de
SUMMARY:Friedensgespräche Neupfarrplatz
DESCRIPTION:Jeden Mittwoch 17-18.30 Uhr\n\nFriedensgespräche Neupfarrplatz zum Ukrainekrieg beim Karavan-Denkmal\n\nSoziale Initiativen und Unorganisierte
URL:https://kalender.regensburg-digital.de/veranstaltung/friedensgespraeche-neupfarrplatz/2029-01-31/
LOCATION:Karavan-Denkmal\, Neupfarrplatz\, Regensburg\, 93047\, Deutschland
CATEGORIES:Diskussion
ORGANIZER;CN="Regensburger Soziale Initiativen e.V.":MAILTO:info@soziale-initiativen.de
END:VEVENT
BEGIN:VEVENT
DTSTART;TZID=Europe/Berlin:20290207T170000
DTEND;TZID=Europe/Berlin:20290207T183000
DTSTAMP:20260421T192634
CREATED:20230927T111207Z
LAST-MODIFIED:20230927T111207Z
UID:10011512-1865178000-1865183400@kalender.regensburg-digital.de
SUMMARY:Friedensgespräche Neupfarrplatz
DESCRIPTION:Jeden Mittwoch 17-18.30 Uhr\n\nFriedensgespräche Neupfarrplatz zum Ukrainekrieg beim Karavan-Denkmal\n\nSoziale Initiativen und Unorganisierte
URL:https://kalender.regensburg-digital.de/veranstaltung/friedensgespraeche-neupfarrplatz/2029-02-07/
LOCATION:Karavan-Denkmal\, Neupfarrplatz\, Regensburg\, 93047\, Deutschland
CATEGORIES:Diskussion
ORGANIZER;CN="Regensburger Soziale Initiativen e.V.":MAILTO:info@soziale-initiativen.de
END:VEVENT
BEGIN:VEVENT
DTSTART;TZID=Europe/Berlin:20290214T170000
DTEND;TZID=Europe/Berlin:20290214T183000
DTSTAMP:20260421T192634
CREATED:20230927T111207Z
LAST-MODIFIED:20230927T111207Z
UID:10011513-1865782800-1865788200@kalender.regensburg-digital.de
SUMMARY:Friedensgespräche Neupfarrplatz
DESCRIPTION:Jeden Mittwoch 17-18.30 Uhr\n\nFriedensgespräche Neupfarrplatz zum Ukrainekrieg beim Karavan-Denkmal\n\nSoziale Initiativen und Unorganisierte
URL:https://kalender.regensburg-digital.de/veranstaltung/friedensgespraeche-neupfarrplatz/2029-02-14/
LOCATION:Karavan-Denkmal\, Neupfarrplatz\, Regensburg\, 93047\, Deutschland
CATEGORIES:Diskussion
ORGANIZER;CN="Regensburger Soziale Initiativen e.V.":MAILTO:info@soziale-initiativen.de
END:VEVENT
BEGIN:VEVENT
DTSTART;TZID=Europe/Berlin:20290221T170000
DTEND;TZID=Europe/Berlin:20290221T183000
DTSTAMP:20260421T192634
CREATED:20230927T111207Z
LAST-MODIFIED:20230927T111207Z
UID:10011514-1866387600-1866393000@kalender.regensburg-digital.de
SUMMARY:Friedensgespräche Neupfarrplatz
DESCRIPTION:Jeden Mittwoch 17-18.30 Uhr\n\nFriedensgespräche Neupfarrplatz zum Ukrainekrieg beim Karavan-Denkmal\n\nSoziale Initiativen und Unorganisierte
URL:https://kalender.regensburg-digital.de/veranstaltung/friedensgespraeche-neupfarrplatz/2029-02-21/
LOCATION:Karavan-Denkmal\, Neupfarrplatz\, Regensburg\, 93047\, Deutschland
CATEGORIES:Diskussion
ORGANIZER;CN="Regensburger Soziale Initiativen e.V.":MAILTO:info@soziale-initiativen.de
END:VEVENT
BEGIN:VEVENT
DTSTART;TZID=Europe/Berlin:20290228T170000
DTEND;TZID=Europe/Berlin:20290228T183000
DTSTAMP:20260421T192634
CREATED:20230927T111207Z
LAST-MODIFIED:20230927T111207Z
UID:10011515-1866992400-1866997800@kalender.regensburg-digital.de
SUMMARY:Friedensgespräche Neupfarrplatz
DESCRIPTION:Jeden Mittwoch 17-18.30 Uhr\n\nFriedensgespräche Neupfarrplatz zum Ukrainekrieg beim Karavan-Denkmal\n\nSoziale Initiativen und Unorganisierte
URL:https://kalender.regensburg-digital.de/veranstaltung/friedensgespraeche-neupfarrplatz/2029-02-28/
LOCATION:Karavan-Denkmal\, Neupfarrplatz\, Regensburg\, 93047\, Deutschland
CATEGORIES:Diskussion
ORGANIZER;CN="Regensburger Soziale Initiativen e.V.":MAILTO:info@soziale-initiativen.de
END:VEVENT
BEGIN:VEVENT
DTSTART;TZID=Europe/Berlin:20290307T170000
DTEND;TZID=Europe/Berlin:20290307T183000
DTSTAMP:20260421T192634
CREATED:20230927T111207Z
LAST-MODIFIED:20230927T111207Z
UID:10011516-1867597200-1867602600@kalender.regensburg-digital.de
SUMMARY:Friedensgespräche Neupfarrplatz
DESCRIPTION:Jeden Mittwoch 17-18.30 Uhr\n\nFriedensgespräche Neupfarrplatz zum Ukrainekrieg beim Karavan-Denkmal\n\nSoziale Initiativen und Unorganisierte
URL:https://kalender.regensburg-digital.de/veranstaltung/friedensgespraeche-neupfarrplatz/2029-03-07/
LOCATION:Karavan-Denkmal\, Neupfarrplatz\, Regensburg\, 93047\, Deutschland
CATEGORIES:Diskussion
ORGANIZER;CN="Regensburger Soziale Initiativen e.V.":MAILTO:info@soziale-initiativen.de
END:VEVENT
BEGIN:VEVENT
DTSTART;TZID=Europe/Berlin:20290314T170000
DTEND;TZID=Europe/Berlin:20290314T183000
DTSTAMP:20260421T192634
CREATED:20230927T111207Z
LAST-MODIFIED:20230927T111207Z
UID:10011517-1868202000-1868207400@kalender.regensburg-digital.de
SUMMARY:Friedensgespräche Neupfarrplatz
DESCRIPTION:Jeden Mittwoch 17-18.30 Uhr\n\nFriedensgespräche Neupfarrplatz zum Ukrainekrieg beim Karavan-Denkmal\n\nSoziale Initiativen und Unorganisierte
URL:https://kalender.regensburg-digital.de/veranstaltung/friedensgespraeche-neupfarrplatz/2029-03-14/
LOCATION:Karavan-Denkmal\, Neupfarrplatz\, Regensburg\, 93047\, Deutschland
CATEGORIES:Diskussion
ORGANIZER;CN="Regensburger Soziale Initiativen e.V.":MAILTO:info@soziale-initiativen.de
END:VEVENT
BEGIN:VEVENT
DTSTART;TZID=Europe/Berlin:20290321T170000
DTEND;TZID=Europe/Berlin:20290321T183000
DTSTAMP:20260421T192634
CREATED:20230927T111207Z
LAST-MODIFIED:20230927T111207Z
UID:10011518-1868806800-1868812200@kalender.regensburg-digital.de
SUMMARY:Friedensgespräche Neupfarrplatz
DESCRIPTION:Jeden Mittwoch 17-18.30 Uhr\n\nFriedensgespräche Neupfarrplatz zum Ukrainekrieg beim Karavan-Denkmal\n\nSoziale Initiativen und Unorganisierte
URL:https://kalender.regensburg-digital.de/veranstaltung/friedensgespraeche-neupfarrplatz/2029-03-21/
LOCATION:Karavan-Denkmal\, Neupfarrplatz\, Regensburg\, 93047\, Deutschland
CATEGORIES:Diskussion
ORGANIZER;CN="Regensburger Soziale Initiativen e.V.":MAILTO:info@soziale-initiativen.de
END:VEVENT
BEGIN:VEVENT
DTSTART;TZID=Europe/Berlin:20290328T170000
DTEND;TZID=Europe/Berlin:20290328T183000
DTSTAMP:20260421T192634
CREATED:20230927T111207Z
LAST-MODIFIED:20230927T111207Z
UID:10011519-1869411600-1869417000@kalender.regensburg-digital.de
SUMMARY:Friedensgespräche Neupfarrplatz
DESCRIPTION:Jeden Mittwoch 17-18.30 Uhr\n\nFriedensgespräche Neupfarrplatz zum Ukrainekrieg beim Karavan-Denkmal\n\nSoziale Initiativen und Unorganisierte
URL:https://kalender.regensburg-digital.de/veranstaltung/friedensgespraeche-neupfarrplatz/2029-03-28/
LOCATION:Karavan-Denkmal\, Neupfarrplatz\, Regensburg\, 93047\, Deutschland
CATEGORIES:Diskussion
ORGANIZER;CN="Regensburger Soziale Initiativen e.V.":MAILTO:info@soziale-initiativen.de
END:VEVENT
BEGIN:VEVENT
DTSTART;TZID=Europe/Berlin:20290404T170000
DTEND;TZID=Europe/Berlin:20290404T183000
DTSTAMP:20260421T192634
CREATED:20230927T111207Z
LAST-MODIFIED:20230927T111207Z
UID:10011520-1870016400-1870021800@kalender.regensburg-digital.de
SUMMARY:Friedensgespräche Neupfarrplatz
DESCRIPTION:Jeden Mittwoch 17-18.30 Uhr\n\nFriedensgespräche Neupfarrplatz zum Ukrainekrieg beim Karavan-Denkmal\n\nSoziale Initiativen und Unorganisierte
URL:https://kalender.regensburg-digital.de/veranstaltung/friedensgespraeche-neupfarrplatz/2029-04-04/
LOCATION:Karavan-Denkmal\, Neupfarrplatz\, Regensburg\, 93047\, Deutschland
CATEGORIES:Diskussion
ORGANIZER;CN="Regensburger Soziale Initiativen e.V.":MAILTO:info@soziale-initiativen.de
END:VEVENT
BEGIN:VEVENT
DTSTART;TZID=Europe/Berlin:20290411T170000
DTEND;TZID=Europe/Berlin:20290411T183000
DTSTAMP:20260421T192634
CREATED:20230927T111207Z
LAST-MODIFIED:20230927T111207Z
UID:10011521-1870621200-1870626600@kalender.regensburg-digital.de
SUMMARY:Friedensgespräche Neupfarrplatz
DESCRIPTION:Jeden Mittwoch 17-18.30 Uhr\n\nFriedensgespräche Neupfarrplatz zum Ukrainekrieg beim Karavan-Denkmal\n\nSoziale Initiativen und Unorganisierte
URL:https://kalender.regensburg-digital.de/veranstaltung/friedensgespraeche-neupfarrplatz/2029-04-11/
LOCATION:Karavan-Denkmal\, Neupfarrplatz\, Regensburg\, 93047\, Deutschland
CATEGORIES:Diskussion
ORGANIZER;CN="Regensburger Soziale Initiativen e.V.":MAILTO:info@soziale-initiativen.de
END:VEVENT
BEGIN:VEVENT
DTSTART;TZID=Europe/Berlin:20290418T170000
DTEND;TZID=Europe/Berlin:20290418T183000
DTSTAMP:20260421T192634
CREATED:20230927T111207Z
LAST-MODIFIED:20230927T111207Z
UID:10011522-1871226000-1871231400@kalender.regensburg-digital.de
SUMMARY:Friedensgespräche Neupfarrplatz
DESCRIPTION:Jeden Mittwoch 17-18.30 Uhr\n\nFriedensgespräche Neupfarrplatz zum Ukrainekrieg beim Karavan-Denkmal\n\nSoziale Initiativen und Unorganisierte
URL:https://kalender.regensburg-digital.de/veranstaltung/friedensgespraeche-neupfarrplatz/2029-04-18/
LOCATION:Karavan-Denkmal\, Neupfarrplatz\, Regensburg\, 93047\, Deutschland
CATEGORIES:Diskussion
ORGANIZER;CN="Regensburger Soziale Initiativen e.V.":MAILTO:info@soziale-initiativen.de
END:VEVENT
BEGIN:VEVENT
DTSTART;TZID=Europe/Berlin:20290425T170000
DTEND;TZID=Europe/Berlin:20290425T183000
DTSTAMP:20260421T192634
CREATED:20230927T111207Z
LAST-MODIFIED:20230927T111207Z
UID:10011523-1871830800-1871836200@kalender.regensburg-digital.de
SUMMARY:Friedensgespräche Neupfarrplatz
DESCRIPTION:Jeden Mittwoch 17-18.30 Uhr\n\nFriedensgespräche Neupfarrplatz zum Ukrainekrieg beim Karavan-Denkmal\n\nSoziale Initiativen und Unorganisierte
URL:https://kalender.regensburg-digital.de/veranstaltung/friedensgespraeche-neupfarrplatz/2029-04-25/
LOCATION:Karavan-Denkmal\, Neupfarrplatz\, Regensburg\, 93047\, Deutschland
CATEGORIES:Diskussion
ORGANIZER;CN="Regensburger Soziale Initiativen e.V.":MAILTO:info@soziale-initiativen.de
END:VEVENT
BEGIN:VEVENT
DTSTART;TZID=Europe/Berlin:20290502T170000
DTEND;TZID=Europe/Berlin:20290502T183000
DTSTAMP:20260421T192634
CREATED:20230927T111207Z
LAST-MODIFIED:20230927T111207Z
UID:10011524-1872435600-1872441000@kalender.regensburg-digital.de
SUMMARY:Friedensgespräche Neupfarrplatz
DESCRIPTION:Jeden Mittwoch 17-18.30 Uhr\n\nFriedensgespräche Neupfarrplatz zum Ukrainekrieg beim Karavan-Denkmal\n\nSoziale Initiativen und Unorganisierte
URL:https://kalender.regensburg-digital.de/veranstaltung/friedensgespraeche-neupfarrplatz/2029-05-02/
LOCATION:Karavan-Denkmal\, Neupfarrplatz\, Regensburg\, 93047\, Deutschland
CATEGORIES:Diskussion
ORGANIZER;CN="Regensburger Soziale Initiativen e.V.":MAILTO:info@soziale-initiativen.de
END:VEVENT
BEGIN:VEVENT
DTSTART;TZID=Europe/Berlin:20290509T170000
DTEND;TZID=Europe/Berlin:20290509T183000
DTSTAMP:20260421T192634
CREATED:20230927T111207Z
LAST-MODIFIED:20230927T111207Z
UID:10011525-1873040400-1873045800@kalender.regensburg-digital.de
SUMMARY:Friedensgespräche Neupfarrplatz
DESCRIPTION:Jeden Mittwoch 17-18.30 Uhr\n\nFriedensgespräche Neupfarrplatz zum Ukrainekrieg beim Karavan-Denkmal\n\nSoziale Initiativen und Unorganisierte
URL:https://kalender.regensburg-digital.de/veranstaltung/friedensgespraeche-neupfarrplatz/2029-05-09/
LOCATION:Karavan-Denkmal\, Neupfarrplatz\, Regensburg\, 93047\, Deutschland
CATEGORIES:Diskussion
ORGANIZER;CN="Regensburger Soziale Initiativen e.V.":MAILTO:info@soziale-initiativen.de
END:VEVENT
BEGIN:VEVENT
DTSTART;TZID=Europe/Berlin:20290516T170000
DTEND;TZID=Europe/Berlin:20290516T183000
DTSTAMP:20260421T192634
CREATED:20230927T111207Z
LAST-MODIFIED:20230927T111207Z
UID:10011526-1873645200-1873650600@kalender.regensburg-digital.de
SUMMARY:Friedensgespräche Neupfarrplatz
DESCRIPTION:Jeden Mittwoch 17-18.30 Uhr\n\nFriedensgespräche Neupfarrplatz zum Ukrainekrieg beim Karavan-Denkmal\n\nSoziale Initiativen und Unorganisierte
URL:https://kalender.regensburg-digital.de/veranstaltung/friedensgespraeche-neupfarrplatz/2029-05-16/
LOCATION:Karavan-Denkmal\, Neupfarrplatz\, Regensburg\, 93047\, Deutschland
CATEGORIES:Diskussion
ORGANIZER;CN="Regensburger Soziale Initiativen e.V.":MAILTO:info@soziale-initiativen.de
END:VEVENT
BEGIN:VEVENT
DTSTART;TZID=Europe/Berlin:20290523T170000
DTEND;TZID=Europe/Berlin:20290523T183000
DTSTAMP:20260421T192634
CREATED:20230927T111207Z
LAST-MODIFIED:20230927T111207Z
UID:10011527-1874250000-1874255400@kalender.regensburg-digital.de
SUMMARY:Friedensgespräche Neupfarrplatz
DESCRIPTION:Jeden Mittwoch 17-18.30 Uhr\n\nFriedensgespräche Neupfarrplatz zum Ukrainekrieg beim Karavan-Denkmal\n\nSoziale Initiativen und Unorganisierte
URL:https://kalender.regensburg-digital.de/veranstaltung/friedensgespraeche-neupfarrplatz/2029-05-23/
LOCATION:Karavan-Denkmal\, Neupfarrplatz\, Regensburg\, 93047\, Deutschland
CATEGORIES:Diskussion
ORGANIZER;CN="Regensburger Soziale Initiativen e.V.":MAILTO:info@soziale-initiativen.de
END:VEVENT
BEGIN:VEVENT
DTSTART;TZID=Europe/Berlin:20290530T170000
DTEND;TZID=Europe/Berlin:20290530T183000
DTSTAMP:20260421T192634
CREATED:20230927T111207Z
LAST-MODIFIED:20230927T111207Z
UID:10011528-1874854800-1874860200@kalender.regensburg-digital.de
SUMMARY:Friedensgespräche Neupfarrplatz
DESCRIPTION:Jeden Mittwoch 17-18.30 Uhr\n\nFriedensgespräche Neupfarrplatz zum Ukrainekrieg beim Karavan-Denkmal\n\nSoziale Initiativen und Unorganisierte
URL:https://kalender.regensburg-digital.de/veranstaltung/friedensgespraeche-neupfarrplatz/2029-05-30/
LOCATION:Karavan-Denkmal\, Neupfarrplatz\, Regensburg\, 93047\, Deutschland
CATEGORIES:Diskussion
ORGANIZER;CN="Regensburger Soziale Initiativen e.V.":MAILTO:info@soziale-initiativen.de
END:VEVENT
BEGIN:VEVENT
DTSTART;TZID=Europe/Berlin:20290606T170000
DTEND;TZID=Europe/Berlin:20290606T183000
DTSTAMP:20260421T192634
CREATED:20230927T111207Z
LAST-MODIFIED:20230927T111207Z
UID:10011529-1875459600-1875465000@kalender.regensburg-digital.de
SUMMARY:Friedensgespräche Neupfarrplatz
DESCRIPTION:Jeden Mittwoch 17-18.30 Uhr\n\nFriedensgespräche Neupfarrplatz zum Ukrainekrieg beim Karavan-Denkmal\n\nSoziale Initiativen und Unorganisierte
URL:https://kalender.regensburg-digital.de/veranstaltung/friedensgespraeche-neupfarrplatz/2029-06-06/
LOCATION:Karavan-Denkmal\, Neupfarrplatz\, Regensburg\, 93047\, Deutschland
CATEGORIES:Diskussion
ORGANIZER;CN="Regensburger Soziale Initiativen e.V.":MAILTO:info@soziale-initiativen.de
END:VEVENT
BEGIN:VEVENT
DTSTART;TZID=Europe/Berlin:20290613T170000
DTEND;TZID=Europe/Berlin:20290613T183000
DTSTAMP:20260421T192634
CREATED:20230927T111207Z
LAST-MODIFIED:20230927T111207Z
UID:10011530-1876064400-1876069800@kalender.regensburg-digital.de
SUMMARY:Friedensgespräche Neupfarrplatz
DESCRIPTION:Jeden Mittwoch 17-18.30 Uhr\n\nFriedensgespräche Neupfarrplatz zum Ukrainekrieg beim Karavan-Denkmal\n\nSoziale Initiativen und Unorganisierte
URL:https://kalender.regensburg-digital.de/veranstaltung/friedensgespraeche-neupfarrplatz/2029-06-13/
LOCATION:Karavan-Denkmal\, Neupfarrplatz\, Regensburg\, 93047\, Deutschland
CATEGORIES:Diskussion
ORGANIZER;CN="Regensburger Soziale Initiativen e.V.":MAILTO:info@soziale-initiativen.de
END:VEVENT
BEGIN:VEVENT
DTSTART;TZID=Europe/Berlin:20290620T170000
DTEND;TZID=Europe/Berlin:20290620T183000
DTSTAMP:20260421T192634
CREATED:20230927T111207Z
LAST-MODIFIED:20230927T111207Z
UID:10011531-1876669200-1876674600@kalender.regensburg-digital.de
SUMMARY:Friedensgespräche Neupfarrplatz
DESCRIPTION:Jeden Mittwoch 17-18.30 Uhr\n\nFriedensgespräche Neupfarrplatz zum Ukrainekrieg beim Karavan-Denkmal\n\nSoziale Initiativen und Unorganisierte
URL:https://kalender.regensburg-digital.de/veranstaltung/friedensgespraeche-neupfarrplatz/2029-06-20/
LOCATION:Karavan-Denkmal\, Neupfarrplatz\, Regensburg\, 93047\, Deutschland
CATEGORIES:Diskussion
ORGANIZER;CN="Regensburger Soziale Initiativen e.V.":MAILTO:info@soziale-initiativen.de
END:VEVENT
BEGIN:VEVENT
DTSTART;TZID=Europe/Berlin:20290627T170000
DTEND;TZID=Europe/Berlin:20290627T183000
DTSTAMP:20260421T192634
CREATED:20230927T111207Z
LAST-MODIFIED:20230927T111207Z
UID:10011532-1877274000-1877279400@kalender.regensburg-digital.de
SUMMARY:Friedensgespräche Neupfarrplatz
DESCRIPTION:Jeden Mittwoch 17-18.30 Uhr\n\nFriedensgespräche Neupfarrplatz zum Ukrainekrieg beim Karavan-Denkmal\n\nSoziale Initiativen und Unorganisierte
URL:https://kalender.regensburg-digital.de/veranstaltung/friedensgespraeche-neupfarrplatz/2029-06-27/
LOCATION:Karavan-Denkmal\, Neupfarrplatz\, Regensburg\, 93047\, Deutschland
CATEGORIES:Diskussion
ORGANIZER;CN="Regensburger Soziale Initiativen e.V.":MAILTO:info@soziale-initiativen.de
END:VEVENT
BEGIN:VEVENT
DTSTART;TZID=Europe/Berlin:20290704T170000
DTEND;TZID=Europe/Berlin:20290704T183000
DTSTAMP:20260421T192634
CREATED:20230927T111207Z
LAST-MODIFIED:20230927T111207Z
UID:10011533-1877878800-1877884200@kalender.regensburg-digital.de
SUMMARY:Friedensgespräche Neupfarrplatz
DESCRIPTION:Jeden Mittwoch 17-18.30 Uhr\n\nFriedensgespräche Neupfarrplatz zum Ukrainekrieg beim Karavan-Denkmal\n\nSoziale Initiativen und Unorganisierte
URL:https://kalender.regensburg-digital.de/veranstaltung/friedensgespraeche-neupfarrplatz/2029-07-04/
LOCATION:Karavan-Denkmal\, Neupfarrplatz\, Regensburg\, 93047\, Deutschland
CATEGORIES:Diskussion
ORGANIZER;CN="Regensburger Soziale Initiativen e.V.":MAILTO:info@soziale-initiativen.de
END:VEVENT
BEGIN:VEVENT
DTSTART;TZID=Europe/Berlin:20290711T170000
DTEND;TZID=Europe/Berlin:20290711T183000
DTSTAMP:20260421T192634
CREATED:20230927T111207Z
LAST-MODIFIED:20230927T111207Z
UID:10011534-1878483600-1878489000@kalender.regensburg-digital.de
SUMMARY:Friedensgespräche Neupfarrplatz
DESCRIPTION:Jeden Mittwoch 17-18.30 Uhr\n\nFriedensgespräche Neupfarrplatz zum Ukrainekrieg beim Karavan-Denkmal\n\nSoziale Initiativen und Unorganisierte
URL:https://kalender.regensburg-digital.de/veranstaltung/friedensgespraeche-neupfarrplatz/2029-07-11/
LOCATION:Karavan-Denkmal\, Neupfarrplatz\, Regensburg\, 93047\, Deutschland
CATEGORIES:Diskussion
ORGANIZER;CN="Regensburger Soziale Initiativen e.V.":MAILTO:info@soziale-initiativen.de
END:VEVENT
BEGIN:VEVENT
DTSTART;TZID=Europe/Berlin:20290718T170000
DTEND;TZID=Europe/Berlin:20290718T183000
DTSTAMP:20260421T192634
CREATED:20230927T111207Z
LAST-MODIFIED:20230927T111207Z
UID:10011535-1879088400-1879093800@kalender.regensburg-digital.de
SUMMARY:Friedensgespräche Neupfarrplatz
DESCRIPTION:Jeden Mittwoch 17-18.30 Uhr\n\nFriedensgespräche Neupfarrplatz zum Ukrainekrieg beim Karavan-Denkmal\n\nSoziale Initiativen und Unorganisierte
URL:https://kalender.regensburg-digital.de/veranstaltung/friedensgespraeche-neupfarrplatz/2029-07-18/
LOCATION:Karavan-Denkmal\, Neupfarrplatz\, Regensburg\, 93047\, Deutschland
CATEGORIES:Diskussion
ORGANIZER;CN="Regensburger Soziale Initiativen e.V.":MAILTO:info@soziale-initiativen.de
END:VEVENT
BEGIN:VEVENT
DTSTART;TZID=Europe/Berlin:20290725T170000
DTEND;TZID=Europe/Berlin:20290725T183000
DTSTAMP:20260421T192634
CREATED:20230927T111207Z
LAST-MODIFIED:20230927T111207Z
UID:10011536-1879693200-1879698600@kalender.regensburg-digital.de
SUMMARY:Friedensgespräche Neupfarrplatz
DESCRIPTION:Jeden Mittwoch 17-18.30 Uhr\n\nFriedensgespräche Neupfarrplatz zum Ukrainekrieg beim Karavan-Denkmal\n\nSoziale Initiativen und Unorganisierte
URL:https://kalender.regensburg-digital.de/veranstaltung/friedensgespraeche-neupfarrplatz/2029-07-25/
LOCATION:Karavan-Denkmal\, Neupfarrplatz\, Regensburg\, 93047\, Deutschland
CATEGORIES:Diskussion
ORGANIZER;CN="Regensburger Soziale Initiativen e.V.":MAILTO:info@soziale-initiativen.de
END:VEVENT
BEGIN:VEVENT
DTSTART;TZID=Europe/Berlin:20290801T170000
DTEND;TZID=Europe/Berlin:20290801T183000
DTSTAMP:20260421T192634
CREATED:20230927T111207Z
LAST-MODIFIED:20230927T111207Z
UID:10011537-1880298000-1880303400@kalender.regensburg-digital.de
SUMMARY:Friedensgespräche Neupfarrplatz
DESCRIPTION:Jeden Mittwoch 17-18.30 Uhr\n\nFriedensgespräche Neupfarrplatz zum Ukrainekrieg beim Karavan-Denkmal\n\nSoziale Initiativen und Unorganisierte
URL:https://kalender.regensburg-digital.de/veranstaltung/friedensgespraeche-neupfarrplatz/2029-08-01/
LOCATION:Karavan-Denkmal\, Neupfarrplatz\, Regensburg\, 93047\, Deutschland
CATEGORIES:Diskussion
ORGANIZER;CN="Regensburger Soziale Initiativen e.V.":MAILTO:info@soziale-initiativen.de
END:VEVENT
BEGIN:VEVENT
DTSTART;TZID=Europe/Berlin:20290808T170000
DTEND;TZID=Europe/Berlin:20290808T183000
DTSTAMP:20260421T192634
CREATED:20230927T111207Z
LAST-MODIFIED:20230927T111207Z
UID:10011538-1880902800-1880908200@kalender.regensburg-digital.de
SUMMARY:Friedensgespräche Neupfarrplatz
DESCRIPTION:Jeden Mittwoch 17-18.30 Uhr\n\nFriedensgespräche Neupfarrplatz zum Ukrainekrieg beim Karavan-Denkmal\n\nSoziale Initiativen und Unorganisierte
URL:https://kalender.regensburg-digital.de/veranstaltung/friedensgespraeche-neupfarrplatz/2029-08-08/
LOCATION:Karavan-Denkmal\, Neupfarrplatz\, Regensburg\, 93047\, Deutschland
CATEGORIES:Diskussion
ORGANIZER;CN="Regensburger Soziale Initiativen e.V.":MAILTO:info@soziale-initiativen.de
END:VEVENT
BEGIN:VEVENT
DTSTART;TZID=Europe/Berlin:20290815T170000
DTEND;TZID=Europe/Berlin:20290815T183000
DTSTAMP:20260421T192634
CREATED:20230927T111207Z
LAST-MODIFIED:20230927T111207Z
UID:10011539-1881507600-1881513000@kalender.regensburg-digital.de
SUMMARY:Friedensgespräche Neupfarrplatz
DESCRIPTION:Jeden Mittwoch 17-18.30 Uhr\n\nFriedensgespräche Neupfarrplatz zum Ukrainekrieg beim Karavan-Denkmal\n\nSoziale Initiativen und Unorganisierte
URL:https://kalender.regensburg-digital.de/veranstaltung/friedensgespraeche-neupfarrplatz/2029-08-15/
LOCATION:Karavan-Denkmal\, Neupfarrplatz\, Regensburg\, 93047\, Deutschland
CATEGORIES:Diskussion
ORGANIZER;CN="Regensburger Soziale Initiativen e.V.":MAILTO:info@soziale-initiativen.de
END:VEVENT
END:VCALENDAR