BEGIN:VCALENDAR
VERSION:2.0
PRODID:-//Regensburg Digital Kalender - ECPv6.14.2//NONSGML v1.0//EN
CALSCALE:GREGORIAN
METHOD:PUBLISH
X-WR-CALNAME:Regensburg Digital Kalender
X-ORIGINAL-URL:https://kalender.regensburg-digital.de
X-WR-CALDESC:Veranstaltungen für Regensburg Digital Kalender
REFRESH-INTERVAL;VALUE=DURATION:PT1H
X-Robots-Tag:noindex
X-PUBLISHED-TTL:PT1H
BEGIN:VTIMEZONE
TZID:Europe/Berlin
BEGIN:DAYLIGHT
TZOFFSETFROM:+0100
TZOFFSETTO:+0200
TZNAME:CEST
DTSTART:20260329T010000
END:DAYLIGHT
BEGIN:STANDARD
TZOFFSETFROM:+0200
TZOFFSETTO:+0100
TZNAME:CET
DTSTART:20261025T010000
END:STANDARD
END:VTIMEZONE
BEGIN:VEVENT
DTSTART;TZID=Europe/Berlin:20260423T200000
DTEND;TZID=Europe/Berlin:20260423T230000
DTSTAMP:20260421T152406
CREATED:20260323T135948Z
LAST-MODIFIED:20260323T135948Z
UID:10084331-1776974400-1776985200@kalender.regensburg-digital.de
SUMMARY:MÄLZE SONG SLAM
DESCRIPTION:Der MÄLZE SONG SLAM geht in die nächste Runde. Die Karten werden neu gemischt\, auch wenn die Rahmenbedingungen gleich bleiben: Acht Songwriter haben jeweils acht Minuten Zeit\, um das Publikum zu überzeugen. In dieser Zeit ist alles möglich\, was die Bühne im Rahmen kleiner Umbaupausen hergibt\, egal ob klassischer Folk mit Gitarre oder HipHop mit Synthie und Beat-Loop. Das Publikum bestimmt über die beiden Gewinner des Abends\, die sich für das große Jahresfinale im Dezember qualifizieren. Moderation: Johannes Molz
URL:https://kalender.regensburg-digital.de/veranstaltung/maelze-song-slam-2/
LOCATION:Kulturzentrum Alte Mälzerei\, Galgenbergstraße 20\, Regensburg\, 93053
CATEGORIES:Musik
ATTACH;FMTTYPE=image/png:https://kalender.regensburg-digital.de/wp-content/uploads/2023/07/SongSlam_Titelbild_FB.png
ORGANIZER;CN="Alte M%C3%A4lzerei e.V.":MAILTO:info@alte-maelzerei.de
END:VEVENT
BEGIN:VEVENT
DTSTART;TZID=Europe/Berlin:20260430T203000
DTEND;TZID=Europe/Berlin:20260501T040000
DTSTAMP:20260421T152406
CREATED:20260130T121657Z
LAST-MODIFIED:20260303T143315Z
UID:10071347-1777581000-1777608000@kalender.regensburg-digital.de
SUMMARY:MÄLZE-GEBURTSTAG - DIE PARTY
DESCRIPTION:Die Mälze-Party findet aufgrund der aktuellen Besucherkapazitäten in diesem Jahr ausschließlich im Club und Cartoon statt. Am geplanten Line-up ändert sich kaum etwas: Bei der gefeierten Wiener Indie-Band EFEU ist mitreißender Gitarrenrock\, große Emotionen und treibender Post-Punk garantiert. Die großartigen FRAENKO verschmelzen R’n’B\, Soul und Hip-Hop zu einem emotionalen\, eingängigen und innovativen Stil. Im Anschluss sorgt DJ RAWBIN mit feinsten Hip-Hop-Beats\, Drum’n’Bass und trappigen Sounds für die perfekte Partynacht. Wir freuen uns auf euch!
URL:https://kalender.regensburg-digital.de/veranstaltung/maelze-geburtstag-konzert-efeu-die-party-auf-drei-etagen/
LOCATION:Kulturzentrum Alte Mälzerei\, Galgenbergstraße 20\, Regensburg\, 93053
CATEGORIES:Musik
ATTACH;FMTTYPE=image/jpeg:https://kalender.regensburg-digital.de/wp-content/uploads/2026/01/Maelze_Geburtstag_mit_Band_2026_Titelbild.jpg
ORGANIZER;CN="Alte M%C3%A4lzerei e.V.":MAILTO:info@alte-maelzerei.de
END:VEVENT
BEGIN:VEVENT
DTSTART;TZID=Europe/Berlin:20260502T200000
DTEND;TZID=Europe/Berlin:20260502T230000
DTSTAMP:20260421T152406
CREATED:20260323T131308Z
LAST-MODIFIED:20260323T131308Z
UID:10084329-1777752000-1777762800@kalender.regensburg-digital.de
SUMMARY:FASTFOOD-THEATER
DESCRIPTION:Direkt aus dem Leben gegriffen\, schnell\, witzig und intelligent verwandeln die Schauspieler der FASTFOOD-THEATERS Vorgaben des Publikums zu unerwarteten Szenen\, großem Theater\, kritischem Kabarett oder mitreißenden Songs. Was da auf höchstem Niveau an Schnelligkeit\, überraschenden Wendungen und kleinen Gags aus dem Stehgreif entsteht\, ist immer wieder phänomenal. Die Best of Impro-Show ist längst ein Unterhaltungsklassiker geworden. Ausgezeichnet mit dem Publikumspreis bei den Bayerischen Theatertagen.
URL:https://kalender.regensburg-digital.de/veranstaltung/fastfood-theater-4/
LOCATION:Kulturzentrum Alte Mälzerei\, Galgenbergstraße 20\, Regensburg\, 93053
CATEGORIES:Theater
ATTACH;FMTTYPE=image/png:https://kalender.regensburg-digital.de/wp-content/uploads/2026/03/Fastfood_5.png
ORGANIZER;CN="Alte M%C3%A4lzerei e.V.":MAILTO:info@alte-maelzerei.de
END:VEVENT
BEGIN:VEVENT
DTSTART;TZID=Europe/Berlin:20260508T200000
DTEND;TZID=Europe/Berlin:20260508T230000
DTSTAMP:20260421T152406
CREATED:20260323T125012Z
LAST-MODIFIED:20260323T125012Z
UID:10084266-1778270400-1778281200@kalender.regensburg-digital.de
SUMMARY:POETRY SLAM
DESCRIPTION:Poetry Slam ist Wortsport\, ist eine kurzweilige Darbietung zeitgenössischer Literatur\, eine Poesieshow der besonderen Art mit Wettbewerbscharakter und Publikumsabstimmung. Seit über zwei Jahrzehnten gehört der MÄLZESLAM zu den erfolgreichsten und stimmungsvollsten Poetry Slams in ganz Bayern\, ist aber trotzdem immer noch jung\, am Puls der Zeit\, aktuell\, politisch\, kritisch und witzig. Neben den Stars der Szene bietet der Mälzeslam auch immer Auftrittsplätze für lokale Auftretende. Anmeldung für den jeweils nächsten Slam unter maelzeslam (at) planetslam.de.
URL:https://kalender.regensburg-digital.de/veranstaltung/poetry-slam-4/
LOCATION:Kulturzentrum Alte Mälzerei\, Galgenbergstraße 20\, Regensburg\, 93053
CATEGORIES:Literatur
ATTACH;FMTTYPE=image/png:https://kalender.regensburg-digital.de/wp-content/uploads/2022/04/PoetrySlam_aktJan2023.png
ORGANIZER;CN="Alte M%C3%A4lzerei e.V.":MAILTO:info@alte-maelzerei.de
END:VEVENT
BEGIN:VEVENT
DTSTART;TZID=Europe/Berlin:20260514T200000
DTEND;TZID=Europe/Berlin:20260514T223000
DTSTAMP:20260421T152406
CREATED:20251022T081221Z
LAST-MODIFIED:20251022T081234Z
UID:10038806-1778788800-1778797800@kalender.regensburg-digital.de
SUMMARY:OEHL
DESCRIPTION:Bei Shows von OEHL wird mitgegröhlt\, geschwitzt und getanzt\, in ruhigen Momenten werden allerdings auch feuchte Augen serviert. Mit seiner 4-köpfigen Liveband liefert der österreichische Sänger Lieder\, die tief unter die Haut gehen\, aber alles andere als gefühlsduselig sind. Sie behandeln die großen Themen der Gesellschaft und werden auf treibenden Beats mit lebendigen Bass-Lines serviert. Elektro-Singer-Songwriter-Pop – schwer und leicht zugleich und eine Summe von Gegensätzen\, die\, wie man in Österreich sagt\, sich ganz selbstverständlich „ausgeht“.
URL:https://kalender.regensburg-digital.de/veranstaltung/oehl/
LOCATION:Kulturzentrum Alte Mälzerei\, Galgenbergstraße 20\, Regensburg\, 93053
CATEGORIES:Musik
ATTACH;FMTTYPE=image/jpeg:https://kalender.regensburg-digital.de/wp-content/uploads/2025/10/OEHL_Titelbild_FB_2026.jpg
ORGANIZER;CN="Alte M%C3%A4lzerei e.V.":MAILTO:info@alte-maelzerei.de
END:VEVENT
BEGIN:VEVENT
DTSTART;TZID=Europe/Berlin:20260520T200000
DTEND;TZID=Europe/Berlin:20260520T200000
DTSTAMP:20260421T152406
CREATED:20250718T085821Z
LAST-MODIFIED:20250718T085821Z
UID:10009085-1779307200-1779307200@kalender.regensburg-digital.de
SUMMARY:EVA & GÄSTE
DESCRIPTION:Was während der Corona-Pandemie aus der Not heraus als Livestream begann\, hat sich zu einer äußerst beliebten Veranstaltungsreihe entwickelt: EVA & GÄSTE. Die gefeierte Lokalmatadorin und mehrfache Kabarett-Preisträgerin EVA KARL FALTERMEIER bietet an diesen Abenden nicht nur neue Einblicke in die Absurditäten des Alltags sondern begrüßt auch immer wieder ganz wunderbare Gäste aus dem Kabarett und Musikkabarett. Zu erleben sind unterhaltsame\, manchmal leicht anarchische\, immer lustige Abende!
URL:https://kalender.regensburg-digital.de/veranstaltung/eva-gaeste/
LOCATION:Kulturzentrum Alte Mälzerei\, Galgenbergstraße 20\, Regensburg\, 93053
CATEGORIES:Kunst
ATTACH;FMTTYPE=image/png:https://kalender.regensburg-digital.de/wp-content/uploads/2025/07/Eva_Gaeste_Titelbild_FB_2026.png
ORGANIZER;CN="Alte M%C3%A4lzerei e.V.":MAILTO:info@alte-maelzerei.de
END:VEVENT
BEGIN:VEVENT
DTSTART;TZID=Europe/Berlin:20260530T200000
DTEND;TZID=Europe/Berlin:20260530T223000
DTSTAMP:20260421T152406
CREATED:20250916T084907Z
LAST-MODIFIED:20250916T084907Z
UID:10024628-1780171200-1780180200@kalender.regensburg-digital.de
SUMMARY:CHRISTOPH SIEBER
DESCRIPTION:CHRISTOPH SIEBER gehört seit vielen Jahren zu den absolut herausragenden Kabarettisten des Landes. In seinem gefeierten Programm „Weitermachen“ geht es um gesellschaftliche Irrungen und Wirrungen\, um den Zusammenhalt und das\, was uns trennt. Wie immer garniert er aktuelles politisches Kabarett mit den großen Themen unserer Zeit: Fußball\, Politik\, Gesellschaft und die Frage\, warum Nacktmulle so selten shoppen gehen. Das alles verziert mit Gesang\, Tanz und einem ganzen Reigen von Figuren\, die mitten aus dem Leben gegriffen sind.
URL:https://kalender.regensburg-digital.de/veranstaltung/christoph-sieber/
LOCATION:Kulturzentrum Alte Mälzerei\, Galgenbergstraße 20\, Regensburg\, 93053
CATEGORIES:Kunst
ATTACH;FMTTYPE=image/png:https://kalender.regensburg-digital.de/wp-content/uploads/2025/09/Christoph-Sieber_Titelbild_FB_2026.png
ORGANIZER;CN="Alte M%C3%A4lzerei e.V.":MAILTO:info@alte-maelzerei.de
END:VEVENT
BEGIN:VEVENT
DTSTART;TZID=Europe/Berlin:20260607T200000
DTEND;TZID=Europe/Berlin:20260607T223000
DTSTAMP:20260421T152406
CREATED:20260409T135345Z
LAST-MODIFIED:20260409T135448Z
UID:10088682-1780862400-1780871400@kalender.regensburg-digital.de
SUMMARY:MATTHIAS EGERSDÖRFER
DESCRIPTION:(Nachholtermin vom 09.04.2026)\n\nDer Egers ist langsam. Mit einer trägen Wucht stemmt sich der Kabarettist in seinem neuen Programm gegen die Schnelligkeit der Welt. Der ganze Abend feiert die Langsamkeit und deswegen werden auch die Geschichten nicht in erhöhtem Tempo vorgetragen. Aber Sie brauchen sich als Zuschauer keine Sorgen zu machen\, dass Sie wegen der geringen Geschwindigkeit vielleicht müde werden. Weil es gut sein kann\, dass der Egers einmal eine Wut bekommt. Er regt sich ja oft einmal auf wegen Allem und Nichts. Und da wachen Sie dann schon wieder auf. Preisträger Deutscher Kabarettpreis 2024
URL:https://kalender.regensburg-digital.de/veranstaltung/matthias-egersdoerfer-2/
LOCATION:Kulturzentrum Alte Mälzerei\, Galgenbergstraße 20\, Regensburg\, 93053
CATEGORIES:Kunst
ATTACH;FMTTYPE=image/png:https://kalender.regensburg-digital.de/wp-content/uploads/2025/03/Egersdoerfer_Titelbild_FB_2026.png
ORGANIZER;CN="Alte M%C3%A4lzerei e.V.":MAILTO:info@alte-maelzerei.de
END:VEVENT
BEGIN:VEVENT
DTSTART;TZID=Europe/Berlin:20260611T200000
DTEND;TZID=Europe/Berlin:20260611T233000
DTSTAMP:20260421T152406
CREATED:20260130T133506Z
LAST-MODIFIED:20260130T133506Z
UID:10071540-1781208000-1781220600@kalender.regensburg-digital.de
SUMMARY:LIEDFETT
DESCRIPTION:Wer versucht\, das Phänomen LIEDFETT nur über Worte zu begreifen\, wird scheitern! Mit ihrem druckvollen Mix aus Pop\, Punk-Energie\, Liedermacherei und exzessiven Live-Charakter gleichen sie vielmehr einem kollektiven Zustand aus Euphorie\, Haltung und Lebensfreude – ehrlich\, verbindend\, voller Wucht und Wärme. Lieder übers Stolpern durchs Leben\, Weitermachen trotz Zweifel\, Laut sein\, wenn es nötig ist und um Haltung zeigen\, ohne den Zeigefinger zu heben. Zwischen breitem Grinsen und ehrlicher Selbstbefragung. Soulfood für die Ohren!
URL:https://kalender.regensburg-digital.de/veranstaltung/liedfett/
LOCATION:Kulturzentrum Alte Mälzerei\, Galgenbergstraße 20\, Regensburg\, 93053
CATEGORIES:Musik
ATTACH;FMTTYPE=image/png:https://kalender.regensburg-digital.de/wp-content/uploads/2026/01/Liedfett_Titelbild_FB_2026.png
ORGANIZER;CN="Alte M%C3%A4lzerei e.V.":MAILTO:info@alte-maelzerei.de
END:VEVENT
BEGIN:VEVENT
DTSTART;TZID=Europe/Berlin:20261203T200000
DTEND;TZID=Europe/Berlin:20261203T223000
DTSTAMP:20260421T152406
CREATED:20251022T082145Z
LAST-MODIFIED:20251022T082145Z
UID:10038808-1796328000-1796337000@kalender.regensburg-digital.de
SUMMARY:JAN PHILIPP ZYMNY
DESCRIPTION:„Illegale Straßentherapie“ ist das neue Comedyprogramm von JAN PHILIPP ZYMNY und genau das Richtige für alle\, die das Besondere schätzen. Zymny entführt sein Publikum in die verrückte Welt des Alltags – mal scharfsinnig\, mal absurd\, aber immer voller unvorhersehbarer Wendungen. Er spielt mit den vielen Facetten des Humors und liefert eine Comedy-Show\, die genauso viel Intellekt wie Überraschung bietet. Ein Abend für alle\, denen gewöhnliche Comedy zu doof\, Philosophie zu anstrengend und die Realität zu langweilig ist.
URL:https://kalender.regensburg-digital.de/veranstaltung/jan-philipp-zymny/
LOCATION:Kulturzentrum Alte Mälzerei\, Galgenbergstraße 20\, Regensburg\, 93053
CATEGORIES:Literatur
ATTACH;FMTTYPE=image/png:https://kalender.regensburg-digital.de/wp-content/uploads/2024/11/Jan_Philipp_Zymny_Titelbild_FB_2025.png
ORGANIZER;CN="Alte M%C3%A4lzerei e.V.":MAILTO:info@alte-maelzerei.de
END:VEVENT
BEGIN:VEVENT
DTSTART;TZID=Europe/Berlin:20261206T190000
DTEND;TZID=Europe/Berlin:20261206T213000
DTSTAMP:20260421T152406
CREATED:20251022T082319Z
LAST-MODIFIED:20251022T082319Z
UID:10038809-1796583600-1796592600@kalender.regensburg-digital.de
SUMMARY:ALEX STOLDT
DESCRIPTION:ALEX STOLDT bringt den trockenen\, norddeutschen Humor auf den Punkt wie niemand sonst. Meistens ohne Mimik und Gestik\, dafür mit unvorhersehbaren Pointen\, absurden Perspektiven und manchmal sogar etwas Humor begeistert er das Publikum. Das Alex Stoldt zu den herausragenden jungen Stand Up-Comedians gehört\, beweist er nicht nur regelmäßig bei dem Format „Falsch\, aber lustig“. Ausgezeichnet u.a. mit dem Publikumspreis beim Prix Pantheon. Mit seinem Soloprogramm „Quasi Nichts“ ist er nun endlich auch live in Regensburg zu erleben!
URL:https://kalender.regensburg-digital.de/veranstaltung/alex-stoldt-2/
LOCATION:Kulturzentrum Alte Mälzerei\, Galgenbergstraße 20\, Regensburg\, 93053
CATEGORIES:Literatur
ATTACH;FMTTYPE=image/png:https://kalender.regensburg-digital.de/wp-content/uploads/2024/11/Alex_Stoldt_Titelbild_FB_2025.png
ORGANIZER;CN="Alte M%C3%A4lzerei e.V.":MAILTO:info@alte-maelzerei.de
END:VEVENT
END:VCALENDAR