BEGIN:VCALENDAR
VERSION:2.0
PRODID:-//Regensburg Digital Kalender - ECPv6.14.2//NONSGML v1.0//EN
CALSCALE:GREGORIAN
METHOD:PUBLISH
X-ORIGINAL-URL:https://kalender.regensburg-digital.de
X-WR-CALDESC:Veranstaltungen für Regensburg Digital Kalender
REFRESH-INTERVAL;VALUE=DURATION:PT1H
X-Robots-Tag:noindex
X-PUBLISHED-TTL:PT1H
BEGIN:VTIMEZONE
TZID:Europe/Berlin
BEGIN:DAYLIGHT
TZOFFSETFROM:+0100
TZOFFSETTO:+0200
TZNAME:CEST
DTSTART:20260329T010000
END:DAYLIGHT
BEGIN:STANDARD
TZOFFSETFROM:+0200
TZOFFSETTO:+0100
TZNAME:CET
DTSTART:20261025T010000
END:STANDARD
END:VTIMEZONE
BEGIN:VEVENT
DTSTART;TZID=Europe/Berlin:20260205T200000
DTEND;TZID=Europe/Berlin:20260205T223000
DTSTAMP:20260421T185332
CREATED:20250613T081928Z
LAST-MODIFIED:20250613T081928Z
UID:10008488-1770321600-1770330600@kalender.regensburg-digital.de
SUMMARY:ATTWENGER
DESCRIPTION:ATTWENGER hat im Laufe ihrer Entwicklung verschiedene Adaptionen der traditionellen Mundartmusik entwickelt. Anleihen beim Punk\, HipHop und Drum’n’Bass führten schließlich zum unverwechselbaren Attwenger-Sound. Ihre Live-Konzerte in der Mälzerei sind legendär. „Alles entwickelte sich zu einem unfassbar wilden\, ausgelassenen Ritt auf dem Vulkan.“ Und das war beim ersten Konzert so\, beim zweiten und dritten und bei allen weiteren ihrer Auftritte in der Mälzerei. Nach längerer Pause sind sie mit ihrem aktuellen Album wieder live in der Mälze zu erleben.
URL:https://kalender.regensburg-digital.de/veranstaltung/attwenger/
LOCATION:Kulturzentrum Alte Mälzerei\, Galgenbergstraße 20\, Regensburg\, 93053
CATEGORIES:Musik
ATTACH;FMTTYPE=image/png:https://kalender.regensburg-digital.de/wp-content/uploads/2025/06/Attwenger_Titelbild_FB_2026.png
ORGANIZER;CN="Alte M%C3%A4lzerei e.V.":MAILTO:info@alte-maelzerei.de
END:VEVENT
BEGIN:VEVENT
DTSTART;TZID=Europe/Berlin:20260129T200000
DTEND;TZID=Europe/Berlin:20260129T230000
DTSTAMP:20260421T185332
CREATED:20260116T113536Z
LAST-MODIFIED:20260116T113536Z
UID:10067712-1769716800-1769727600@kalender.regensburg-digital.de
SUMMARY:HEIMSPIEL: HEAVY GOAT - SHOTTER
DESCRIPTION:Eine Handvoll Rock\, eine Prise Metal & Punk\, verziert mit einem Schuss Reggea oder Funk – klingt wild? Ist es auch! Fette Gitarrenriffs\, treibender Bass\, wuchtige Drums und der rotzige Gesang der Frontfrau „Perle“ ergeben bei HEAVY GOAT eine explosive Mischung frisch vom Amboss serviert. SHOTTER stehen seit fast 30 Jahren für Musik\, die aus dem Bauch kommt und auch dorthin zielt. In kurzen und prägnanten Songs schaffen sie ihren eigenen Stil – jenseits von übermotiviertem Anarcho-Punk oder überinspiriert feinsinnigem Songschreibergehabe.
URL:https://kalender.regensburg-digital.de/veranstaltung/heimspiel-heavy-goat-shotter/
LOCATION:Kulturzentrum Alte Mälzerei\, Galgenbergstraße 20\, Regensburg\, 93053
CATEGORIES:Musik
ATTACH;FMTTYPE=image/png:https://kalender.regensburg-digital.de/wp-content/uploads/2026/01/0129_Heimspiel_FB_Titel.png
ORGANIZER;CN="Alte M%C3%A4lzerei e.V.":MAILTO:info@alte-maelzerei.de
END:VEVENT
BEGIN:VEVENT
DTSTART;TZID=Europe/Berlin:20260124T200000
DTEND;TZID=Europe/Berlin:20260124T223000
DTSTAMP:20260421T185332
CREATED:20251024T115947Z
LAST-MODIFIED:20251024T115957Z
UID:10039266-1769284800-1769293800@kalender.regensburg-digital.de
SUMMARY:GLOBAL BEATS
DESCRIPTION:Mächtige Trommelklänge und eingängige Melodien treffen bei DRUMS OF GONDWANA auf spannende Arrangements und virtuose Soli. Von ghanaischen Tanzrhythmen über kubanischen Karneval\, brasilianischen Candomble und Samba bis karibischen Calypso entführt jedes Stück in eine andere Region der Welt. SCALA TYMPANI bieten ein Trommelfeuerwerk der ganz besonderen Art: Frank Wendeberg und Helmut C. Kaiser spielen beeindruckende Rhythmen auf einer imposanten Gongtrommel. Ergänzt durch eine faszinierende Lichtshow entsteht ein unvergessliches Live-Erlebnis.
URL:https://kalender.regensburg-digital.de/veranstaltung/global-beats/
LOCATION:Kulturzentrum Alte Mälzerei\, Galgenbergstraße 20\, Regensburg\, 93053
CATEGORIES:Musik
ATTACH;FMTTYPE=image/png:https://kalender.regensburg-digital.de/wp-content/uploads/2025/10/Global_Beats_Titelbild_FB_2026-1.png
ORGANIZER;CN="Alte M%C3%A4lzerei e.V.":MAILTO:info@alte-maelzerei.de
END:VEVENT
BEGIN:VEVENT
DTSTART;TZID=Europe/Berlin:20260123T200000
DTEND;TZID=Europe/Berlin:20260123T223000
DTSTAMP:20260421T185332
CREATED:20250623T121202Z
LAST-MODIFIED:20250623T121202Z
UID:10009045-1769198400-1769207400@kalender.regensburg-digital.de
SUMMARY:HANS WELL & WELLBAPPN
DESCRIPTION:HANS WELL war Mitbegründer und Texter der Biermösl Blosn. 35 Jahre lang begeisterten sie ihr Publikum. Dann verdammte ihn das Schicksal zur nächsten Familienbande mit den „Wellbappn“\, an deren Existenz er mitschuld ist. Und auch die Wellbappn sind „so erfolgreich\, weil sie ihrem Publikum ganz genau auf den Mund schauen und die Themen aufnehmen\, die die Orte und den Freistaat bewegen.“ Die Wellbappn garantieren auch in der neuen Formation Hans Well\, Sarah Well und Komalé Akakpo politisch akutes\, witziges Musikkabarett und beste bayrische Satire.
URL:https://kalender.regensburg-digital.de/veranstaltung/hans-well-wellbappn/
LOCATION:Kulturzentrum Alte Mälzerei\, Galgenbergstraße 20\, Regensburg\, 93053
CATEGORIES:Musik
ATTACH;FMTTYPE=image/png:https://kalender.regensburg-digital.de/wp-content/uploads/2025/06/HansWell_Wellbappn_Titelbild_FB_2026.png
ORGANIZER;CN="Alte M%C3%A4lzerei e.V.":MAILTO:info@alte-maelzerei.de
END:VEVENT
BEGIN:VEVENT
DTSTART;TZID=Europe/Berlin:20260122T200000
DTEND;TZID=Europe/Berlin:20260122T230000
DTSTAMP:20260421T185332
CREATED:20260116T104436Z
LAST-MODIFIED:20260116T104436Z
UID:10067711-1769112000-1769122800@kalender.regensburg-digital.de
SUMMARY:MÄLZE SONG SLAM
DESCRIPTION:Nach dem großen Finale im Dezember meldet sich der MÄLZE SONG SLAM zurück und startet ins neue Jahr 2026. Die Karten werden neu gemischt\, auch wenn die Rahmenbedingungen gleich bleiben: Acht Songwriter haben jeweils acht Minuten Zeit\, um das Publikum zu überzeugen. In dieser Zeit ist alles möglich\, was die Bühne im Rahmen kleiner Umbaupausen hergibt\, egal ob klassischer Folk mit Gitarre oder HipHop mit Synthie und Beat-Loop. Das Publikum bestimmt über die beiden Gewinner:innen des Abends. Moderation: Johannes Molz.
URL:https://kalender.regensburg-digital.de/veranstaltung/maelze-song-slam/
LOCATION:Kulturzentrum Alte Mälzerei\, Galgenbergstraße 20\, Regensburg\, 93053
CATEGORIES:Musik
ATTACH;FMTTYPE=image/png:https://kalender.regensburg-digital.de/wp-content/uploads/2023/07/SongSlam_Titelbild_FB.png
ORGANIZER;CN="Alte M%C3%A4lzerei e.V.":MAILTO:info@alte-maelzerei.de
END:VEVENT
END:VCALENDAR