BEGIN:VCALENDAR
VERSION:2.0
PRODID:-//Regensburg Digital Kalender - ECPv6.14.2//NONSGML v1.0//EN
CALSCALE:GREGORIAN
METHOD:PUBLISH
X-ORIGINAL-URL:https://kalender.regensburg-digital.de
X-WR-CALDESC:Veranstaltungen für Regensburg Digital Kalender
REFRESH-INTERVAL;VALUE=DURATION:PT1H
X-Robots-Tag:noindex
X-PUBLISHED-TTL:PT1H
BEGIN:VTIMEZONE
TZID:Europe/Berlin
BEGIN:DAYLIGHT
TZOFFSETFROM:+0100
TZOFFSETTO:+0200
TZNAME:CEST
DTSTART:20260329T010000
END:DAYLIGHT
BEGIN:STANDARD
TZOFFSETFROM:+0200
TZOFFSETTO:+0100
TZNAME:CET
DTSTART:20261025T010000
END:STANDARD
END:VTIMEZONE
BEGIN:VEVENT
DTSTART;TZID=Europe/Berlin:20260704T100000
DTEND;TZID=Europe/Berlin:20260704T180000
DTSTAMP:20260420T192116
CREATED:20260210T100424Z
LAST-MODIFIED:20260210T100424Z
UID:10073988-1783159200-1783188000@kalender.regensburg-digital.de
SUMMARY:Schifffahrt durchs Altmühltal
DESCRIPTION:Erleben Sie eine unvergessliche Schifffahrt durch das bezaubernde Altmühltal! Unsere ganztägige Rundfahrt startet um 10:00 Uhr in Regensburg und führt Sie bis nach Riedenburg\, bevor wir um 18:00 Uhr wieder in Regensburg anlegen.\nHöhepunkte der Reise: \n\n\n 	\nWallfahrtskirche Mariaort: Kurz nach dem Ablegen passieren Sie die idyllisch gelegene Wallfahrtskirche Mariaort\, die malerisch am Zusammenfluss von Donau und Naab liegt. \n\n 	\nBefreiungshalle Kelheim: Auf dem Michelsberg thront die imposante Befreiungshalle\, ein Monument zu Ehren der Befreiungskriege\, das majestätisch über der Stadt Kelheim wacht. \n\n 	\nSchleusendurchfahrt in Kelheim: Ein besonderes Erlebnis ist die Passage der 190 Meter langen Schleuse Kelheim\, bei der Sie den beeindruckenden Höhenunterschied hautnah miterleben. \n\n 	\nEssing und der „Tatzlwurm“: Vorbei am charmanten Ort Essing mit seiner historischen Holzbrücke\, die als „Tatzlwurm“ bekannt ist und zu den längsten Holzbrücken Europas zählt. \n\n\n\n\n\n\n\n\n\n 	\nBurgenpanorama: Während der Fahrt bieten sich Ihnen beeindruckende Ausblicke auf die mittelalterlichen Burgen Randeck\, Prunn und Rosenburg\, die stolz auf den Jurafelsen thronen \n\n 	\nRiedenburg: In der „Drei-Burgen-Stadt“ Riedenburg haben Sie Gelegenheit\, das Panorama des Luftkurorts zu genießen. \n\n\nKulinarisches Angebot an Bord: \nUnsere Bordgastronomie verwöhnt Sie mit einer Auswahl an Snacks\, erfrischenden Getränken und einem  Tagesgericht\, das Sie während der Fahrt genießen können. \nGenießen Sie einen Tag voller kultureller und landschaftlicher Highlights entlang der Donau und des Altmühltals. Buchen Sie jetzt Ihre Tickets und sichern Sie sich Ihren Platz auf dieser einzigartigen Flusskreuzfahrt!
URL:https://kalender.regensburg-digital.de/veranstaltung/schifffahrt-durchs-altmuehltal/
LOCATION:Schiffsanleger Fahrgastschifffahrt Dultplatz\, Anleger Fahrgastschifffahrt Dultplatz\, Regensburg\, 93059
CATEGORIES:Sonstiges
ATTACH;FMTTYPE=image/jpeg:https://kalender.regensburg-digital.de/wp-content/uploads/2026/02/burg-prunn-im-altmuehltal-2-bearbeitet.jpg
ORGANIZER;CN="Regensburger Personenschifffahrt Klinger":MAILTO:info@schifffahrtklinger.de
END:VEVENT
END:VCALENDAR